Workbook

Sheet Πίνακας Δεδομένων
C1: ΠΙΝΑΚΑΣ ΚΑΤΑΤΑΞΗΣ ΠΡΟΚΗΡΥΞΗΣ ΥΠ. ΥΓΕΙΑΣ ΣοΧ 1/17 ΔΕ
A3: Α.Μ. | B3: ΕΠΩΝΥΜΟ | C3: ΟΝΟΜΑ | D3: ΚΡΙΤΗΡΙΑ | Q3: ΒΑΘΜΟΛΟΓΙΑ | AD3: sort ΣΥΝΟΛΟ ΜΟΝΑΔΩΝ | AE3: Σειρά Κατάταξης
D4: ΧΡΟΝΟΣ ΑΝΕΡΓΙΑΣ (σε μήνες) | E4: ΠΟΛΥΤΕΚΝΟΣ (αριθμ. τέκνων) | F4: ΤΕΚΝΟ ΠΟΛΥΤΕΚΝΗΣ ΟΙΚΟΓΕΝΕΙΑΣ (αρ. τέκνων) | G4: ΤΡΙΤΕΚΝΟΣΣ (αριθμ. Τεκνων) | H4: ΤΕΚΝΟ ΤΡΙΤΕΚΝΗΣ (αριθμ. Τέκνων) | I4: ΑΝΗΛΙΚΑ ΤΕΚΝΑ (αριθμ. ανήλικων τέκνων) | J4: ΓΟΝΕΑΣ ΜΟΝΟΓΟΝΕΙΚΗΣ ΟΙΚΟΓΕΝΕΙΑΣ (αριθμ. τέκνων) | K4: ΤΕΚΝΟ ΜΟΝΟΓΟΝΕΙΚΗΣ ΟΙΚΟΓΕΝΕΙΑΣ (αρ. τέκνων) | L4: ΤΙΛΟΣ ΣΠΟΥΔΩΝ (για ΔΕ κατηγορία) | M4: ΕΜΠΕΙΡΙΑ ΣΤΟ ΔΗΜΟΣΙΟ (μήνες) | N4: ΕΜΠΕΙΡΙΑ ΣΤΟΝ ΙΔΙΩΤΙΚΟ (μήνες) | O4: ΑΝΑΠΗΡΙΑ ΥΠΟΨΗΦΙΟΥ (ποσοστό) | P4: ΑΝΑΠΗΡΙΑ ΓΟΝΕΑ, ΤΕΚΝΟΥ, ΑΔΕΛΦΟΥ ΣΥΖΥΓΟΥ (ποσοστό) | Q4: ΜΟΝΑΔΕΣ (1) | R4: ΜΟΝΑΔΕΣ (2) | S4: ΜΟΝΑΔΕΣ (3) | T4: ΜΟΝΑΔΕΣ (4) | U4: ΜΟΝΑΔΕΣ (5) | V4: ΜΟΝΑΔΕΣ (6) | W4: ΜΟΝΑΔΕΣ (7) | X4: ΜΟΝΑΔΕΣ (8) | Y4: ΜΟΝΑΔΕΣ (9) | Z4: ΜΟΝΑΔΕΣ (10) | AA4: ΜΟΝΑΔΕΣ (11) | AB4: ΜΟΝΑΔΕΣ (12) | AC4: ΜΟΝΑΔΕΣ (13)
D5: (1) | E5: (2) | F5: (3) | G5: (4) | H5: (5) | I5: (6) | J5: (7) | K5: (8) | L5: (9) | M5: (10) | N5: (11) | O5: (12) | P5: (13)
A6: 41 | B6: ΣΕΜΕΡΤΖΙΔΗΣ | C6: ΠΑΝΑΓΙΩΤΗΣ | D6: 6 | F6: 4 | I6: 2 | L6: 12.08 | M6: 6 | N6: 99 | Q6: =VLOOKUP(D6,Παράμετροι!$A$4:$B$10,2) -> 300 | R6: =VLOOKUP(E6,Παράμετροι!$D$4:$E$16,2) -> 0 | S6: =VLOOKUP(F6,Παράμετροι!$D$4:$E$16,2,1) -> 200 | T6: =VLOOKUP(G6,Παράμετροι!$G$4:$H$7,2,1) -> 0 | U6: =VLOOKUP(H6,Παράμετροι!$G$4:$H$7,2,1) -> 0 | V6: =VLOOKUP(I6,Παράμετροι!$J$4:$K$7,2,1) -> 60 | W6: =VLOOKUP(J6,Παράμετροι!$M$4:$N$17,2,1) -> 0 | X6: =VLOOKUP(K6,Παράμετροι!$M$4:$N$17,2,1) -> 0 | Y6: =L6*20 -> 241.6 | Z6: =VLOOKUP(M6,Παράμετροι!$S$4:$T$124,2,1) -> 48 | AA6: =VLOOKUP(N6,Παράμετροι!$V$4:$W$124,2,1) -> 693 | AB6: =O6*3 -> 0 | AC6: =P6*2 -> 0 | AD6: =SUM(Q6:AC6) -> 1542.6 | AE6: 1
A7: 42 | B7: ΔΗΜΑΣ | C7: ΠΕΤΡΟΣ | D7: 4 | I7: 1 | L7: 14.2 | M7: 120 | N7: 8 | Q7: =VLOOKUP(D7,Παράμετροι!$A$4:$B$10,2) -> 200 | R7: =VLOOKUP(E7,Παράμετροι!$D$4:$E$16,2) -> 0 | S7: =VLOOKUP(F7,Παράμετροι!$D$4:$E$16,2,1) -> 0 | T7: =VLOOKUP(G7,Παράμετροι!$G$4:$H$7,2,1) -> 0 | U7: =VLOOKUP(H7,Παράμετροι!$G$4:$H$7,2,1) -> 0 | V7: =VLOOKUP(I7,Παράμετροι!$J$4:$K$7,2,1) -> 30 | W7: =VLOOKUP(J7,Παράμετροι!$M$4:$N$17,2,1) -> 0 | X7: =VLOOKUP(K7,Παράμετροι!$M$4:$N$17,2,1) -> 0 | Y7: =L7*20 -> 284 | Z7: =VLOOKUP(M7,Παράμετροι!$S$4:$T$124,2,1) -> 960 | AA7: =VLOOKUP(N7,Παράμετροι!$V$4:$W$124,2,1) -> 56 | AB7: =O7*3 -> 0 | AC7: =P7*2 -> 0 | AD7: =SUM(Q7:AC7) -> 1530 | AE7: 2 | BA7: ΓΝΑ ΕΥΑΓΓΕΛΙΣΜΟΣ ΜΕΘ
A8: 57 | B8: ΞΕΝΟΔΟΧΙΔΗΣ | C8: ΚΩΝΣΤΑΝΤΙΝΟΣ | D8: 6 | I8: 2 | L8: 12.58 | N8: 120 | Q8: =VLOOKUP(D8,Παράμετροι!$A$4:$B$10,2) -> 300 | R8: =VLOOKUP(E8,Παράμετροι!$D$4:$E$16,2) -> 0 | S8: =VLOOKUP(F8,Παράμετροι!$D$4:$E$16,2,1) -> 0 | T8: =VLOOKUP(G8,Παράμετροι!$G$4:$H$7,2,1) -> 0 | U8: =VLOOKUP(H8,Παράμετροι!$G$4:$H$7,2,1) -> 0 | V8: =VLOOKUP(I8,Παράμετροι!$J$4:$K$7,2,1) -> 60 | W8: =VLOOKUP(J8,Παράμετροι!$M$4:$N$17,2,1) -> 0 | X8: =VLOOKUP(K8,Παράμετροι!$M$4:$N$17,2,1) -> 0 | Y8: =L8*20 -> 251.6 | Z8: =VLOOKUP(M8,Παράμετροι!$S$4:$T$124,2,1) -> 0 | AA8: =VLOOKUP(N8,Παράμετροι!$V$4:$W$124,2,1) -> 840 | AB8: =O8*3 -> 0 | AC8: =P8*2 -> 0 | AD8: =SUM(Q8:AC8) -> 1451.6 | AE8: 3 | BA8: ΓΝ ΑΓΙΑ ΣΟΦΙΑ ΜΑΦ
A9: 35 | B9: ΠΕΤΡΟΠΟΥΛΟΣ | C9: ΔΗΜΗΤΡΙΟΣ | D9: 6 | L9: 15.1 | N9: 120 | Q9: =VLOOKUP(D9,Παράμετροι!$A$4:$B$10,2) -> 300 | R9: =VLOOKUP(E9,Παράμετροι!$D$4:$E$16,2) -> 0 | S9: =VLOOKUP(F9,Παράμετροι!$D$4:$E$16,2,1) -> 0 | T9: =VLOOKUP(G9,Παράμετροι!$G$4:$H$7,2,1) -> 0 | U9: =VLOOKUP(H9,Παράμετροι!$G$4:$H$7,2,1) -> 0 | V9: =VLOOKUP(I9,Παράμετροι!$J$4:$K$7,2,1) -> 0 | W9: =VLOOKUP(J9,Παράμετροι!$M$4:$N$17,2,1) -> 0 | X9: =VLOOKUP(K9,Παράμετροι!$M$4:$N$17,2,1) -> 0 | Y9: =L9*20 -> 302 | Z9: =VLOOKUP(M9,Παράμετροι!$S$4:$T$124,2,1) -> 0 | AA9: =VLOOKUP(N9,Παράμετροι!$V$4:$W$124,2,1) -> 840 | AB9: =O9*3 -> 0 | AC9: =P9*2 -> 0 | AD9: =SUM(Q9:AC9) -> 1442 | AE9: 4 | BA9: ΓΝ ΠΑΙΔΩΝ ΠΕΝΤΕΛΗΣ ΜΕΘ
A10: 5 | B10: ΚΟΤΣΩΝΗΣ | C10: ΕΥΑΓΓΕΛΟΣ | D10: 6 | L10: 18.58 | M10: 24 | N10: 68 | Q10: =VLOOKUP(D10,Παράμετροι!$A$4:$B$10,2) -> 300 | R10: =VLOOKUP(E10,Παράμετροι!$D$4:$E$16,2) -> 0 | S10: =VLOOKUP(F10,Παράμετροι!$D$4:$E$16,2,1) -> 0 | T10: =VLOOKUP(G10,Παράμετροι!$G$4:$H$7,2,1) -> 0 | U10: =VLOOKUP(H10,Παράμετροι!$G$4:$H$7,2,1) -> 0 | V10: =VLOOKUP(I10,Παράμετροι!$J$4:$K$7,2,1) -> 0 | W10: =VLOOKUP(J10,Παράμετροι!$M$4:$N$17,2,1) -> 0 | X10: =VLOOKUP(K10,Παράμετροι!$M$4:$N$17,2,1) -> 0 | Y10: =L10*20 -> 371.6 | Z10: =VLOOKUP(M10,Παράμετροι!$S$4:$T$124,2,1) -> 192 | AA10: =VLOOKUP(N10,Παράμετροι!$V$4:$W$124,2,1) -> 476 | AB10: =O10*3 -> 0 | AC10: =P10*2 -> 0 | AD10: =SUM(Q10:AC10) -> 1339.6 | AE10: 5 | AY10: ΝΑΙ | BA10: ΓΟΝΚ ΜΕΘ
A11: 19 | B11: ΝΤΟΥΝΙΑΣ | C11: ΧΑΡΑΛΑΜΠΟΣ | D11: 6 | F11: 4 | L11: 12.46 | N11: 75 | Q11: =VLOOKUP(D11,Παράμετροι!$A$4:$B$10,2) -> 300 | R11: =VLOOKUP(E11,Παράμετροι!$D$4:$E$16,2) -> 0 | S11: =VLOOKUP(F11,Παράμετροι!$D$4:$E$16,2,1) -> 200 | T11: =VLOOKUP(G11,Παράμετροι!$G$4:$H$7,2,1) -> 0 | U11: =VLOOKUP(H11,Παράμετροι!$G$4:$H$7,2,1) -> 0 | V11: =VLOOKUP(I11,Παράμετροι!$J$4:$K$7,2,1) -> 0 | W11: =VLOOKUP(J11,Παράμετροι!$M$4:$N$17,2,1) -> 0 | X11: =VLOOKUP(K11,Παράμετροι!$M$4:$N$17,2,1) -> 0 | Y11: =L11*20 -> 249.2 | Z11: =VLOOKUP(M11,Παράμετροι!$S$4:$T$124,2,1) -> 0 | AA11: =VLOOKUP(N11,Παράμετροι!$V$4:$W$124,2,1) -> 525 | AB11: =O11*3 -> 0 | AC11: =P11*2 -> 0 | AD11: =SUM(Q11:AC11) -> 1274.2 | AE11: 6 | AY11: ΌΧΙ | BA11: ΣΩΤΗΡΙΑ ΜΕΘ
A12: 62 | B12: ΤΣΙΓΓΕΛΗ | C12: ΛΑΜΠΡΙΝΗ | L12: 14.3 | N12: 120 | Q12: =VLOOKUP(D12,Παράμετροι!$A$4:$B$10,2) -> 0 | R12: =VLOOKUP(E12,Παράμετροι!$D$4:$E$16,2) -> 0 | S12: =VLOOKUP(F12,Παράμετροι!$D$4:$E$16,2,1) -> 0 | T12: =VLOOKUP(G12,Παράμετροι!$G$4:$H$7,2,1) -> 0 | U12: =VLOOKUP(H12,Παράμετροι!$G$4:$H$7,2,1) -> 0 | V12: =VLOOKUP(I12,Παράμετροι!$J$4:$K$7,2,1) -> 0 | W12: =VLOOKUP(J12,Παράμετροι!$M$4:$N$17,2,1) -> 0 | X12: =VLOOKUP(K12,Παράμετροι!$M$4:$N$17,2,1) -> 0 | Y12: =L12*20 -> 286 | Z12: =VLOOKUP(M12,Παράμετροι!$S$4:$T$124,2,1) -> 0 | AA12: =VLOOKUP(N12,Παράμετροι!$V$4:$W$124,2,1) -> 840 | AB12: =O12*3 -> 0 | AC12: =P12*2 -> 0 | AD12: =SUM(Q12:AC12) -> 1126 | AE12: 7 | BA12: ΕΛΠΙΣ ΜΕΘ
A13: 51 | B13: ΧΡΙΣΤΟΠΟΥΛΟΣ | C13: ΓΕΩΡΓΙΟΣ | L13: 14.23 | N13: 120 | Q13: =VLOOKUP(D13,Παράμετροι!$A$4:$B$10,2) -> 0 | R13: =VLOOKUP(E13,Παράμετροι!$D$4:$E$16,2) -> 0 | S13: =VLOOKUP(F13,Παράμετροι!$D$4:$E$16,2,1) -> 0 | T13: =VLOOKUP(G13,Παράμετροι!$G$4:$H$7,2,1) -> 0 | U13: =VLOOKUP(H13,Παράμετροι!$G$4:$H$7,2,1) -> 0 | V13: =VLOOKUP(I13,Παράμετροι!$J$4:$K$7,2,1) -> 0 | W13: =VLOOKUP(J13,Παράμετροι!$M$4:$N$17,2,1) -> 0 | X13: =VLOOKUP(K13,Παράμετροι!$M$4:$N$17,2,1) -> 0 | Y13: =L13*20 -> 284.6 | Z13: =VLOOKUP(M13,Παράμετροι!$S$4:$T$124,2,1) -> 0 | AA13: =VLOOKUP(N13,Παράμετροι!$V$4:$W$124,2,1) -> 840 | AB13: =O13*3 -> 0 | AC13: =P13*2 -> 0 | AD13: =SUM(Q13:AC13) -> 1124.6 | AE13: 8 | BA13: ΓΕΝΝΗΜΑΤΑΣ ΑΘΗΝΑ ΜΕΘ
A14: 8 | B14: ΤΟΜΑΡΑΣ | C14: ΕΠΑΜΕΙΝΩΝΤΑΣ | D14: 0 | F14: 4 | I14: 1 | L14: 13.3 | N14: 89 | Q14: =VLOOKUP(D14,Παράμετροι!$A$4:$B$10,2) -> 0 | R14: =VLOOKUP(E14,Παράμετροι!$D$4:$E$16,2) -> 0 | S14: =VLOOKUP(F14,Παράμετροι!$D$4:$E$16,2,1) -> 200 | T14: =VLOOKUP(G14,Παράμετροι!$G$4:$H$7,2,1) -> 0 | U14: =VLOOKUP(H14,Παράμετροι!$G$4:$H$7,2,1) -> 0 | V14: =VLOOKUP(I14,Παράμετροι!$J$4:$K$7,2,1) -> 30 | W14: =VLOOKUP(J14,Παράμετροι!$M$4:$N$17,2,1) -> 0 | X14: =VLOOKUP(K14,Παράμετροι!$M$4:$N$17,2,1) -> 0 | Y14: =L14*20 -> 266 | Z14: =VLOOKUP(M14,Παράμετροι!$S$4:$T$124,2,1) -> 0 | AA14: =VLOOKUP(N14,Παράμετροι!$V$4:$W$124,2,1) -> 623 | AB14: =O14*3 -> 0 | AC14: =P14*2 -> 0 | AD14: =SUM(Q14:AC14) -> 1119 | AE14: 9 | BA14: ΑΓ. ΚΥΡΙΑΚΟΥ ΜΕΘ
A15: 31 | B15: ΓΚΙΟΥΛΦΕΣΗΣ | C15: ΠΑΝΑΓΙΩΤΗΣ | D15: 0 | L15: 13.42 | N15: 119 | Q15: =VLOOKUP(D15,Παράμετροι!$A$4:$B$10,2) -> 0 | R15: =VLOOKUP(E15,Παράμετροι!$D$4:$E$16,2) -> 0 | S15: =VLOOKUP(F15,Παράμετροι!$D$4:$E$16,2,1) -> 0 | T15: =VLOOKUP(G15,Παράμετροι!$G$4:$H$7,2,1) -> 0 | U15: =VLOOKUP(H15,Παράμετροι!$G$4:$H$7,2,1) -> 0 | V15: =VLOOKUP(I15,Παράμετροι!$J$4:$K$7,2,1) -> 0 | W15: =VLOOKUP(J15,Παράμετροι!$M$4:$N$17,2,1) -> 0 | X15: =VLOOKUP(K15,Παράμετροι!$M$4:$N$17,2,1) -> 0 | Y15: =L15*20 -> 268.4 | Z15: =VLOOKUP(M15,Παράμετροι!$S$4:$T$124,2,1) -> 0 | AA15: =VLOOKUP(N15,Παράμετροι!$V$4:$W$124,2,1) -> 833 | AB15: =O15*3 -> 0 | AC15: =P15*2 -> 0 | AD15: =SUM(Q15:AC15) -> 1101.4 | AE15: 10 | BA15: ΑΓ. ΚΥΡΙΑΚΟΥ ΜΕΝΝ
A16: 67 | B16: ΜΟΥΡΕΛΑΤΟΥ | C16: ΑΝΝΑ | D16: 6 | L16: 18.61 | N16: 61 | Q16: =VLOOKUP(D16,Παράμετροι!$A$4:$B$10,2) -> 300 | R16: =VLOOKUP(E16,Παράμετροι!$D$4:$E$16,2) -> 0 | S16: =VLOOKUP(F16,Παράμετροι!$D$4:$E$16,2,1) -> 0 | T16: =VLOOKUP(G16,Παράμετροι!$G$4:$H$7,2,1) -> 0 | U16: =VLOOKUP(H16,Παράμετροι!$G$4:$H$7,2,1) -> 0 | V16: =VLOOKUP(I16,Παράμετροι!$J$4:$K$7,2,1) -> 0 | W16: =VLOOKUP(J16,Παράμετροι!$M$4:$N$17,2,1) -> 0 | X16: =VLOOKUP(K16,Παράμετροι!$M$4:$N$17,2,1) -> 0 | Y16: =L16*20 -> 372.2 | Z16: =VLOOKUP(M16,Παράμετροι!$S$4:$T$124,2,1) -> 0 | AA16: =VLOOKUP(N16,Παράμετροι!$V$4:$W$124,2,1) -> 427 | AB16: =O16*3 -> 0 | AC16: =P16*2 -> 0 | AD16: =SUM(Q16:AC16) -> 1099.2 | BA16: ΑΓ. ΚΥΡΙΑΚΟΥ
A17: 80 | B17: ΔΕΡΤΟΥΖΟΥ | C17: ΑΙΚΑΤΕΡΙΝΗ | D17: 6 | I17: 2 | J17: 2 | L17: 16.3 | M17: 5 | N17: 39 | Q17: =VLOOKUP(D17,Παράμετροι!$A$4:$B$10,2) -> 300 | R17: =VLOOKUP(E17,Παράμετροι!$D$4:$E$16,2) -> 0 | S17: =VLOOKUP(F17,Παράμετροι!$D$4:$E$16,2,1) -> 0 | T17: =VLOOKUP(G17,Παράμετροι!$G$4:$H$7,2,1) -> 0 | U17: =VLOOKUP(H17,Παράμετροι!$G$4:$H$7,2,1) -> 0 | V17: =VLOOKUP(I17,Παράμετροι!$J$4:$K$7,2,1) -> 60 | W17: =VLOOKUP(J17,Παράμετροι!$M$4:$N$17,2,1) -> 100 | X17: =VLOOKUP(K17,Παράμετροι!$M$4:$N$17,2,1) -> 0 | Y17: =L17*20 -> 326 | Z17: =VLOOKUP(M17,Παράμετροι!$S$4:$T$124,2,1) -> 40 | AA17: =VLOOKUP(N17,Παράμετροι!$V$4:$W$124,2,1) -> 273 | AB17: =O17*3 -> 0 | AC17: =P17*2 -> 0 | AD17: =SUM(Q17:AC17) -> 1099 | BA17: ΛΑΙΚΟ ΜΟΝ. ΜΕΤΑΜ.
A18: 28 | B18: ΚΟΚΚΑΣ | C18: ΑΝΤΩΝΙΟΣ | F18: 4 | L18: 11.75 | N18: 94 | Q18: =VLOOKUP(D18,Παράμετροι!$A$4:$B$10,2) -> 0 | R18: =VLOOKUP(E18,Παράμετροι!$D$4:$E$16,2) -> 0 | S18: =VLOOKUP(F18,Παράμετροι!$D$4:$E$16,2,1) -> 200 | T18: =VLOOKUP(G18,Παράμετροι!$G$4:$H$7,2,1) -> 0 | U18: =VLOOKUP(H18,Παράμετροι!$G$4:$H$7,2,1) -> 0 | V18: =VLOOKUP(I18,Παράμετροι!$J$4:$K$7,2,1) -> 0 | W18: =VLOOKUP(J18,Παράμετροι!$M$4:$N$17,2,1) -> 0 | X18: =VLOOKUP(K18,Παράμετροι!$M$4:$N$17,2,1) -> 0 | Y18: =L18*20 -> 235 | Z18: =VLOOKUP(M18,Παράμετροι!$S$4:$T$124,2,1) -> 0 | AA18: =VLOOKUP(N18,Παράμετροι!$V$4:$W$124,2,1) -> 658 | AB18: =O18*3 -> 0 | AC18: =P18*2 -> 0 | AD18: =SUM(Q18:AC18) -> 1093 | BA18: ΘΡΙΑΣΙΟ ΜΕΘ
A19: 44 | B19: ΤΡΙΑΝΤΑΦΥΛΛΟΥ | C19: ΦΩΤΕΙΝΗ | L19: 12.6 | N19: 120 | Q19: =VLOOKUP(D19,Παράμετροι!$A$4:$B$10,2) -> 0 | R19: =VLOOKUP(E19,Παράμετροι!$D$4:$E$16,2) -> 0 | S19: =VLOOKUP(F19,Παράμετροι!$D$4:$E$16,2,1) -> 0 | T19: =VLOOKUP(G19,Παράμετροι!$G$4:$H$7,2,1) -> 0 | U19: =VLOOKUP(H19,Παράμετροι!$G$4:$H$7,2,1) -> 0 | V19: =VLOOKUP(I19,Παράμετροι!$J$4:$K$7,2,1) -> 0 | W19: =VLOOKUP(J19,Παράμετροι!$M$4:$N$17,2,1) -> 0 | X19: =VLOOKUP(K19,Παράμετροι!$M$4:$N$17,2,1) -> 0 | Y19: =L19*20 -> 252 | Z19: =VLOOKUP(M19,Παράμετροι!$S$4:$T$124,2,1) -> 0 | AA19: =VLOOKUP(N19,Παράμετροι!$V$4:$W$124,2,1) -> 840 | AB19: =O19*3 -> 0 | AC19: =P19*2 -> 0 | AD19: =SUM(Q19:AC19) -> 1092 | BA19: ΘΡΙΑΣΙΟ ΜΕΘ ΕΓΚ.
A20: 79 | B20: ΚΟΥΡΙΔΗΣ | C20: ΚΩΝΣΤΑΝΤΙΝΟΣ | D20: 6 | I20: 2 | L20: 13.45 | N20: 66 | Q20: =VLOOKUP(D20,Παράμετροι!$A$4:$B$10,2) -> 300 | R20: =VLOOKUP(E20,Παράμετροι!$D$4:$E$16,2) -> 0 | S20: =VLOOKUP(F20,Παράμετροι!$D$4:$E$16,2,1) -> 0 | T20: =VLOOKUP(G20,Παράμετροι!$G$4:$H$7,2,1) -> 0 | U20: =VLOOKUP(H20,Παράμετροι!$G$4:$H$7,2,1) -> 0 | V20: =VLOOKUP(I20,Παράμετροι!$J$4:$K$7,2,1) -> 60 | W20: =VLOOKUP(J20,Παράμετροι!$M$4:$N$17,2,1) -> 0 | X20: =VLOOKUP(K20,Παράμετροι!$M$4:$N$17,2,1) -> 0 | Y20: =L20*20 -> 269 | Z20: =VLOOKUP(M20,Παράμετροι!$S$4:$T$124,2,1) -> 0 | AA20: =VLOOKUP(N20,Παράμετροι!$V$4:$W$124,2,1) -> 462 | AB20: =O20*3 -> 0 | AC20: =P20*2 -> 0 | AD20: =SUM(Q20:AC20) -> 1091 | BA20: ΓΝ ΚΥ ΛΗΜΝΟΥ ΜΕΘ
A21: 12 | B21: ΑΝΥΦΑΝΤΗ | C21: ΕΥΓΕΝΙΑ | L21: 14.4 | N21: 114 | Q21: =VLOOKUP(D21,Παράμετροι!$A$4:$B$10,2) -> 0 | R21: =VLOOKUP(E21,Παράμετροι!$D$4:$E$16,2) -> 0 | S21: =VLOOKUP(F21,Παράμετροι!$D$4:$E$16,2,1) -> 0 | T21: =VLOOKUP(G21,Παράμετροι!$G$4:$H$7,2,1) -> 0 | U21: =VLOOKUP(H21,Παράμετροι!$G$4:$H$7,2,1) -> 0 | V21: =VLOOKUP(I21,Παράμετροι!$J$4:$K$7,2,1) -> 0 | W21: =VLOOKUP(J21,Παράμετροι!$M$4:$N$17,2,1) -> 0 | X21: =VLOOKUP(K21,Παράμετροι!$M$4:$N$17,2,1) -> 0 | Y21: =L21*20 -> 288 | Z21: =VLOOKUP(M21,Παράμετροι!$S$4:$T$124,2,1) -> 0 | AA21: =VLOOKUP(N21,Παράμετροι!$V$4:$W$124,2,1) -> 798 | AB21: =O21*3 -> 0 | AC21: =P21*2 -> 0 | AD21: =SUM(Q21:AC21) -> 1086 | BA21: ΓΝ ΡΟΔΟΥ ΜΕΘ
A22: 45 | B22: ΤΡΙΑΝΤΑΦΥΛΛΟΥ | C22: ΠΑΝΤΕΛΗΣ | L22: 16.72 | N22: 107 | Q22: =VLOOKUP(D22,Παράμετροι!$A$4:$B$10,2) -> 0 | R22: =VLOOKUP(E22,Παράμετροι!$D$4:$E$16,2) -> 0 | S22: =VLOOKUP(F22,Παράμετροι!$D$4:$E$16,2,1) -> 0 | T22: =VLOOKUP(G22,Παράμετροι!$G$4:$H$7,2,1) -> 0 | U22: =VLOOKUP(H22,Παράμετροι!$G$4:$H$7,2,1) -> 0 | V22: =VLOOKUP(I22,Παράμετροι!$J$4:$K$7,2,1) -> 0 | W22: =VLOOKUP(J22,Παράμετροι!$M$4:$N$17,2,1) -> 0 | X22: =VLOOKUP(K22,Παράμετροι!$M$4:$N$17,2,1) -> 0 | Y22: =L22*20 -> 334.4 | Z22: =VLOOKUP(M22,Παράμετροι!$S$4:$T$124,2,1) -> 0 | AA22: =VLOOKUP(N22,Παράμετροι!$V$4:$W$124,2,1) -> 749 | AB22: =O22*3 -> 0 | AC22: =P22*2 -> 0 | AD22: =SUM(Q22:AC22) -> 1083.4 | BA22: ΓΝ ΜΥΤΙΛΗΝΗΣ ΜΕΘ
A23: 43 | B23: ΛΟΥΚΑΣ | C23: ΘΕΟΔΩΡΟΣ | L23: 12.16 | N23: 120 | Q23: =VLOOKUP(D23,Παράμετροι!$A$4:$B$10,2) -> 0 | R23: =VLOOKUP(E23,Παράμετροι!$D$4:$E$16,2) -> 0 | S23: =VLOOKUP(F23,Παράμετροι!$D$4:$E$16,2,1) -> 0 | T23: =VLOOKUP(G23,Παράμετροι!$G$4:$H$7,2,1) -> 0 | U23: =VLOOKUP(H23,Παράμετροι!$G$4:$H$7,2,1) -> 0 | V23: =VLOOKUP(I23,Παράμετροι!$J$4:$K$7,2,1) -> 0 | W23: =VLOOKUP(J23,Παράμετροι!$M$4:$N$17,2,1) -> 0 | X23: =VLOOKUP(K23,Παράμετροι!$M$4:$N$17,2,1) -> 0 | Y23: =L23*20 -> 243.2 | Z23: =VLOOKUP(M23,Παράμετροι!$S$4:$T$124,2,1) -> 0 | AA23: =VLOOKUP(N23,Παράμετροι!$V$4:$W$124,2,1) -> 840 | AB23: =O23*3 -> 0 | AC23: =P23*2 -> 0 | AD23: =SUM(Q23:AC23) -> 1083.2 | BA23: ΓΝ ΣΑΜΟΥ ΜΕΘ
A24: 50 | B24: ΧΑΤΖΗΜΑΝΩΛΗΣ | C24: ΑΛΕΞΑΝΔΡΟΣ | D24: 6 | F24: 4 | I24: 1 | L24: 14.9 | N24: 32 | Q24: =VLOOKUP(D24,Παράμετροι!$A$4:$B$10,2) -> 300 | R24: =VLOOKUP(E24,Παράμετροι!$D$4:$E$16,2) -> 0 | S24: =VLOOKUP(F24,Παράμετροι!$D$4:$E$16,2,1) -> 200 | T24: =VLOOKUP(G24,Παράμετροι!$G$4:$H$7,2,1) -> 0 | U24: =VLOOKUP(H24,Παράμετροι!$G$4:$H$7,2,1) -> 0 | V24: =VLOOKUP(I24,Παράμετροι!$J$4:$K$7,2,1) -> 30 | W24: =VLOOKUP(J24,Παράμετροι!$M$4:$N$17,2,1) -> 0 | X24: =VLOOKUP(K24,Παράμετροι!$M$4:$N$17,2,1) -> 0 | Y24: =L24*20 -> 298 | Z24: =VLOOKUP(M24,Παράμετροι!$S$4:$T$124,2,1) -> 0 | AA24: =VLOOKUP(N24,Παράμετροι!$V$4:$W$124,2,1) -> 224 | AB24: =O24*3 -> 0 | AC24: =P24*2 -> 0 | AD24: =SUM(Q24:AC24) -> 1052 | BA24: ΠΑΠΑΝΙΚΟΛΑΟΥ ΜΕΘ
A25: 1 | B25: ΣΥΚΙΑΝΑΚΗΣ | C25: ΓΕΩΡΓΙΟΣ | D25: 6 | L25: 13.75 | N25: 65 | Q25: =VLOOKUP(D25,Παράμετροι!$A$4:$B$10,2) -> 300 | R25: =VLOOKUP(E25,Παράμετροι!$D$4:$E$16,2) -> 0 | S25: =VLOOKUP(F25,Παράμετροι!$D$4:$E$16,2,1) -> 0 | T25: =VLOOKUP(G25,Παράμετροι!$G$4:$H$7,2,1) -> 0 | U25: =VLOOKUP(H25,Παράμετροι!$G$4:$H$7,2,1) -> 0 | V25: =VLOOKUP(I25,Παράμετροι!$J$4:$K$7,2,1) -> 0 | W25: =VLOOKUP(J25,Παράμετροι!$M$4:$N$17,2,1) -> 0 | X25: =VLOOKUP(K25,Παράμετροι!$M$4:$N$17,2,1) -> 0 | Y25: =L25*20 -> 275 | Z25: =VLOOKUP(M25,Παράμετροι!$S$4:$T$124,2,1) -> 0 | AA25: =VLOOKUP(N25,Παράμετροι!$V$4:$W$124,2,1) -> 455 | AB25: =O25*3 -> 0 | AC25: =P25*2 -> 0 | AD25: =SUM(Q25:AC25) -> 1030 | BA25: ΓΝ ΚΑΤΕΡΙΝΗΣ ΜΕΘ
A26: 74 | B26: ΣΑΡΡΗ | C26: ΕΥΑΓΓΕΛΙΑ | F26: 4 | I26: 2 | L26: 13.7 | N26: 63 | Q26: =VLOOKUP(D26,Παράμετροι!$A$4:$B$10,2) -> 0 | R26: =VLOOKUP(E26,Παράμετροι!$D$4:$E$16,2) -> 0 | S26: =VLOOKUP(F26,Παράμετροι!$D$4:$E$16,2,1) -> 200 | T26: =VLOOKUP(G26,Παράμετροι!$G$4:$H$7,2,1) -> 0 | U26: =VLOOKUP(H26,Παράμετροι!$G$4:$H$7,2,1) -> 0 | V26: =VLOOKUP(I26,Παράμετροι!$J$4:$K$7,2,1) -> 60 | W26: =VLOOKUP(J26,Παράμετροι!$M$4:$N$17,2,1) -> 0 | X26: =VLOOKUP(K26,Παράμετροι!$M$4:$N$17,2,1) -> 0 | Y26: =L26*20 -> 274 | Z26: =VLOOKUP(M26,Παράμετροι!$S$4:$T$124,2,1) -> 0 | AA26: =VLOOKUP(N26,Παράμετροι!$V$4:$W$124,2,1) -> 441 | AB26: =O26*3 -> 0 | AC26: =P26*2 -> 0 | AD26: =SUM(Q26:AC26) -> 975 | BA26: ΓΝ ΚΑΣΤΟΡΙΑΣ ΜΕΘ
A27: 14 | B27: ΛΙΑΒΕΡΗΣ | C27: ΙΩΑΝΝΗΣ | D27: 0 | L27: 11.33 | N27: 105 | Q27: =VLOOKUP(D27,Παράμετροι!$A$4:$B$10,2) -> 0 | R27: =VLOOKUP(E27,Παράμετροι!$D$4:$E$16,2) -> 0 | S27: =VLOOKUP(F27,Παράμετροι!$D$4:$E$16,2,1) -> 0 | T27: =VLOOKUP(G27,Παράμετροι!$G$4:$H$7,2,1) -> 0 | U27: =VLOOKUP(H27,Παράμετροι!$G$4:$H$7,2,1) -> 0 | V27: =VLOOKUP(I27,Παράμετροι!$J$4:$K$7,2,1) -> 0 | W27: =VLOOKUP(J27,Παράμετροι!$M$4:$N$17,2,1) -> 0 | X27: =VLOOKUP(K27,Παράμετροι!$M$4:$N$17,2,1) -> 0 | Y27: =L27*20 -> 226.6 | Z27: =VLOOKUP(M27,Παράμετροι!$S$4:$T$124,2,1) -> 0 | AA27: =VLOOKUP(N27,Παράμετροι!$V$4:$W$124,2,1) -> 735 | AB27: =O27*3 -> 0 | AC27: =P27*2 -> 0 | AD27: =SUM(Q27:AC27) -> 961.6 | BA27: ΓΝ ΚΑΣΤΟΡΙΑΣ
A28: 29 | B28: ΚΑΤΣΟΥΛΗΣ | C28: ΒΑΣΙΛΕΙΟΣ | D28: 6 | L28: 11.752 | N28: 57 | Q28: =VLOOKUP(D28,Παράμετροι!$A$4:$B$10,2) -> 300 | R28: =VLOOKUP(E28,Παράμετροι!$D$4:$E$16,2) -> 0 | S28: =VLOOKUP(F28,Παράμετροι!$D$4:$E$16,2,1) -> 0 | T28: =VLOOKUP(G28,Παράμετροι!$G$4:$H$7,2,1) -> 0 | U28: =VLOOKUP(H28,Παράμετροι!$G$4:$H$7,2,1) -> 0 | V28: =VLOOKUP(I28,Παράμετροι!$J$4:$K$7,2,1) -> 0 | W28: =VLOOKUP(J28,Παράμετροι!$M$4:$N$17,2,1) -> 0 | X28: =VLOOKUP(K28,Παράμετροι!$M$4:$N$17,2,1) -> 0 | Y28: =L28*20 -> 235.04 | Z28: =VLOOKUP(M28,Παράμετροι!$S$4:$T$124,2,1) -> 0 | AA28: =VLOOKUP(N28,Παράμετροι!$V$4:$W$124,2,1) -> 399 | AB28: =O28*3 -> 0 | AC28: =P28*2 -> 0 | AD28: =SUM(Q28:AC28) -> 934.04 | BA28: ΓΝ ΒΕΡΟΙΑΣ
A29: 30 | B29: ΜΟΥΓΑΚΟΣ | C29: ΚΩΝΣΤΑΝΤΙΝΟΣ | D29: 6 | L29: 13.38 | M29: 27 | N29: 18 | Q29: =VLOOKUP(D29,Παράμετροι!$A$4:$B$10,2) -> 300 | R29: =VLOOKUP(E29,Παράμετροι!$D$4:$E$16,2) -> 0 | S29: =VLOOKUP(F29,Παράμετροι!$D$4:$E$16,2,1) -> 0 | T29: =VLOOKUP(G29,Παράμετροι!$G$4:$H$7,2,1) -> 0 | U29: =VLOOKUP(H29,Παράμετροι!$G$4:$H$7,2,1) -> 0 | V29: =VLOOKUP(I29,Παράμετροι!$J$4:$K$7,2,1) -> 0 | W29: =VLOOKUP(J29,Παράμετροι!$M$4:$N$17,2,1) -> 0 | X29: =VLOOKUP(K29,Παράμετροι!$M$4:$N$17,2,1) -> 0 | Y29: =L29*20 -> 267.6 | Z29: =VLOOKUP(M29,Παράμετροι!$S$4:$T$124,2,1) -> 216 | AA29: =VLOOKUP(N29,Παράμετροι!$V$4:$W$124,2,1) -> 126 | AB29: =O29*3 -> 0 | AC29: =P29*2 -> 0 | AD29: =SUM(Q29:AC29) -> 909.6 | BA29: ΓΝ ΕΔΕΣΣΑΣ
A30: 27 | B30: ΡΟΥΜΑΝΟΣ | C30: ΣΠΥΡΙΔΩΝ | I30: 1 | L30: 14.72 | N30: 80 | Q30: =VLOOKUP(D30,Παράμετροι!$A$4:$B$10,2) -> 0 | R30: =VLOOKUP(E30,Παράμετροι!$D$4:$E$16,2) -> 0 | S30: =VLOOKUP(F30,Παράμετροι!$D$4:$E$16,2,1) -> 0 | T30: =VLOOKUP(G30,Παράμετροι!$G$4:$H$7,2,1) -> 0 | U30: =VLOOKUP(H30,Παράμετροι!$G$4:$H$7,2,1) -> 0 | V30: =VLOOKUP(I30,Παράμετροι!$J$4:$K$7,2,1) -> 30 | W30: =VLOOKUP(J30,Παράμετροι!$M$4:$N$17,2,1) -> 0 | X30: =VLOOKUP(K30,Παράμετροι!$M$4:$N$17,2,1) -> 0 | Y30: =L30*20 -> 294.4 | Z30: =VLOOKUP(M30,Παράμετροι!$S$4:$T$124,2,1) -> 0 | AA30: =VLOOKUP(N30,Παράμετροι!$V$4:$W$124,2,1) -> 560 | AB30: =O30*3 -> 0 | AC30: =P30*2 -> 0 | AD30: =SUM(Q30:AC30) -> 884.4 | BA30: ΓΝ ΑΛΕΞΑΝΔΡΟΥΠΟΛΗΣ ΜΕΘ
A31: 72 | B31: ΜΠΑΛΑΦΑΣ | C31: ΛΑΖΑΡΟΣ | D31: 6 | I31: 1 | L31: 14.28 | N31: 38 | Q31: =VLOOKUP(D31,Παράμετροι!$A$4:$B$10,2) -> 300 | R31: =VLOOKUP(E31,Παράμετροι!$D$4:$E$16,2) -> 0 | S31: =VLOOKUP(F31,Παράμετροι!$D$4:$E$16,2,1) -> 0 | T31: =VLOOKUP(G31,Παράμετροι!$G$4:$H$7,2,1) -> 0 | U31: =VLOOKUP(H31,Παράμετροι!$G$4:$H$7,2,1) -> 0 | V31: =VLOOKUP(I31,Παράμετροι!$J$4:$K$7,2,1) -> 30 | W31: =VLOOKUP(J31,Παράμετροι!$M$4:$N$17,2,1) -> 0 | X31: =VLOOKUP(K31,Παράμετροι!$M$4:$N$17,2,1) -> 0 | Y31: =L31*20 -> 285.6 | Z31: =VLOOKUP(M31,Παράμετροι!$S$4:$T$124,2,1) -> 0 | AA31: =VLOOKUP(N31,Παράμετροι!$V$4:$W$124,2,1) -> 266 | AB31: =O31*3 -> 0 | AC31: =P31*2 -> 0 | AD31: =SUM(Q31:AC31) -> 881.6 | BA31: ΓΝ ΑΛΕΞΑΝΔΡΟΥΠΟΛΗΣ ΜΕΝΝ
A32: 73 | B32: ΒΛΑΧΑΚΗ | C32: ΛΑΜΠΡΙΝΗ | D32: 6 | L32: 18.1 | M32: 14 | P32: 50 | Q32: =VLOOKUP(D32,Παράμετροι!$A$4:$B$10,2) -> 300 | R32: =VLOOKUP(E32,Παράμετροι!$D$4:$E$16,2) -> 0 | S32: =VLOOKUP(F32,Παράμετροι!$D$4:$E$16,2,1) -> 0 | T32: =VLOOKUP(G32,Παράμετροι!$G$4:$H$7,2,1) -> 0 | U32: =VLOOKUP(H32,Παράμετροι!$G$4:$H$7,2,1) -> 0 | V32: =VLOOKUP(I32,Παράμετροι!$J$4:$K$7,2,1) -> 0 | W32: =VLOOKUP(J32,Παράμετροι!$M$4:$N$17,2,1) -> 0 | X32: =VLOOKUP(K32,Παράμετροι!$M$4:$N$17,2,1) -> 0 | Y32: =L32*20 -> 362 | Z32: =VLOOKUP(M32,Παράμετροι!$S$4:$T$124,2,1) -> 112 | AA32: =VLOOKUP(N32,Παράμετροι!$V$4:$W$124,2,1) -> 0 | AB32: =O32*3 -> 0 | AC32: =P32*2 -> 100 | AD32: =SUM(Q32:AC32) -> 874 | BA32: ΓΝΘ ΙΠΠΟΚΡΑΤΕΙΟ ΜΕΘ
A33: 49 | B33: ΜΑΝΔΗΛΑΡΑΣ | C33: ΣΤΕΦΑΝΟΣ | D33: 5 | L33: 14.92 | N33: 42 | Q33: =VLOOKUP(D33,Παράμετροι!$A$4:$B$10,2) -> 250 | R33: =VLOOKUP(E33,Παράμετροι!$D$4:$E$16,2) -> 0 | S33: =VLOOKUP(F33,Παράμετροι!$D$4:$E$16,2,1) -> 0 | T33: =VLOOKUP(G33,Παράμετροι!$G$4:$H$7,2,1) -> 0 | U33: =VLOOKUP(H33,Παράμετροι!$G$4:$H$7,2,1) -> 0 | V33: =VLOOKUP(I33,Παράμετροι!$J$4:$K$7,2,1) -> 0 | W33: =VLOOKUP(J33,Παράμετροι!$M$4:$N$17,2,1) -> 0 | X33: =VLOOKUP(K33,Παράμετροι!$M$4:$N$17,2,1) -> 0 | Y33: =L33*20 -> 298.4 | Z33: =VLOOKUP(M33,Παράμετροι!$S$4:$T$124,2,1) -> 0 | AA33: =VLOOKUP(N33,Παράμετροι!$V$4:$W$124,2,1) -> 294 | AB33: =O33*3 -> 0 | AC33: =P33*2 -> 0 | AD33: =SUM(Q33:AC33) -> 842.4 | BA33: ΘΕΑΓΕΝΕΙΟ ΜΕΘ
A34: 2 | B34: ΚΟΥΣΗΣ | C34: ΦΙΛΛΙΠΟΣ | D34: 5 | F34: 4 | L34: 12.58 | N34: 15 | Q34: =VLOOKUP(D34,Παράμετροι!$A$4:$B$10,2) -> 250 | R34: =VLOOKUP(E34,Παράμετροι!$D$4:$E$16,2) -> 0 | S34: =VLOOKUP(F34,Παράμετροι!$D$4:$E$16,2,1) -> 200 | T34: =VLOOKUP(G34,Παράμετροι!$G$4:$H$7,2,1) -> 0 | U34: =VLOOKUP(H34,Παράμετροι!$G$4:$H$7,2,1) -> 0 | V34: =VLOOKUP(I34,Παράμετροι!$J$4:$K$7,2,1) -> 0 | W34: =VLOOKUP(J34,Παράμετροι!$M$4:$N$17,2,1) -> 0 | X34: =VLOOKUP(K34,Παράμετροι!$M$4:$N$17,2,1) -> 0 | Y34: =L34*20 -> 251.6 | Z34: =VLOOKUP(M34,Παράμετροι!$S$4:$T$124,2,1) -> 0 | AA34: =VLOOKUP(N34,Παράμετροι!$V$4:$W$124,2,1) -> 105 | AB34: =O34*3 -> 0 | AC34: =P34*2 -> 0 | AD34: =SUM(Q34:AC34) -> 806.6 | BA34: ΓΝ ΚΟΜΟΤΗΝΗΣ ΜΕΘ
A35: 69 | B35: ΜΕΤΑΞΑΣ | C35: ΓΕΩΡΓΙΟΣ | D35: 6 | G35: 3 | I35: 3 | L35: 13.75 | Q35: =VLOOKUP(D35,Παράμετροι!$A$4:$B$10,2) -> 300 | R35: =VLOOKUP(E35,Παράμετροι!$D$4:$E$16,2) -> 0 | S35: =VLOOKUP(F35,Παράμετροι!$D$4:$E$16,2,1) -> 0 | T35: =VLOOKUP(G35,Παράμετροι!$G$4:$H$7,2,1) -> 120 | U35: =VLOOKUP(H35,Παράμετροι!$G$4:$H$7,2,1) -> 0 | V35: =VLOOKUP(I35,Παράμετροι!$J$4:$K$7,2,1) -> 110 | W35: =VLOOKUP(J35,Παράμετροι!$M$4:$N$17,2,1) -> 0 | X35: =VLOOKUP(K35,Παράμετροι!$M$4:$N$17,2,1) -> 0 | Y35: =L35*20 -> 275 | Z35: =VLOOKUP(M35,Παράμετροι!$S$4:$T$124,2,1) -> 0 | AA35: =VLOOKUP(N35,Παράμετροι!$V$4:$W$124,2,1) -> 0 | AB35: =O35*3 -> 0 | AC35: =P35*2 -> 0 | AD35: =SUM(Q35:AC35) -> 805 | BA35: ΓΝ ΞΑΝΘΗΣ ΜΕΘ
A36: 9 | B36: ΤΣΙΛΗΣ | C36: ΒΑΣΙΛΕΙΟΣ | D36: 6 | L36: 12.5 | M36: 5 | N36: 30 | Q36: =VLOOKUP(D36,Παράμετροι!$A$4:$B$10,2) -> 300 | R36: =VLOOKUP(E36,Παράμετροι!$D$4:$E$16,2) -> 0 | S36: =VLOOKUP(F36,Παράμετροι!$D$4:$E$16,2,1) -> 0 | T36: =VLOOKUP(G36,Παράμετροι!$G$4:$H$7,2,1) -> 0 | U36: =VLOOKUP(H36,Παράμετροι!$G$4:$H$7,2,1) -> 0 | V36: =VLOOKUP(I36,Παράμετροι!$J$4:$K$7,2,1) -> 0 | W36: =VLOOKUP(J36,Παράμετροι!$M$4:$N$17,2,1) -> 0 | X36: =VLOOKUP(K36,Παράμετροι!$M$4:$N$17,2,1) -> 0 | Y36: =L36*20 -> 250 | Z36: =VLOOKUP(M36,Παράμετροι!$S$4:$T$124,2,1) -> 40 | AA36: =VLOOKUP(N36,Παράμετροι!$V$4:$W$124,2,1) -> 210 | AB36: =O36*3 -> 0 | AC36: =P36*2 -> 0 | AD36: =SUM(Q36:AC36) -> 800 | BA36: ΓΝ ΛΑΡΙΣΑΣ ΜΑΦ
A37: 39 | B37: ΚΟΥΤΣΙΑΒΑΣ | C37: ΝΙΚΟΛΑΟΣ | D37: 6 | L37: 15.14 | M37: 5 | P37: 75 | Q37: =VLOOKUP(D37,Παράμετροι!$A$4:$B$10,2) -> 300 | R37: =VLOOKUP(E37,Παράμετροι!$D$4:$E$16,2) -> 0 | S37: =VLOOKUP(F37,Παράμετροι!$D$4:$E$16,2,1) -> 0 | T37: =VLOOKUP(G37,Παράμετροι!$G$4:$H$7,2,1) -> 0 | U37: =VLOOKUP(H37,Παράμετροι!$G$4:$H$7,2,1) -> 0 | V37: =VLOOKUP(I37,Παράμετροι!$J$4:$K$7,2,1) -> 0 | W37: =VLOOKUP(J37,Παράμετροι!$M$4:$N$17,2,1) -> 0 | X37: =VLOOKUP(K37,Παράμετροι!$M$4:$N$17,2,1) -> 0 | Y37: =L37*20 -> 302.8 | Z37: =VLOOKUP(M37,Παράμετροι!$S$4:$T$124,2,1) -> 40 | AA37: =VLOOKUP(N37,Παράμετροι!$V$4:$W$124,2,1) -> 0 | AB37: =O37*3 -> 0 | AC37: =P37*2 -> 150 | AD37: =SUM(Q37:AC37) -> 792.8 | BA37: ΓΝ ΒΟΛΟΥ ΜΕΘ
A38: 48 | B38: ΣΑΛΤΟΣ | C38: ΙΩΑΝΝΗΣ | D38: 6 | F38: 4 | L38: 14.5 | Q38: =VLOOKUP(D38,Παράμετροι!$A$4:$B$10,2) -> 300 | R38: =VLOOKUP(E38,Παράμετροι!$D$4:$E$16,2) -> 0 | S38: =VLOOKUP(F38,Παράμετροι!$D$4:$E$16,2,1) -> 200 | T38: =VLOOKUP(G38,Παράμετροι!$G$4:$H$7,2,1) -> 0 | U38: =VLOOKUP(H38,Παράμετροι!$G$4:$H$7,2,1) -> 0 | V38: =VLOOKUP(I38,Παράμετροι!$J$4:$K$7,2,1) -> 0 | W38: =VLOOKUP(J38,Παράμετροι!$M$4:$N$17,2,1) -> 0 | X38: =VLOOKUP(K38,Παράμετροι!$M$4:$N$17,2,1) -> 0 | Y38: =L38*20 -> 290 | Z38: =VLOOKUP(M38,Παράμετροι!$S$4:$T$124,2,1) -> 0 | AA38: =VLOOKUP(N38,Παράμετροι!$V$4:$W$124,2,1) -> 0 | AB38: =O38*3 -> 0 | AC38: =P38*2 -> 0 | AD38: =SUM(Q38:AC38) -> 790 | BA38: ΓΝ ΛΑΜΙΑΣ
A39: 3 | B39: ΟΙΚΟΝΟΜΟΥ | C39: ΜΑΡΙΑΝΘΗ | D39: 6 | I39: 2 | L39: 14.36 | M39: 6 | N39: 12 | Q39: =VLOOKUP(D39,Παράμετροι!$A$4:$B$10,2) -> 300 | R39: =VLOOKUP(E39,Παράμετροι!$D$4:$E$16,2) -> 0 | S39: =VLOOKUP(F39,Παράμετροι!$D$4:$E$16,2,1) -> 0 | T39: =VLOOKUP(G39,Παράμετροι!$G$4:$H$7,2,1) -> 0 | U39: =VLOOKUP(H39,Παράμετροι!$G$4:$H$7,2,1) -> 0 | V39: =VLOOKUP(I39,Παράμετροι!$J$4:$K$7,2,1) -> 60 | W39: =VLOOKUP(J39,Παράμετροι!$M$4:$N$17,2,1) -> 0 | X39: =VLOOKUP(K39,Παράμετροι!$M$4:$N$17,2,1) -> 0 | Y39: =L39*20 -> 287.2 | Z39: =VLOOKUP(M39,Παράμετροι!$S$4:$T$124,2,1) -> 48 | AA39: =VLOOKUP(N39,Παράμετροι!$V$4:$W$124,2,1) -> 84 | AB39: =O39*3 -> 0 | AC39: =P39*2 -> 0 | AD39: =SUM(Q39:AC39) -> 779.2 | BA39: ΠΓΝ ΠΑΤΡΩΝ ΜΕΘ
A40: 61 | B40: ΜΠΕΖΑΣ | C40: ΓΕΩΡΓΙΟΣ | I40: 3 | L40: 10.1 | N40: 52 | P40: 50 | Q40: =VLOOKUP(D40,Παράμετροι!$A$4:$B$10,2) -> 0 | R40: =VLOOKUP(E40,Παράμετροι!$D$4:$E$16,2) -> 0 | S40: =VLOOKUP(F40,Παράμετροι!$D$4:$E$16,2,1) -> 0 | T40: =VLOOKUP(G40,Παράμετροι!$G$4:$H$7,2,1) -> 0 | U40: =VLOOKUP(H40,Παράμετροι!$G$4:$H$7,2,1) -> 0 | V40: =VLOOKUP(I40,Παράμετροι!$J$4:$K$7,2,1) -> 110 | W40: =VLOOKUP(J40,Παράμετροι!$M$4:$N$17,2,1) -> 0 | X40: =VLOOKUP(K40,Παράμετροι!$M$4:$N$17,2,1) -> 0 | Y40: =L40*20 -> 202 | Z40: =VLOOKUP(M40,Παράμετροι!$S$4:$T$124,2,1) -> 0 | AA40: =VLOOKUP(N40,Παράμετροι!$V$4:$W$124,2,1) -> 364 | AB40: =O40*3 -> 0 | AC40: =P40*2 -> 100 | AD40: =SUM(Q40:AC40) -> 776 | BA40: ΓΝ ΚΟΡΙΝΘΟΥ ΜΕΘ
A41: 52 | B41: ΚΟΥΤΣΟΥΡΗ | C41: ΒΙΚΤΩΡΙΑ | D41: 6 | I41: 1 | L41: 14.45 | N41: 20 | Q41: =VLOOKUP(D41,Παράμετροι!$A$4:$B$10,2) -> 300 | R41: =VLOOKUP(E41,Παράμετροι!$D$4:$E$16,2) -> 0 | S41: =VLOOKUP(F41,Παράμετροι!$D$4:$E$16,2,1) -> 0 | T41: =VLOOKUP(G41,Παράμετροι!$G$4:$H$7,2,1) -> 0 | U41: =VLOOKUP(H41,Παράμετροι!$G$4:$H$7,2,1) -> 0 | V41: =VLOOKUP(I41,Παράμετροι!$J$4:$K$7,2,1) -> 30 | W41: =VLOOKUP(J41,Παράμετροι!$M$4:$N$17,2,1) -> 0 | X41: =VLOOKUP(K41,Παράμετροι!$M$4:$N$17,2,1) -> 0 | Y41: =L41*20 -> 289 | Z41: =VLOOKUP(M41,Παράμετροι!$S$4:$T$124,2,1) -> 0 | AA41: =VLOOKUP(N41,Παράμετροι!$V$4:$W$124,2,1) -> 140 | AB41: =O41*3 -> 0 | AC41: =P41*2 -> 0 | AD41: =SUM(Q41:AC41) -> 759 | BA41: ΓΝ ΚΕΦΑΛΛΟΝΙΑΣ ΜΕΘ
A42: 20 | B42: ΠΕΤΑΝΙΔΗΣ | C42: ΚΩΝΣΤΑΝΤΙΝΟΣ | D42: 6 | L42: 15.28 | M42: 19 | Q42: =VLOOKUP(D42,Παράμετροι!$A$4:$B$10,2) -> 300 | R42: =VLOOKUP(E42,Παράμετροι!$D$4:$E$16,2) -> 0 | S42: =VLOOKUP(F42,Παράμετροι!$D$4:$E$16,2,1) -> 0 | T42: =VLOOKUP(G42,Παράμετροι!$G$4:$H$7,2,1) -> 0 | U42: =VLOOKUP(H42,Παράμετροι!$G$4:$H$7,2,1) -> 0 | V42: =VLOOKUP(I42,Παράμετροι!$J$4:$K$7,2,1) -> 0 | W42: =VLOOKUP(J42,Παράμετροι!$M$4:$N$17,2,1) -> 0 | X42: =VLOOKUP(K42,Παράμετροι!$M$4:$N$17,2,1) -> 0 | Y42: =L42*20 -> 305.6 | Z42: =VLOOKUP(M42,Παράμετροι!$S$4:$T$124,2,1) -> 152 | AA42: =VLOOKUP(N42,Παράμετροι!$V$4:$W$124,2,1) -> 0 | AB42: =O42*3 -> 0 | AC42: =P42*2 -> 0 | AD42: =SUM(Q42:AC42) -> 757.6 | BA42: ΓΝ ΖΑΚΥΝΘΟΥ ΜΕΘ
A43: 40 | B43: ΚΑΡΝΟΣ | C43: ΓΑΒΡΙΗΛ | L43: 11.9 | N43: 70 | Q43: =VLOOKUP(D43,Παράμετροι!$A$4:$B$10,2) -> 0 | R43: =VLOOKUP(E43,Παράμετροι!$D$4:$E$16,2) -> 0 | S43: =VLOOKUP(F43,Παράμετροι!$D$4:$E$16,2,1) -> 0 | T43: =VLOOKUP(G43,Παράμετροι!$G$4:$H$7,2,1) -> 0 | U43: =VLOOKUP(H43,Παράμετροι!$G$4:$H$7,2,1) -> 0 | V43: =VLOOKUP(I43,Παράμετροι!$J$4:$K$7,2,1) -> 0 | W43: =VLOOKUP(J43,Παράμετροι!$M$4:$N$17,2,1) -> 0 | X43: =VLOOKUP(K43,Παράμετροι!$M$4:$N$17,2,1) -> 0 | Y43: =L43*20 -> 238 | Z43: =VLOOKUP(M43,Παράμετροι!$S$4:$T$124,2,1) -> 0 | AA43: =VLOOKUP(N43,Παράμετροι!$V$4:$W$124,2,1) -> 490 | AB43: =O43*3 -> 0 | AC43: =P43*2 -> 0 | AD43: =SUM(Q43:AC43) -> 728 | BA43: ΓΝ ΑΓΡΙΝΙΟΥ ΜΕΘ
A44: 63 | B44: ΤΣΟΥΠΙΝΑΚΗΣ | C44: ΙΩΑΝΝΗΣ | I44: 2 | L44: 15.92 | N44: 48 | Q44: =VLOOKUP(D44,Παράμετροι!$A$4:$B$10,2) -> 0 | R44: =VLOOKUP(E44,Παράμετροι!$D$4:$E$16,2) -> 0 | S44: =VLOOKUP(F44,Παράμετροι!$D$4:$E$16,2,1) -> 0 | T44: =VLOOKUP(G44,Παράμετροι!$G$4:$H$7,2,1) -> 0 | U44: =VLOOKUP(H44,Παράμετροι!$G$4:$H$7,2,1) -> 0 | V44: =VLOOKUP(I44,Παράμετροι!$J$4:$K$7,2,1) -> 60 | W44: =VLOOKUP(J44,Παράμετροι!$M$4:$N$17,2,1) -> 0 | X44: =VLOOKUP(K44,Παράμετροι!$M$4:$N$17,2,1) -> 0 | Y44: =L44*20 -> 318.4 | Z44: =VLOOKUP(M44,Παράμετροι!$S$4:$T$124,2,1) -> 0 | AA44: =VLOOKUP(N44,Παράμετροι!$V$4:$W$124,2,1) -> 336 | AB44: =O44*3 -> 0 | AC44: =P44*2 -> 0 | AD44: =SUM(Q44:AC44) -> 714.4 | BA44: ΠΓΝ ΗΡΑΚΛΕΙΟΥ ΜΕΘ
A45: 21 | B45: ΤΣΙΜΠΙΔΗΣ | C45: ΣΤΕΦΑΝΟΣ | I45: 1 | L45: 12.36 | N45: 62 | Q45: =VLOOKUP(D45,Παράμετροι!$A$4:$B$10,2) -> 0 | R45: =VLOOKUP(E45,Παράμετροι!$D$4:$E$16,2) -> 0 | S45: =VLOOKUP(F45,Παράμετροι!$D$4:$E$16,2,1) -> 0 | T45: =VLOOKUP(G45,Παράμετροι!$G$4:$H$7,2,1) -> 0 | U45: =VLOOKUP(H45,Παράμετροι!$G$4:$H$7,2,1) -> 0 | V45: =VLOOKUP(I45,Παράμετροι!$J$4:$K$7,2,1) -> 30 | W45: =VLOOKUP(J45,Παράμετροι!$M$4:$N$17,2,1) -> 0 | X45: =VLOOKUP(K45,Παράμετροι!$M$4:$N$17,2,1) -> 0 | Y45: =L45*20 -> 247.2 | Z45: =VLOOKUP(M45,Παράμετροι!$S$4:$T$124,2,1) -> 0 | AA45: =VLOOKUP(N45,Παράμετροι!$V$4:$W$124,2,1) -> 434 | AB45: =O45*3 -> 0 | AC45: =P45*2 -> 0 | AD45: =SUM(Q45:AC45) -> 711.2 | BA45: ΓΝ ΡΕΘΥΜΝΟΥ ΜΕΘ
A46: 47 | B46: ΒΙΟΡΕΣ | C46: ΓΕΩΡΓΙΟΣ | D46: 5 | L46: 16.7 | N46: 17 | Q46: =VLOOKUP(D46,Παράμετροι!$A$4:$B$10,2) -> 250 | R46: =VLOOKUP(E46,Παράμετροι!$D$4:$E$16,2) -> 0 | S46: =VLOOKUP(F46,Παράμετροι!$D$4:$E$16,2,1) -> 0 | T46: =VLOOKUP(G46,Παράμετροι!$G$4:$H$7,2,1) -> 0 | U46: =VLOOKUP(H46,Παράμετροι!$G$4:$H$7,2,1) -> 0 | V46: =VLOOKUP(I46,Παράμετροι!$J$4:$K$7,2,1) -> 0 | W46: =VLOOKUP(J46,Παράμετροι!$M$4:$N$17,2,1) -> 0 | X46: =VLOOKUP(K46,Παράμετροι!$M$4:$N$17,2,1) -> 0 | Y46: =L46*20 -> 334 | Z46: =VLOOKUP(M46,Παράμετροι!$S$4:$T$124,2,1) -> 0 | AA46: =VLOOKUP(N46,Παράμετροι!$V$4:$W$124,2,1) -> 119 | AB46: =O46*3 -> 0 | AC46: =P46*2 -> 0 | AD46: =SUM(Q46:AC46) -> 703 | BA46: ΓΝ ΧΑΝΙΩΝ
A47: 59 | B47: ΠΑΠΑΚΩΝΣΤΑΝΤΙΝΟΥ | C47: ΑΣΤΕΡΩ | D47: 6 | L47: 19.9 | Q47: =VLOOKUP(D47,Παράμετροι!$A$4:$B$10,2) -> 300 | R47: =VLOOKUP(E47,Παράμετροι!$D$4:$E$16,2) -> 0 | S47: =VLOOKUP(F47,Παράμετροι!$D$4:$E$16,2,1) -> 0 | T47: =VLOOKUP(G47,Παράμετροι!$G$4:$H$7,2,1) -> 0 | U47: =VLOOKUP(H47,Παράμετροι!$G$4:$H$7,2,1) -> 0 | V47: =VLOOKUP(I47,Παράμετροι!$J$4:$K$7,2,1) -> 0 | W47: =VLOOKUP(J47,Παράμετροι!$M$4:$N$17,2,1) -> 0 | X47: =VLOOKUP(K47,Παράμετροι!$M$4:$N$17,2,1) -> 0 | Y47: =L47*20 -> 398 | Z47: =VLOOKUP(M47,Παράμετροι!$S$4:$T$124,2,1) -> 0 | AA47: =VLOOKUP(N47,Παράμετροι!$V$4:$W$124,2,1) -> 0 | AB47: =O47*3 -> 0 | AC47: =P47*2 -> 0 | AD47: =SUM(Q47:AC47) -> 698 | BA47: ΓΝ ΚΥ ΙΕΡΑΠΕΤΡΑΣ
A48: 78 | B48: ΠΙΚΟΥΛΗΣ | C48: ΧΡΗΣΤΟΑ | D48: 6 | L48: 11.9 | N48: 22 | Q48: =VLOOKUP(D48,Παράμετροι!$A$4:$B$10,2) -> 300 | R48: =VLOOKUP(E48,Παράμετροι!$D$4:$E$16,2) -> 0 | S48: =VLOOKUP(F48,Παράμετροι!$D$4:$E$16,2,1) -> 0 | T48: =VLOOKUP(G48,Παράμετροι!$G$4:$H$7,2,1) -> 0 | U48: =VLOOKUP(H48,Παράμετροι!$G$4:$H$7,2,1) -> 0 | V48: =VLOOKUP(I48,Παράμετροι!$J$4:$K$7,2,1) -> 0 | W48: =VLOOKUP(J48,Παράμετροι!$M$4:$N$17,2,1) -> 0 | X48: =VLOOKUP(K48,Παράμετροι!$M$4:$N$17,2,1) -> 0 | Y48: =L48*20 -> 238 | Z48: =VLOOKUP(M48,Παράμετροι!$S$4:$T$124,2,1) -> 0 | AA48: =VLOOKUP(N48,Παράμετροι!$V$4:$W$124,2,1) -> 154 | AB48: =O48*3 -> 0 | AC48: =P48*2 -> 0 | AD48: =SUM(Q48:AC48) -> 692
A49: 34 | B49: ΚΡΙΘΑΡΑΣ | C49: ΠΑΝΑΓΙΩΤΗΣ | D49: 6 | I49: 2 | L49: 15.63 | N49: 2 | Q49: =VLOOKUP(D49,Παράμετροι!$A$4:$B$10,2) -> 300 | R49: =VLOOKUP(E49,Παράμετροι!$D$4:$E$16,2) -> 0 | S49: =VLOOKUP(F49,Παράμετροι!$D$4:$E$16,2,1) -> 0 | T49: =VLOOKUP(G49,Παράμετροι!$G$4:$H$7,2,1) -> 0 | U49: =VLOOKUP(H49,Παράμετροι!$G$4:$H$7,2,1) -> 0 | V49: =VLOOKUP(I49,Παράμετροι!$J$4:$K$7,2,1) -> 60 | W49: =VLOOKUP(J49,Παράμετροι!$M$4:$N$17,2,1) -> 0 | X49: =VLOOKUP(K49,Παράμετροι!$M$4:$N$17,2,1) -> 0 | Y49: =L49*20 -> 312.6 | Z49: =VLOOKUP(M49,Παράμετροι!$S$4:$T$124,2,1) -> 0 | AA49: =VLOOKUP(N49,Παράμετροι!$V$4:$W$124,2,1) -> 14 | AB49: =O49*3 -> 0 | AC49: =P49*2 -> 0 | AD49: =SUM(Q49:AC49) -> 686.6
A50: 55 | B50: ΕΥΑΓΓΕΛΑΚΟΠΟΥΛΟΣ | C50: ΘΕΟΔΩΡΟΣ | D50: 6 | L50: 12.81 | P50: 60 | Q50: =VLOOKUP(D50,Παράμετροι!$A$4:$B$10,2) -> 300 | R50: =VLOOKUP(E50,Παράμετροι!$D$4:$E$16,2) -> 0 | S50: =VLOOKUP(F50,Παράμετροι!$D$4:$E$16,2,1) -> 0 | T50: =VLOOKUP(G50,Παράμετροι!$G$4:$H$7,2,1) -> 0 | U50: =VLOOKUP(H50,Παράμετροι!$G$4:$H$7,2,1) -> 0 | V50: =VLOOKUP(I50,Παράμετροι!$J$4:$K$7,2,1) -> 0 | W50: =VLOOKUP(J50,Παράμετροι!$M$4:$N$17,2,1) -> 0 | X50: =VLOOKUP(K50,Παράμετροι!$M$4:$N$17,2,1) -> 0 | Y50: =L50*20 -> 256.2 | Z50: =VLOOKUP(M50,Παράμετροι!$S$4:$T$124,2,1) -> 0 | AA50: =VLOOKUP(N50,Παράμετροι!$V$4:$W$124,2,1) -> 0 | AB50: =O50*3 -> 0 | AC50: =P50*2 -> 120 | AD50: =SUM(Q50:AC50) -> 676.2
A51: 17 | B51: ΑΓΓΕΛΟΠΟΥΛΟΣ | C51: ΓΕΩΡΓΙΟΣ | D51: 0 | I51: 1 | L51: 14.27 | N51: 50 | Q51: =VLOOKUP(D51,Παράμετροι!$A$4:$B$10,2) -> 0 | R51: =VLOOKUP(E51,Παράμετροι!$D$4:$E$16,2) -> 0 | S51: =VLOOKUP(F51,Παράμετροι!$D$4:$E$16,2,1) -> 0 | T51: =VLOOKUP(G51,Παράμετροι!$G$4:$H$7,2,1) -> 0 | U51: =VLOOKUP(H51,Παράμετροι!$G$4:$H$7,2,1) -> 0 | V51: =VLOOKUP(I51,Παράμετροι!$J$4:$K$7,2,1) -> 30 | W51: =VLOOKUP(J51,Παράμετροι!$M$4:$N$17,2,1) -> 0 | X51: =VLOOKUP(K51,Παράμετροι!$M$4:$N$17,2,1) -> 0 | Y51: =L51*20 -> 285.4 | Z51: =VLOOKUP(M51,Παράμετροι!$S$4:$T$124,2,1) -> 0 | AA51: =VLOOKUP(N51,Παράμετροι!$V$4:$W$124,2,1) -> 350 | AB51: =O51*3 -> 0 | AC51: =P51*2 -> 0 | AD51: =SUM(Q51:AC51) -> 665.4
A52: 7 | B52: ΚΩΤΣΟΠΟΥΛΟΣ | C52: ΗΛΙΑΣ | D52: 6 | L52: 14 | M52: 9 | Q52: =VLOOKUP(D52,Παράμετροι!$A$4:$B$10,2) -> 300 | R52: =VLOOKUP(E52,Παράμετροι!$D$4:$E$16,2) -> 0 | S52: =VLOOKUP(F52,Παράμετροι!$D$4:$E$16,2,1) -> 0 | T52: =VLOOKUP(G52,Παράμετροι!$G$4:$H$7,2,1) -> 0 | U52: =VLOOKUP(H52,Παράμετροι!$G$4:$H$7,2,1) -> 0 | V52: =VLOOKUP(I52,Παράμετροι!$J$4:$K$7,2,1) -> 0 | W52: =VLOOKUP(J52,Παράμετροι!$M$4:$N$17,2,1) -> 0 | X52: =VLOOKUP(K52,Παράμετροι!$M$4:$N$17,2,1) -> 0 | Y52: =L52*20 -> 280 | Z52: =VLOOKUP(M52,Παράμετροι!$S$4:$T$124,2,1) -> 72 | AA52: =VLOOKUP(N52,Παράμετροι!$V$4:$W$124,2,1) -> 0 | AB52: =O52*3 -> 0 | AC52: =P52*2 -> 0 | AD52: =SUM(Q52:AC52) -> 652
A53: 53 | B53: ΖΑΦΕΙΡΗ | C53: ΣΤΑΜΑΤΟΥΛΑ | D53: 6 | L53: 14.7 | M53: 7 | Q53: =VLOOKUP(D53,Παράμετροι!$A$4:$B$10,2) -> 300 | R53: =VLOOKUP(E53,Παράμετροι!$D$4:$E$16,2) -> 0 | S53: =VLOOKUP(F53,Παράμετροι!$D$4:$E$16,2,1) -> 0 | T53: =VLOOKUP(G53,Παράμετροι!$G$4:$H$7,2,1) -> 0 | U53: =VLOOKUP(H53,Παράμετροι!$G$4:$H$7,2,1) -> 0 | V53: =VLOOKUP(I53,Παράμετροι!$J$4:$K$7,2,1) -> 0 | W53: =VLOOKUP(J53,Παράμετροι!$M$4:$N$17,2,1) -> 0 | X53: =VLOOKUP(K53,Παράμετροι!$M$4:$N$17,2,1) -> 0 | Y53: =L53*20 -> 294 | Z53: =VLOOKUP(M53,Παράμετροι!$S$4:$T$124,2,1) -> 56 | AA53: =VLOOKUP(N53,Παράμετροι!$V$4:$W$124,2,1) -> 0 | AB53: =O53*3 -> 0 | AC53: =P53*2 -> 0 | AD53: =SUM(Q53:AC53) -> 650
A54: 54 | B54: ΣΙΜΟΓΛΟΥ | C54: ΔΗΜΗΤΡΙΟΣ | D54: 6 | L54: 17.4 | Q54: =VLOOKUP(D54,Παράμετροι!$A$4:$B$10,2) -> 300 | R54: =VLOOKUP(E54,Παράμετροι!$D$4:$E$16,2) -> 0 | S54: =VLOOKUP(F54,Παράμετροι!$D$4:$E$16,2,1) -> 0 | T54: =VLOOKUP(G54,Παράμετροι!$G$4:$H$7,2,1) -> 0 | U54: =VLOOKUP(H54,Παράμετροι!$G$4:$H$7,2,1) -> 0 | V54: =VLOOKUP(I54,Παράμετροι!$J$4:$K$7,2,1) -> 0 | W54: =VLOOKUP(J54,Παράμετροι!$M$4:$N$17,2,1) -> 0 | X54: =VLOOKUP(K54,Παράμετροι!$M$4:$N$17,2,1) -> 0 | Y54: =L54*20 -> 348 | Z54: =VLOOKUP(M54,Παράμετροι!$S$4:$T$124,2,1) -> 0 | AA54: =VLOOKUP(N54,Παράμετροι!$V$4:$W$124,2,1) -> 0 | AB54: =O54*3 -> 0 | AC54: =P54*2 -> 0 | AD54: =SUM(Q54:AC54) -> 648
A55: 22 | B55: ΓΚΟΥΓΚΟΥΛΗΣ | C55: ΒΑΣΙΛΕΙΟΣ | D55: 6 | G55: 1 | L55: 13.33 | M55: 5 | Q55: =VLOOKUP(D55,Παράμετροι!$A$4:$B$10,2) -> 300 | R55: =VLOOKUP(E55,Παράμετροι!$D$4:$E$16,2) -> 0 | S55: =VLOOKUP(F55,Παράμετροι!$D$4:$E$16,2,1) -> 0 | T55: =VLOOKUP(G55,Παράμετροι!$G$4:$H$7,2,1) -> 40 | U55: =VLOOKUP(H55,Παράμετροι!$G$4:$H$7,2,1) -> 0 | V55: =VLOOKUP(I55,Παράμετροι!$J$4:$K$7,2,1) -> 0 | W55: =VLOOKUP(J55,Παράμετροι!$M$4:$N$17,2,1) -> 0 | X55: =VLOOKUP(K55,Παράμετροι!$M$4:$N$17,2,1) -> 0 | Y55: =L55*20 -> 266.6 | Z55: =VLOOKUP(M55,Παράμετροι!$S$4:$T$124,2,1) -> 40 | AA55: =VLOOKUP(N55,Παράμετροι!$V$4:$W$124,2,1) -> 0 | AB55: =O55*3 -> 0 | AC55: =P55*2 -> 0 | AD55: =SUM(Q55:AC55) -> 646.6
A56: 32 | B56: ΑΝΑΠΛΙΩΤΗΣ | C56: ΔΗΜΟΣ | L56: 11.9 | N56: 57 | Q56: =VLOOKUP(D56,Παράμετροι!$A$4:$B$10,2) -> 0 | R56: =VLOOKUP(E56,Παράμετροι!$D$4:$E$16,2) -> 0 | S56: =VLOOKUP(F56,Παράμετροι!$D$4:$E$16,2,1) -> 0 | T56: =VLOOKUP(G56,Παράμετροι!$G$4:$H$7,2,1) -> 0 | U56: =VLOOKUP(H56,Παράμετροι!$G$4:$H$7,2,1) -> 0 | V56: =VLOOKUP(I56,Παράμετροι!$J$4:$K$7,2,1) -> 0 | W56: =VLOOKUP(J56,Παράμετροι!$M$4:$N$17,2,1) -> 0 | X56: =VLOOKUP(K56,Παράμετροι!$M$4:$N$17,2,1) -> 0 | Y56: =L56*20 -> 238 | Z56: =VLOOKUP(M56,Παράμετροι!$S$4:$T$124,2,1) -> 0 | AA56: =VLOOKUP(N56,Παράμετροι!$V$4:$W$124,2,1) -> 399 | AB56: =O56*3 -> 0 | AC56: =P56*2 -> 0 | AD56: =SUM(Q56:AC56) -> 637
A57: 70 | B57: ΤΑΣΙΟΠΟΥΛΟΣ | C57: ΑΝΔΡΕΑΣ | D57: 6 | I57: 1 | L57: 13.09 | M57: 5 | Q57: =VLOOKUP(D57,Παράμετροι!$A$4:$B$10,2) -> 300 | R57: =VLOOKUP(E57,Παράμετροι!$D$4:$E$16,2) -> 0 | S57: =VLOOKUP(F57,Παράμετροι!$D$4:$E$16,2,1) -> 0 | T57: =VLOOKUP(G57,Παράμετροι!$G$4:$H$7,2,1) -> 0 | U57: =VLOOKUP(H57,Παράμετροι!$G$4:$H$7,2,1) -> 0 | V57: =VLOOKUP(I57,Παράμετροι!$J$4:$K$7,2,1) -> 30 | W57: =VLOOKUP(J57,Παράμετροι!$M$4:$N$17,2,1) -> 0 | X57: =VLOOKUP(K57,Παράμετροι!$M$4:$N$17,2,1) -> 0 | Y57: =L57*20 -> 261.8 | Z57: =VLOOKUP(M57,Παράμετροι!$S$4:$T$124,2,1) -> 40 | AA57: =VLOOKUP(N57,Παράμετροι!$V$4:$W$124,2,1) -> 0 | AB57: =O57*3 -> 0 | AC57: =P57*2 -> 0 | AD57: =SUM(Q57:AC57) -> 631.8
A58: 23 | B58: ΤΣΕΡΟΣ | C58: ΓΕΩΡΓΙΟΣ | D58: 0 | G58: 1 | L58: 12.36 | N58: 49 | Q58: =VLOOKUP(D58,Παράμετροι!$A$4:$B$10,2) -> 0 | R58: =VLOOKUP(E58,Παράμετροι!$D$4:$E$16,2) -> 0 | S58: =VLOOKUP(F58,Παράμετροι!$D$4:$E$16,2,1) -> 0 | T58: =VLOOKUP(G58,Παράμετροι!$G$4:$H$7,2,1) -> 40 | U58: =VLOOKUP(H58,Παράμετροι!$G$4:$H$7,2,1) -> 0 | V58: =VLOOKUP(I58,Παράμετροι!$J$4:$K$7,2,1) -> 0 | W58: =VLOOKUP(J58,Παράμετροι!$M$4:$N$17,2,1) -> 0 | X58: =VLOOKUP(K58,Παράμετροι!$M$4:$N$17,2,1) -> 0 | Y58: =L58*20 -> 247.2 | Z58: =VLOOKUP(M58,Παράμετροι!$S$4:$T$124,2,1) -> 0 | AA58: =VLOOKUP(N58,Παράμετροι!$V$4:$W$124,2,1) -> 343 | AB58: =O58*3 -> 0 | AC58: =P58*2 -> 0 | AD58: =SUM(Q58:AC58) -> 630.2
A59: 18 | B59: ΛΕΙΒΑΔΗΣ | C59: ΚΥΡΙΑΚΟΣ | I59: 1 | L59: 12.6 | N59: 49 | Q59: =VLOOKUP(D59,Παράμετροι!$A$4:$B$10,2) -> 0 | R59: =VLOOKUP(E59,Παράμετροι!$D$4:$E$16,2) -> 0 | S59: =VLOOKUP(F59,Παράμετροι!$D$4:$E$16,2,1) -> 0 | T59: =VLOOKUP(G59,Παράμετροι!$G$4:$H$7,2,1) -> 0 | U59: =VLOOKUP(H59,Παράμετροι!$G$4:$H$7,2,1) -> 0 | V59: =VLOOKUP(I59,Παράμετροι!$J$4:$K$7,2,1) -> 30 | W59: =VLOOKUP(J59,Παράμετροι!$M$4:$N$17,2,1) -> 0 | X59: =VLOOKUP(K59,Παράμετροι!$M$4:$N$17,2,1) -> 0 | Y59: =L59*20 -> 252 | Z59: =VLOOKUP(M59,Παράμετροι!$S$4:$T$124,2,1) -> 0 | AA59: =VLOOKUP(N59,Παράμετροι!$V$4:$W$124,2,1) -> 343 | AB59: =O59*3 -> 0 | AC59: =P59*2 -> 0 | AD59: =SUM(Q59:AC59) -> 625
A60: 71 | B60: ΓΑΛΑΝΗ | C60: ΓΕΩΡΓΙΑ | D60: 6 | J60: 1 | L60: 13.5 | Q60: =VLOOKUP(D60,Παράμετροι!$A$4:$B$10,2) -> 300 | R60: =VLOOKUP(E60,Παράμετροι!$D$4:$E$16,2) -> 0 | S60: =VLOOKUP(F60,Παράμετροι!$D$4:$E$16,2,1) -> 0 | T60: =VLOOKUP(G60,Παράμετροι!$G$4:$H$7,2,1) -> 0 | U60: =VLOOKUP(H60,Παράμετροι!$G$4:$H$7,2,1) -> 0 | V60: =VLOOKUP(I60,Παράμετροι!$J$4:$K$7,2,1) -> 0 | W60: =VLOOKUP(J60,Παράμετροι!$M$4:$N$17,2,1) -> 50 | X60: =VLOOKUP(K60,Παράμετροι!$M$4:$N$17,2,1) -> 0 | Y60: =L60*20 -> 270 | Z60: =VLOOKUP(M60,Παράμετροι!$S$4:$T$124,2,1) -> 0 | AA60: =VLOOKUP(N60,Παράμετροι!$V$4:$W$124,2,1) -> 0 | AB60: =O60*3 -> 0 | AC60: =P60*2 -> 0 | AD60: =SUM(Q60:AC60) -> 620
A61: 65 | B61: ΚΙΤΣΙΟΣ | C61: ΔΗΜΗΤΡΙΟΣ | D61: 6 | L61: 12.9 | N61: 7 | Q61: =VLOOKUP(D61,Παράμετροι!$A$4:$B$10,2) -> 300 | R61: =VLOOKUP(E61,Παράμετροι!$D$4:$E$16,2) -> 0 | S61: =VLOOKUP(F61,Παράμετροι!$D$4:$E$16,2,1) -> 0 | T61: =VLOOKUP(G61,Παράμετροι!$G$4:$H$7,2,1) -> 0 | U61: =VLOOKUP(H61,Παράμετροι!$G$4:$H$7,2,1) -> 0 | V61: =VLOOKUP(I61,Παράμετροι!$J$4:$K$7,2,1) -> 0 | W61: =VLOOKUP(J61,Παράμετροι!$M$4:$N$17,2,1) -> 0 | X61: =VLOOKUP(K61,Παράμετροι!$M$4:$N$17,2,1) -> 0 | Y61: =L61*20 -> 258 | Z61: =VLOOKUP(M61,Παράμετροι!$S$4:$T$124,2,1) -> 0 | AA61: =VLOOKUP(N61,Παράμετροι!$V$4:$W$124,2,1) -> 49 | AB61: =O61*3 -> 0 | AC61: =P61*2 -> 0 | AD61: =SUM(Q61:AC61) -> 607
A62: 6 | B62: ΠΕΤΡΟΠΟΥΛΟΣ | C62: ΕΥΘΥΜΙΟΣ | D62: 6 | L62: 14.9 | Q62: =VLOOKUP(D62,Παράμετροι!$A$4:$B$10,2) -> 300 | R62: =VLOOKUP(E62,Παράμετροι!$D$4:$E$16,2) -> 0 | S62: =VLOOKUP(F62,Παράμετροι!$D$4:$E$16,2,1) -> 0 | T62: =VLOOKUP(G62,Παράμετροι!$G$4:$H$7,2,1) -> 0 | U62: =VLOOKUP(H62,Παράμετροι!$G$4:$H$7,2,1) -> 0 | V62: =VLOOKUP(I62,Παράμετροι!$J$4:$K$7,2,1) -> 0 | W62: =VLOOKUP(J62,Παράμετροι!$M$4:$N$17,2,1) -> 0 | X62: =VLOOKUP(K62,Παράμετροι!$M$4:$N$17,2,1) -> 0 | Y62: =L62*20 -> 298 | Z62: =VLOOKUP(M62,Παράμετροι!$S$4:$T$124,2,1) -> 0 | AA62: =VLOOKUP(N62,Παράμετροι!$V$4:$W$124,2,1) -> 0 | AB62: =O62*3 -> 0 | AC62: =P62*2 -> 0 | AD62: =SUM(Q62:AC62) -> 598
A63: 16 | B63: ΒΡΑΚΑΣ | C63: ΑΘΑΝΑΣΙΟΣ | D63: 6 | L63: 14.54 | Q63: =VLOOKUP(D63,Παράμετροι!$A$4:$B$10,2) -> 300 | R63: =VLOOKUP(E63,Παράμετροι!$D$4:$E$16,2) -> 0 | S63: =VLOOKUP(F63,Παράμετροι!$D$4:$E$16,2,1) -> 0 | T63: =VLOOKUP(G63,Παράμετροι!$G$4:$H$7,2,1) -> 0 | U63: =VLOOKUP(H63,Παράμετροι!$G$4:$H$7,2,1) -> 0 | V63: =VLOOKUP(I63,Παράμετροι!$J$4:$K$7,2,1) -> 0 | W63: =VLOOKUP(J63,Παράμετροι!$M$4:$N$17,2,1) -> 0 | X63: =VLOOKUP(K63,Παράμετροι!$M$4:$N$17,2,1) -> 0 | Y63: =L63*20 -> 290.8 | Z63: =VLOOKUP(M63,Παράμετροι!$S$4:$T$124,2,1) -> 0 | AA63: =VLOOKUP(N63,Παράμετροι!$V$4:$W$124,2,1) -> 0 | AB63: =O63*3 -> 0 | AC63: =P63*2 -> 0 | AD63: =SUM(Q63:AC63) -> 590.8
A64: 60 | B64: ΝΙΚΟΛΑΟΥ | C64: ΠΕΤΡΟΣ | I64: 2 | L64: 13 | N64: 37 | Q64: =VLOOKUP(D64,Παράμετροι!$A$4:$B$10,2) -> 0 | R64: =VLOOKUP(E64,Παράμετροι!$D$4:$E$16,2) -> 0 | S64: =VLOOKUP(F64,Παράμετροι!$D$4:$E$16,2,1) -> 0 | T64: =VLOOKUP(G64,Παράμετροι!$G$4:$H$7,2,1) -> 0 | U64: =VLOOKUP(H64,Παράμετροι!$G$4:$H$7,2,1) -> 0 | V64: =VLOOKUP(I64,Παράμετροι!$J$4:$K$7,2,1) -> 60 | W64: =VLOOKUP(J64,Παράμετροι!$M$4:$N$17,2,1) -> 0 | X64: =VLOOKUP(K64,Παράμετροι!$M$4:$N$17,2,1) -> 0 | Y64: =L64*20 -> 260 | Z64: =VLOOKUP(M64,Παράμετροι!$S$4:$T$124,2,1) -> 0 | AA64: =VLOOKUP(N64,Παράμετροι!$V$4:$W$124,2,1) -> 259 | AB64: =O64*3 -> 0 | AC64: =P64*2 -> 0 | AD64: =SUM(Q64:AC64) -> 579
A65: 66 | B65: ΜΠΑΖΑΚΟΥ | C65: ΒΑΡΒΑΡΑ | D65: 6 | L65: 13.63 | Q65: =VLOOKUP(D65,Παράμετροι!$A$4:$B$10,2) -> 300 | R65: =VLOOKUP(E65,Παράμετροι!$D$4:$E$16,2) -> 0 | S65: =VLOOKUP(F65,Παράμετροι!$D$4:$E$16,2,1) -> 0 | T65: =VLOOKUP(G65,Παράμετροι!$G$4:$H$7,2,1) -> 0 | U65: =VLOOKUP(H65,Παράμετροι!$G$4:$H$7,2,1) -> 0 | V65: =VLOOKUP(I65,Παράμετροι!$J$4:$K$7,2,1) -> 0 | W65: =VLOOKUP(J65,Παράμετροι!$M$4:$N$17,2,1) -> 0 | X65: =VLOOKUP(K65,Παράμετροι!$M$4:$N$17,2,1) -> 0 | Y65: =L65*20 -> 272.6 | Z65: =VLOOKUP(M65,Παράμετροι!$S$4:$T$124,2,1) -> 0 | AA65: =VLOOKUP(N65,Παράμετροι!$V$4:$W$124,2,1) -> 0 | AB65: =O65*3 -> 0 | AC65: =P65*2 -> 0 | AD65: =SUM(Q65:AC65) -> 572.6
A66: 82 | B66: ΔΕΛΗΓΙΑΝΝΗΣ | C66: ΣΩΤΗΡΙΟΣ | D66: 6 | L66: 12.8 | Q66: =VLOOKUP(D66,Παράμετροι!$A$4:$B$10,2) -> 300 | R66: =VLOOKUP(E66,Παράμετροι!$D$4:$E$16,2) -> 0 | S66: =VLOOKUP(F66,Παράμετροι!$D$4:$E$16,2,1) -> 0 | T66: =VLOOKUP(G66,Παράμετροι!$G$4:$H$7,2,1) -> 0 | U66: =VLOOKUP(H66,Παράμετροι!$G$4:$H$7,2,1) -> 0 | V66: =VLOOKUP(I66,Παράμετροι!$J$4:$K$7,2,1) -> 0 | W66: =VLOOKUP(J66,Παράμετροι!$M$4:$N$17,2,1) -> 0 | X66: =VLOOKUP(K66,Παράμετροι!$M$4:$N$17,2,1) -> 0 | Y66: =L66*20 -> 256 | Z66: =VLOOKUP(M66,Παράμετροι!$S$4:$T$124,2,1) -> 0 | AA66: =VLOOKUP(N66,Παράμετροι!$V$4:$W$124,2,1) -> 0 | AB66: =O66*3 -> 0 | AC66: =P66*2 -> 0 | AD66: =SUM(Q66:AC66) -> 556
A67: 33 | B67: ΚΑΡΟΥΣΟΥ | C67: ΑΔΑΜΑΝΤΙΑ | I67: 1 | L67: 14.9 | M67: 18 | N67: 11 | Q67: =VLOOKUP(D67,Παράμετροι!$A$4:$B$10,2) -> 0 | R67: =VLOOKUP(E67,Παράμετροι!$D$4:$E$16,2) -> 0 | S67: =VLOOKUP(F67,Παράμετροι!$D$4:$E$16,2,1) -> 0 | T67: =VLOOKUP(G67,Παράμετροι!$G$4:$H$7,2,1) -> 0 | U67: =VLOOKUP(H67,Παράμετροι!$G$4:$H$7,2,1) -> 0 | V67: =VLOOKUP(I67,Παράμετροι!$J$4:$K$7,2,1) -> 30 | W67: =VLOOKUP(J67,Παράμετροι!$M$4:$N$17,2,1) -> 0 | X67: =VLOOKUP(K67,Παράμετροι!$M$4:$N$17,2,1) -> 0 | Y67: =L67*20 -> 298 | Z67: =VLOOKUP(M67,Παράμετροι!$S$4:$T$124,2,1) -> 144 | AA67: =VLOOKUP(N67,Παράμετροι!$V$4:$W$124,2,1) -> 77 | AB67: =O67*3 -> 0 | AC67: =P67*2 -> 0 | AD67: =SUM(Q67:AC67) -> 549
A68: 64 | B68: ΧΡΗΣΤΟΥ | C68: ΑΠΟΣΤΟΛΟΣ | L68: 15.9 | N68: 31 | Q68: =VLOOKUP(D68,Παράμετροι!$A$4:$B$10,2) -> 0 | R68: =VLOOKUP(E68,Παράμετροι!$D$4:$E$16,2) -> 0 | S68: =VLOOKUP(F68,Παράμετροι!$D$4:$E$16,2,1) -> 0 | T68: =VLOOKUP(G68,Παράμετροι!$G$4:$H$7,2,1) -> 0 | U68: =VLOOKUP(H68,Παράμετροι!$G$4:$H$7,2,1) -> 0 | V68: =VLOOKUP(I68,Παράμετροι!$J$4:$K$7,2,1) -> 0 | W68: =VLOOKUP(J68,Παράμετροι!$M$4:$N$17,2,1) -> 0 | X68: =VLOOKUP(K68,Παράμετροι!$M$4:$N$17,2,1) -> 0 | Y68: =L68*20 -> 318 | Z68: =VLOOKUP(M68,Παράμετροι!$S$4:$T$124,2,1) -> 0 | AA68: =VLOOKUP(N68,Παράμετροι!$V$4:$W$124,2,1) -> 217 | AB68: =O68*3 -> 0 | AC68: =P68*2 -> 0 | AD68: =SUM(Q68:AC68) -> 535
A69: 15 | B69: ΔΗΜΗΤΡΙΑΔΟΥ | C69: ΧΡΙΣΤΙΝΑ | F69: 4 | L69: 16.5 | Q69: =VLOOKUP(D69,Παράμετροι!$A$4:$B$10,2) -> 0 | R69: =VLOOKUP(E69,Παράμετροι!$D$4:$E$16,2) -> 0 | S69: =VLOOKUP(F69,Παράμετροι!$D$4:$E$16,2,1) -> 200 | T69: =VLOOKUP(G69,Παράμετροι!$G$4:$H$7,2,1) -> 0 | U69: =VLOOKUP(H69,Παράμετροι!$G$4:$H$7,2,1) -> 0 | V69: =VLOOKUP(I69,Παράμετροι!$J$4:$K$7,2,1) -> 0 | W69: =VLOOKUP(J69,Παράμετροι!$M$4:$N$17,2,1) -> 0 | X69: =VLOOKUP(K69,Παράμετροι!$M$4:$N$17,2,1) -> 0 | Y69: =L69*20 -> 330 | Z69: =VLOOKUP(M69,Παράμετροι!$S$4:$T$124,2,1) -> 0 | AA69: =VLOOKUP(N69,Παράμετροι!$V$4:$W$124,2,1) -> 0 | AB69: =O69*3 -> 0 | AC69: =P69*2 -> 0 | AD69: =SUM(Q69:AC69) -> 530
A70: 16 | B70: ΜΠΟΥΚΑΣ | C70: ΚΩΝΣΤΑΝΤΙΝΟΣ | L70: 12.81 | N70: 10 | P70: 100 | Q70: =VLOOKUP(D70,Παράμετροι!$A$4:$B$10,2) -> 0 | R70: =VLOOKUP(E70,Παράμετροι!$D$4:$E$16,2) -> 0 | S70: =VLOOKUP(F70,Παράμετροι!$D$4:$E$16,2,1) -> 0 | T70: =VLOOKUP(G70,Παράμετροι!$G$4:$H$7,2,1) -> 0 | U70: =VLOOKUP(H70,Παράμετροι!$G$4:$H$7,2,1) -> 0 | V70: =VLOOKUP(I70,Παράμετροι!$J$4:$K$7,2,1) -> 0 | W70: =VLOOKUP(J70,Παράμετροι!$M$4:$N$17,2,1) -> 0 | X70: =VLOOKUP(K70,Παράμετροι!$M$4:$N$17,2,1) -> 0 | Y70: =L70*20 -> 256.2 | Z70: =VLOOKUP(M70,Παράμετροι!$S$4:$T$124,2,1) -> 0 | AA70: =VLOOKUP(N70,Παράμετροι!$V$4:$W$124,2,1) -> 70 | AB70: =O70*3 -> 0 | AC70: =P70*2 -> 200 | AD70: =SUM(Q70:AC70) -> 526.2
A71: 15 | B71: ΝΙΚΟΛΙΔΑΚΗΣ | C71: ΔΗΜΗΤΡΙΟΣ | D71: 0 | L71: 15.7 | N71: 28 | Q71: =VLOOKUP(D71,Παράμετροι!$A$4:$B$10,2) -> 0 | R71: =VLOOKUP(E71,Παράμετροι!$D$4:$E$16,2) -> 0 | S71: =VLOOKUP(F71,Παράμετροι!$D$4:$E$16,2,1) -> 0 | T71: =VLOOKUP(G71,Παράμετροι!$G$4:$H$7,2,1) -> 0 | U71: =VLOOKUP(H71,Παράμετροι!$G$4:$H$7,2,1) -> 0 | V71: =VLOOKUP(I71,Παράμετροι!$J$4:$K$7,2,1) -> 0 | W71: =VLOOKUP(J71,Παράμετροι!$M$4:$N$17,2,1) -> 0 | X71: =VLOOKUP(K71,Παράμετροι!$M$4:$N$17,2,1) -> 0 | Y71: =L71*20 -> 314 | Z71: =VLOOKUP(M71,Παράμετροι!$S$4:$T$124,2,1) -> 0 | AA71: =VLOOKUP(N71,Παράμετροι!$V$4:$W$124,2,1) -> 196 | AB71: =O71*3 -> 0 | AC71: =P71*2 -> 0 | AD71: =SUM(Q71:AC71) -> 510
A72: 11 | B72: ΜΠΟΙΚΟΣ | C72: ΠΕΤΡΟΣ | D72: 4 | L72: 14.6 | Q72: =VLOOKUP(D72,Παράμετροι!$A$4:$B$10,2) -> 200 | R72: =VLOOKUP(E72,Παράμετροι!$D$4:$E$16,2) -> 0 | S72: =VLOOKUP(F72,Παράμετροι!$D$4:$E$16,2,1) -> 0 | T72: =VLOOKUP(G72,Παράμετροι!$G$4:$H$7,2,1) -> 0 | U72: =VLOOKUP(H72,Παράμετροι!$G$4:$H$7,2,1) -> 0 | V72: =VLOOKUP(I72,Παράμετροι!$J$4:$K$7,2,1) -> 0 | W72: =VLOOKUP(J72,Παράμετροι!$M$4:$N$17,2,1) -> 0 | X72: =VLOOKUP(K72,Παράμετροι!$M$4:$N$17,2,1) -> 0 | Y72: =L72*20 -> 292 | Z72: =VLOOKUP(M72,Παράμετροι!$S$4:$T$124,2,1) -> 0 | AA72: =VLOOKUP(N72,Παράμετροι!$V$4:$W$124,2,1) -> 0 | AB72: =O72*3 -> 0 | AC72: =P72*2 -> 0 | AD72: =SUM(Q72:AC72) -> 492
A73: 36 | B73: ΣΑΡΔΗΣ | C73: ΦΡΑΝΤΖΕΣΚΟΣ | D73: 5 | L73: 10.6 | Q73: =VLOOKUP(D73,Παράμετροι!$A$4:$B$10,2) -> 250 | R73: =VLOOKUP(E73,Παράμετροι!$D$4:$E$16,2) -> 0 | S73: =VLOOKUP(F73,Παράμετροι!$D$4:$E$16,2,1) -> 0 | T73: =VLOOKUP(G73,Παράμετροι!$G$4:$H$7,2,1) -> 0 | U73: =VLOOKUP(H73,Παράμετροι!$G$4:$H$7,2,1) -> 0 | V73: =VLOOKUP(I73,Παράμετροι!$J$4:$K$7,2,1) -> 0 | W73: =VLOOKUP(J73,Παράμετροι!$M$4:$N$17,2,1) -> 0 | X73: =VLOOKUP(K73,Παράμετροι!$M$4:$N$17,2,1) -> 0 | Y73: =L73*20 -> 212 | Z73: =VLOOKUP(M73,Παράμετροι!$S$4:$T$124,2,1) -> 0 | AA73: =VLOOKUP(N73,Παράμετροι!$V$4:$W$124,2,1) -> 0 | AB73: =O73*3 -> 0 | AC73: =P73*2 -> 0 | AD73: =SUM(Q73:AC73) -> 462
A74: 81 | B74: ΛΙΑΠΗΣ | C74: ΑΝΔΡΕΑΣ | L74: 12.9 | N74: 19 | Q74: =VLOOKUP(D74,Παράμετροι!$A$4:$B$10,2) -> 0 | R74: =VLOOKUP(E74,Παράμετροι!$D$4:$E$16,2) -> 0 | S74: =VLOOKUP(F74,Παράμετροι!$D$4:$E$16,2,1) -> 0 | T74: =VLOOKUP(G74,Παράμετροι!$G$4:$H$7,2,1) -> 0 | U74: =VLOOKUP(H74,Παράμετροι!$G$4:$H$7,2,1) -> 0 | V74: =VLOOKUP(I74,Παράμετροι!$J$4:$K$7,2,1) -> 0 | W74: =VLOOKUP(J74,Παράμετροι!$M$4:$N$17,2,1) -> 0 | X74: =VLOOKUP(K74,Παράμετροι!$M$4:$N$17,2,1) -> 0 | Y74: =L74*20 -> 258 | Z74: =VLOOKUP(M74,Παράμετροι!$S$4:$T$124,2,1) -> 0 | AA74: =VLOOKUP(N74,Παράμετροι!$V$4:$W$124,2,1) -> 133 | AB74: =O74*3 -> 0 | AC74: =P74*2 -> 0 | AD74: =SUM(Q74:AC74) -> 391
A75: 13 | B75: ΦΩΤΟΠΟΥΛΟΣ | C75: ΔΗΜΗΤΡΙΟΣ | I75: 1 | L75: 14.14 | M75: 7 | Q75: =VLOOKUP(D75,Παράμετροι!$A$4:$B$10,2) -> 0 | R75: =VLOOKUP(E75,Παράμετροι!$D$4:$E$16,2) -> 0 | S75: =VLOOKUP(F75,Παράμετροι!$D$4:$E$16,2,1) -> 0 | T75: =VLOOKUP(G75,Παράμετροι!$G$4:$H$7,2,1) -> 0 | U75: =VLOOKUP(H75,Παράμετροι!$G$4:$H$7,2,1) -> 0 | V75: =VLOOKUP(I75,Παράμετροι!$J$4:$K$7,2,1) -> 30 | W75: =VLOOKUP(J75,Παράμετροι!$M$4:$N$17,2,1) -> 0 | X75: =VLOOKUP(K75,Παράμετροι!$M$4:$N$17,2,1) -> 0 | Y75: =L75*20 -> 282.8 | Z75: =VLOOKUP(M75,Παράμετροι!$S$4:$T$124,2,1) -> 56 | AA75: =VLOOKUP(N75,Παράμετροι!$V$4:$W$124,2,1) -> 0 | AB75: =O75*3 -> 0 | AC75: =P75*2 -> 0 | AD75: =SUM(Q75:AC75) -> 368.8
A76: 75 | B76: ΑΝΑΣΤΑΣΙΟΥ | C76: ΑΝΑΣΤΑΣΙΟΣ | L76: 17.88 | Q76: =VLOOKUP(D76,Παράμετροι!$A$4:$B$10,2) -> 0 | R76: =VLOOKUP(E76,Παράμετροι!$D$4:$E$16,2) -> 0 | S76: =VLOOKUP(F76,Παράμετροι!$D$4:$E$16,2,1) -> 0 | T76: =VLOOKUP(G76,Παράμετροι!$G$4:$H$7,2,1) -> 0 | U76: =VLOOKUP(H76,Παράμετροι!$G$4:$H$7,2,1) -> 0 | V76: =VLOOKUP(I76,Παράμετροι!$J$4:$K$7,2,1) -> 0 | W76: =VLOOKUP(J76,Παράμετροι!$M$4:$N$17,2,1) -> 0 | X76: =VLOOKUP(K76,Παράμετροι!$M$4:$N$17,2,1) -> 0 | Y76: =L76*20 -> 357.6 | Z76: =VLOOKUP(M76,Παράμετροι!$S$4:$T$124,2,1) -> 0 | AA76: =VLOOKUP(N76,Παράμετροι!$V$4:$W$124,2,1) -> 0 | AB76: =O76*3 -> 0 | AC76: =P76*2 -> 0 | AD76: =SUM(Q76:AC76) -> 357.6
A77: 10 | B77: ΚΟΚΚΟΣ | C77: ΠΑΝΑΓΙΩΤΗΣ | D77: 0 | I77: 1 | L77: 15.3 | Q77: =VLOOKUP(D77,Παράμετροι!$A$4:$B$10,2) -> 0 | R77: =VLOOKUP(E77,Παράμετροι!$D$4:$E$16,2) -> 0 | S77: =VLOOKUP(F77,Παράμετροι!$D$4:$E$16,2,1) -> 0 | T77: =VLOOKUP(G77,Παράμετροι!$G$4:$H$7,2,1) -> 0 | U77: =VLOOKUP(H77,Παράμετροι!$G$4:$H$7,2,1) -> 0 | V77: =VLOOKUP(I77,Παράμετροι!$J$4:$K$7,2,1) -> 30 | W77: =VLOOKUP(J77,Παράμετροι!$M$4:$N$17,2,1) -> 0 | X77: =VLOOKUP(K77,Παράμετροι!$M$4:$N$17,2,1) -> 0 | Y77: =L77*20 -> 306 | Z77: =VLOOKUP(M77,Παράμετροι!$S$4:$T$124,2,1) -> 0 | AA77: =VLOOKUP(N77,Παράμετροι!$V$4:$W$124,2,1) -> 0 | AB77: =O77*3 -> 0 | AC77: =P77*2 -> 0 | AD77: =SUM(Q77:AC77) -> 336
A78: 58 | B78: ΠΑΠΑΔΑΚΗΣ | C78: ΝΙΟΛΑΟΣ | L78: 12.63 | N78: 9 | Q78: =VLOOKUP(D78,Παράμετροι!$A$4:$B$10,2) -> 0 | R78: =VLOOKUP(E78,Παράμετροι!$D$4:$E$16,2) -> 0 | S78: =VLOOKUP(F78,Παράμετροι!$D$4:$E$16,2,1) -> 0 | T78: =VLOOKUP(G78,Παράμετροι!$G$4:$H$7,2,1) -> 0 | U78: =VLOOKUP(H78,Παράμετροι!$G$4:$H$7,2,1) -> 0 | V78: =VLOOKUP(I78,Παράμετροι!$J$4:$K$7,2,1) -> 0 | W78: =VLOOKUP(J78,Παράμετροι!$M$4:$N$17,2,1) -> 0 | X78: =VLOOKUP(K78,Παράμετροι!$M$4:$N$17,2,1) -> 0 | Y78: =L78*20 -> 252.6 | Z78: =VLOOKUP(M78,Παράμετροι!$S$4:$T$124,2,1) -> 0 | AA78: =VLOOKUP(N78,Παράμετροι!$V$4:$W$124,2,1) -> 63 | AB78: =O78*3 -> 0 | AC78: =P78*2 -> 0 | AD78: =SUM(Q78:AC78) -> 315.6
A79: 77 | B79: ΚΟΥΤΣΑ | C79: ΜΑΡΙΑΝΘΗ | L79: 15.54 | Q79: =VLOOKUP(D79,Παράμετροι!$A$4:$B$10,2) -> 0 | R79: =VLOOKUP(E79,Παράμετροι!$D$4:$E$16,2) -> 0 | S79: =VLOOKUP(F79,Παράμετροι!$D$4:$E$16,2,1) -> 0 | T79: =VLOOKUP(G79,Παράμετροι!$G$4:$H$7,2,1) -> 0 | U79: =VLOOKUP(H79,Παράμετροι!$G$4:$H$7,2,1) -> 0 | V79: =VLOOKUP(I79,Παράμετροι!$J$4:$K$7,2,1) -> 0 | W79: =VLOOKUP(J79,Παράμετροι!$M$4:$N$17,2,1) -> 0 | X79: =VLOOKUP(K79,Παράμετροι!$M$4:$N$17,2,1) -> 0 | Y79: =L79*20 -> 310.8 | Z79: =VLOOKUP(M79,Παράμετροι!$S$4:$T$124,2,1) -> 0 | AA79: =VLOOKUP(N79,Παράμετροι!$V$4:$W$124,2,1) -> 0 | AB79: =O79*3 -> 0 | AC79: =P79*2 -> 0 | AD79: =SUM(Q79:AC79) -> 310.8
A80: 56 | B80: ΓΕΩΡΓΙΟΥ | C80: ΠΑΝΑΓΙΩΤΗΣ | L80: 14.4 | Q80: =VLOOKUP(D80,Παράμετροι!$A$4:$B$10,2) -> 0 | R80: =VLOOKUP(E80,Παράμετροι!$D$4:$E$16,2) -> 0 | S80: =VLOOKUP(F80,Παράμετροι!$D$4:$E$16,2,1) -> 0 | T80: =VLOOKUP(G80,Παράμετροι!$G$4:$H$7,2,1) -> 0 | U80: =VLOOKUP(H80,Παράμετροι!$G$4:$H$7,2,1) -> 0 | V80: =VLOOKUP(I80,Παράμετροι!$J$4:$K$7,2,1) -> 0 | W80: =VLOOKUP(J80,Παράμετροι!$M$4:$N$17,2,1) -> 0 | X80: =VLOOKUP(K80,Παράμετροι!$M$4:$N$17,2,1) -> 0 | Y80: =L80*20 -> 288 | Z80: =VLOOKUP(M80,Παράμετροι!$S$4:$T$124,2,1) -> 0 | AA80: =VLOOKUP(N80,Παράμετροι!$V$4:$W$124,2,1) -> 0 | AB80: =O80*3 -> 0 | AC80: =P80*2 -> 0 | AD80: =SUM(Q80:AC80) -> 288
A81: 68 | B81: ΚΑΡΑΓΕΩΡΓΟΣ | C81: ΠΑΝΑΓΙΩΤΗΣ | L81: 14.27 | Q81: =VLOOKUP(D81,Παράμετροι!$A$4:$B$10,2) -> 0 | R81: =VLOOKUP(E81,Παράμετροι!$D$4:$E$16,2) -> 0 | S81: =VLOOKUP(F81,Παράμετροι!$D$4:$E$16,2,1) -> 0 | T81: =VLOOKUP(G81,Παράμετροι!$G$4:$H$7,2,1) -> 0 | U81: =VLOOKUP(H81,Παράμετροι!$G$4:$H$7,2,1) -> 0 | V81: =VLOOKUP(I81,Παράμετροι!$J$4:$K$7,2,1) -> 0 | W81: =VLOOKUP(J81,Παράμετροι!$M$4:$N$17,2,1) -> 0 | X81: =VLOOKUP(K81,Παράμετροι!$M$4:$N$17,2,1) -> 0 | Y81: =L81*20 -> 285.4 | Z81: =VLOOKUP(M81,Παράμετροι!$S$4:$T$124,2,1) -> 0 | AA81: =VLOOKUP(N81,Παράμετροι!$V$4:$W$124,2,1) -> 0 | AB81: =O81*3 -> 0 | AC81: =P81*2 -> 0 | AD81: =SUM(Q81:AC81) -> 285.4
A82: 37 | B82: ΣΕΡΓΑΚΗΣ | C82: ΝΙΚΟΛΑΟΣ | L82: 14.2 | Q82: =VLOOKUP(D82,Παράμετροι!$A$4:$B$10,2) -> 0 | R82: =VLOOKUP(E82,Παράμετροι!$D$4:$E$16,2) -> 0 | S82: =VLOOKUP(F82,Παράμετροι!$D$4:$E$16,2,1) -> 0 | T82: =VLOOKUP(G82,Παράμετροι!$G$4:$H$7,2,1) -> 0 | U82: =VLOOKUP(H82,Παράμετροι!$G$4:$H$7,2,1) -> 0 | V82: =VLOOKUP(I82,Παράμετροι!$J$4:$K$7,2,1) -> 0 | W82: =VLOOKUP(J82,Παράμετροι!$M$4:$N$17,2,1) -> 0 | X82: =VLOOKUP(K82,Παράμετροι!$M$4:$N$17,2,1) -> 0 | Y82: =L82*20 -> 284 | Z82: =VLOOKUP(M82,Παράμετροι!$S$4:$T$124,2,1) -> 0 | AA82: =VLOOKUP(N82,Παράμετροι!$V$4:$W$124,2,1) -> 0 | AB82: =O82*3 -> 0 | AC82: =P82*2 -> 0 | AD82: =SUM(Q82:AC82) -> 284
A83: 46 | B83: ΣΚΕΝΤΖΟΣ | C83: ΓΡΗΓΟΡΙΟΣ | L83: 13.91 | Q83: =VLOOKUP(D83,Παράμετροι!$A$4:$B$10,2) -> 0 | R83: =VLOOKUP(E83,Παράμετροι!$D$4:$E$16,2) -> 0 | S83: =VLOOKUP(F83,Παράμετροι!$D$4:$E$16,2,1) -> 0 | T83: =VLOOKUP(G83,Παράμετροι!$G$4:$H$7,2,1) -> 0 | U83: =VLOOKUP(H83,Παράμετροι!$G$4:$H$7,2,1) -> 0 | V83: =VLOOKUP(I83,Παράμετροι!$J$4:$K$7,2,1) -> 0 | W83: =VLOOKUP(J83,Παράμετροι!$M$4:$N$17,2,1) -> 0 | X83: =VLOOKUP(K83,Παράμετροι!$M$4:$N$17,2,1) -> 0 | Y83: =L83*20 -> 278.2 | Z83: =VLOOKUP(M83,Παράμετροι!$S$4:$T$124,2,1) -> 0 | AA83: =VLOOKUP(N83,Παράμετροι!$V$4:$W$124,2,1) -> 0 | AB83: =O83*3 -> 0 | AC83: =P83*2 -> 0 | AD83: =SUM(Q83:AC83) -> 278.2
A84: 4 | B84: ΓΛΑΜΠΕΔΑΚΗΣ | C84: ΔΗΜΗΤΡΙΟΣ | D84: 0 | L84: 13.76 | Q84: =VLOOKUP(D84,Παράμετροι!$A$4:$B$10,2) -> 0 | R84: =VLOOKUP(E84,Παράμετροι!$D$4:$E$16,2) -> 0 | S84: =VLOOKUP(F84,Παράμετροι!$D$4:$E$16,2,1) -> 0 | T84: =VLOOKUP(G84,Παράμετροι!$G$4:$H$7,2,1) -> 0 | U84: =VLOOKUP(H84,Παράμετροι!$G$4:$H$7,2,1) -> 0 | V84: =VLOOKUP(I84,Παράμετροι!$J$4:$K$7,2,1) -> 0 | W84: =VLOOKUP(J84,Παράμετροι!$M$4:$N$17,2,1) -> 0 | X84: =VLOOKUP(K84,Παράμετροι!$M$4:$N$17,2,1) -> 0 | Y84: =L84*20 -> 275.2 | Z84: =VLOOKUP(M84,Παράμετροι!$S$4:$T$124,2,1) -> 0 | AA84: =VLOOKUP(N84,Παράμετροι!$V$4:$W$124,2,1) -> 0 | AB84: =O84*3 -> 0 | AC84: =P84*2 -> 0 | AD84: =SUM(Q84:AC84) -> 275.2
A85: 24 | B85: ΓΙΩΤΗΣ | C85: ΠΑΥΛΟΣ | D85: 0 | L85: 12.22 | N85: 1 | Q85: =VLOOKUP(D85,Παράμετροι!$A$4:$B$10,2) -> 0 | R85: =VLOOKUP(E85,Παράμετροι!$D$4:$E$16,2) -> 0 | S85: =VLOOKUP(F85,Παράμετροι!$D$4:$E$16,2,1) -> 0 | T85: =VLOOKUP(G85,Παράμετροι!$G$4:$H$7,2,1) -> 0 | U85: =VLOOKUP(H85,Παράμετροι!$G$4:$H$7,2,1) -> 0 | V85: =VLOOKUP(I85,Παράμετροι!$J$4:$K$7,2,1) -> 0 | W85: =VLOOKUP(J85,Παράμετροι!$M$4:$N$17,2,1) -> 0 | X85: =VLOOKUP(K85,Παράμετροι!$M$4:$N$17,2,1) -> 0 | Y85: =L85*20 -> 244.4 | Z85: =VLOOKUP(M85,Παράμετροι!$S$4:$T$124,2,1) -> 0 | AA85: =VLOOKUP(N85,Παράμετροι!$V$4:$W$124,2,1) -> 7 | AB85: =O85*3 -> 0 | AC85: =P85*2 -> 0 | AD85: =SUM(Q85:AC85) -> 251.4
A86: 76 | B86: ΓΙΑΝΝΑΚΑΚΗ | C86: ΜΑΡΙΑΝΘΗ | L86: 12.36 | Q86: =VLOOKUP(D86,Παράμετροι!$A$4:$B$10,2) -> 0 | R86: =VLOOKUP(E86,Παράμετροι!$D$4:$E$16,2) -> 0 | S86: =VLOOKUP(F86,Παράμετροι!$D$4:$E$16,2,1) -> 0 | T86: =VLOOKUP(G86,Παράμετροι!$G$4:$H$7,2,1) -> 0 | U86: =VLOOKUP(H86,Παράμετροι!$G$4:$H$7,2,1) -> 0 | V86: =VLOOKUP(I86,Παράμετροι!$J$4:$K$7,2,1) -> 0 | W86: =VLOOKUP(J86,Παράμετροι!$M$4:$N$17,2,1) -> 0 | X86: =VLOOKUP(K86,Παράμετροι!$M$4:$N$17,2,1) -> 0 | Y86: =L86*20 -> 247.2 | Z86: =VLOOKUP(M86,Παράμετροι!$S$4:$T$124,2,1) -> 0 | AA86: =VLOOKUP(N86,Παράμετροι!$V$4:$W$124,2,1) -> 0 | AB86: =O86*3 -> 0 | AC86: =P86*2 -> 0 | AD86: =SUM(Q86:AC86) -> 247.2
A87: 38 | B87: ΔΕΛΗΓΙΩΡΓΟΣ | C87: ΣΩΤΗΡΙΟΣ | L87: 12.27 | Q87: =VLOOKUP(D87,Παράμετροι!$A$4:$B$10,2) -> 0 | R87: =VLOOKUP(E87,Παράμετροι!$D$4:$E$16,2) -> 0 | S87: =VLOOKUP(F87,Παράμετροι!$D$4:$E$16,2,1) -> 0 | T87: =VLOOKUP(G87,Παράμετροι!$G$4:$H$7,2,1) -> 0 | U87: =VLOOKUP(H87,Παράμετροι!$G$4:$H$7,2,1) -> 0 | V87: =VLOOKUP(I87,Παράμετροι!$J$4:$K$7,2,1) -> 0 | W87: =VLOOKUP(J87,Παράμετροι!$M$4:$N$17,2,1) -> 0 | X87: =VLOOKUP(K87,Παράμετροι!$M$4:$N$17,2,1) -> 0 | Y87: =L87*20 -> 245.4 | Z87: =VLOOKUP(M87,Παράμετροι!$S$4:$T$124,2,1) -> 0 | AA87: =VLOOKUP(N87,Παράμετροι!$V$4:$W$124,2,1) -> 0 | AB87: =O87*3 -> 0 | AC87: =P87*2 -> 0 | AD87: =SUM(Q87:AC87) -> 245.4
Q88: =VLOOKUP(D88,Παράμετροι!$A$4:$B$10,2) -> 0 | R88: =VLOOKUP(E88,Παράμετροι!$D$4:$E$16,2) -> 0 | S88: =VLOOKUP(F88,Παράμετροι!$D$4:$E$16,2,1) -> 0 | T88: =VLOOKUP(G88,Παράμετροι!$G$4:$H$7,2,1) -> 0 | U88: =VLOOKUP(H88,Παράμετροι!$G$4:$H$7,2,1) -> 0 | V88: =VLOOKUP(I88,Παράμετροι!$J$4:$K$7,2,1) -> 0 | W88: =VLOOKUP(J88,Παράμετροι!$M$4:$N$17,2,1) -> 0 | X88: =VLOOKUP(K88,Παράμετροι!$M$4:$N$17,2,1) -> 0 | Y88: =L88*20 -> 0 | Z88: =VLOOKUP(M88,Παράμετροι!$S$4:$T$124,2,1) -> 0 | AA88: =VLOOKUP(N88,Παράμετροι!$V$4:$W$124,2,1) -> 0 | AB88: =O88*3 -> 0 | AC88: =P88*2 -> 0 | AD88: =SUM(Q88:AC88) -> 0
Q89: =VLOOKUP(D89,Παράμετροι!$A$4:$B$10,2) -> 0 | R89: =VLOOKUP(E89,Παράμετροι!$D$4:$E$16,2) -> 0 | S89: =VLOOKUP(F89,Παράμετροι!$D$4:$E$16,2,1) -> 0 | T89: =VLOOKUP(G89,Παράμετροι!$G$4:$H$7,2,1) -> 0 | U89: =VLOOKUP(H89,Παράμετροι!$G$4:$H$7,2,1) -> 0 | V89: =VLOOKUP(I89,Παράμετροι!$J$4:$K$7,2,1) -> 0 | W89: =VLOOKUP(J89,Παράμετροι!$M$4:$N$17,2,1) -> 0 | X89: =VLOOKUP(K89,Παράμετροι!$M$4:$N$17,2,1) -> 0 | Y89: =L89*20 -> 0 | Z89: =VLOOKUP(M89,Παράμετροι!$S$4:$T$124,2,1) -> 0 | AA89: =VLOOKUP(N89,Παράμετροι!$V$4:$W$124,2,1) -> 0 | AB89: =O89*3 -> 0 | AC89: =P89*2 -> 0 | AD89: =SUM(Q89:AC89) -> 0
Q90: =VLOOKUP(D90,Παράμετροι!$A$4:$B$10,2) -> 0 | R90: =VLOOKUP(E90,Παράμετροι!$D$4:$E$16,2) -> 0 | S90: =VLOOKUP(F90,Παράμετροι!$D$4:$E$16,2,1) -> 0 | T90: =VLOOKUP(G90,Παράμετροι!$G$4:$H$7,2,1) -> 0 | U90: =VLOOKUP(H90,Παράμετροι!$G$4:$H$7,2,1) -> 0 | V90: =VLOOKUP(I90,Παράμετροι!$J$4:$K$7,2,1) -> 0 | W90: =VLOOKUP(J90,Παράμετροι!$M$4:$N$17,2,1) -> 0 | X90: =VLOOKUP(K90,Παράμετροι!$M$4:$N$17,2,1) -> 0 | Y90: =L90*20 -> 0 | Z90: =VLOOKUP(M90,Παράμετροι!$S$4:$T$124,2,1) -> 0 | AA90: =VLOOKUP(N90,Παράμετροι!$V$4:$W$124,2,1) -> 0 | AB90: =O90*3 -> 0 | AC90: =P90*2 -> 0 | AD90: =SUM(Q90:AC90) -> 0
A91: 123 | Q91: =VLOOKUP(D91,Παράμετροι!$A$4:$B$10,2) -> 0 | R91: =VLOOKUP(E91,Παράμετροι!$D$4:$E$16,2) -> 0 | S91: =VLOOKUP(F91,Παράμετροι!$D$4:$E$16,2,1) -> 0 | T91: =VLOOKUP(G91,Παράμετροι!$G$4:$H$7,2,1) -> 0 | U91: =VLOOKUP(H91,Παράμετροι!$G$4:$H$7,2,1) -> 0 | V91: =VLOOKUP(I91,Παράμετροι!$J$4:$K$7,2,1) -> 0 | W91: =VLOOKUP(J91,Παράμετροι!$M$4:$N$17,2,1) -> 0 | X91: =VLOOKUP(K91,Παράμετροι!$M$4:$N$17,2,1) -> 0 | Y91: =L91*20 -> 0 | Z91: =VLOOKUP(M91,Παράμετροι!$S$4:$T$124,2,1) -> 0 | AA91: =VLOOKUP(N91,Παράμετροι!$V$4:$W$124,2,1) -> 0 | AB91: =O91*3 -> 0 | AC91: =P91*2 -> 0 | AD91: =SUM(Q91:AC91) -> 0
A92: 124 | Q92: =VLOOKUP(D92,Παράμετροι!$A$4:$B$10,2) -> 0 | R92: =VLOOKUP(E92,Παράμετροι!$D$4:$E$16,2) -> 0 | S92: =VLOOKUP(F92,Παράμετροι!$D$4:$E$16,2,1) -> 0 | T92: =VLOOKUP(G92,Παράμετροι!$G$4:$H$7,2,1) -> 0 | U92: =VLOOKUP(H92,Παράμετροι!$G$4:$H$7,2,1) -> 0 | V92: =VLOOKUP(I92,Παράμετροι!$J$4:$K$7,2,1) -> 0 | W92: =VLOOKUP(J92,Παράμετροι!$M$4:$N$17,2,1) -> 0 | X92: =VLOOKUP(K92,Παράμετροι!$M$4:$N$17,2,1) -> 0 | Y92: =L92*20 -> 0 | Z92: =VLOOKUP(M92,Παράμετροι!$S$4:$T$124,2,1) -> 0 | AA92: =VLOOKUP(N92,Παράμετροι!$V$4:$W$124,2,1) -> 0 | AB92: =O92*3 -> 0 | AC92: =P92*2 -> 0 | AD92: =SUM(Q92:AC92) -> 0
A93: 125 | Q93: =VLOOKUP(D93,Παράμετροι!$A$4:$B$10,2) -> 0 | R93: =VLOOKUP(E93,Παράμετροι!$D$4:$E$16,2) -> 0 | S93: =VLOOKUP(F93,Παράμετροι!$D$4:$E$16,2,1) -> 0 | T93: =VLOOKUP(G93,Παράμετροι!$G$4:$H$7,2,1) -> 0 | U93: =VLOOKUP(H93,Παράμετροι!$G$4:$H$7,2,1) -> 0 | V93: =VLOOKUP(I93,Παράμετροι!$J$4:$K$7,2,1) -> 0 | W93: =VLOOKUP(J93,Παράμετροι!$M$4:$N$17,2,1) -> 0 | X93: =VLOOKUP(K93,Παράμετροι!$M$4:$N$17,2,1) -> 0 | Y93: =L93*20 -> 0 | Z93: =VLOOKUP(M93,Παράμετροι!$S$4:$T$124,2,1) -> 0 | AA93: =VLOOKUP(N93,Παράμετροι!$V$4:$W$124,2,1) -> 0 | AB93: =O93*3 -> 0 | AC93: =P93*2 -> 0 | AD93: =SUM(Q93:AC93) -> 0
A94: 126 | Q94: =VLOOKUP(D94,Παράμετροι!$A$4:$B$10,2) -> 0 | R94: =VLOOKUP(E94,Παράμετροι!$D$4:$E$16,2) -> 0 | S94: =VLOOKUP(F94,Παράμετροι!$D$4:$E$16,2,1) -> 0 | T94: =VLOOKUP(G94,Παράμετροι!$G$4:$H$7,2,1) -> 0 | U94: =VLOOKUP(H94,Παράμετροι!$G$4:$H$7,2,1) -> 0 | V94: =VLOOKUP(I94,Παράμετροι!$J$4:$K$7,2,1) -> 0 | W94: =VLOOKUP(J94,Παράμετροι!$M$4:$N$17,2,1) -> 0 | X94: =VLOOKUP(K94,Παράμετροι!$M$4:$N$17,2,1) -> 0 | Y94: =L94*20 -> 0 | Z94: =VLOOKUP(M94,Παράμετροι!$S$4:$T$124,2,1) -> 0 | AA94: =VLOOKUP(N94,Παράμετροι!$V$4:$W$124,2,1) -> 0 | AB94: =O94*3 -> 0 | AC94: =P94*2 -> 0 | AD94: =SUM(Q94:AC94) -> 0
A95: 127 | Q95: =VLOOKUP(D95,Παράμετροι!$A$4:$B$10,2) -> 0 | R95: =VLOOKUP(E95,Παράμετροι!$D$4:$E$16,2) -> 0 | S95: =VLOOKUP(F95,Παράμετροι!$D$4:$E$16,2,1) -> 0 | T95: =VLOOKUP(G95,Παράμετροι!$G$4:$H$7,2,1) -> 0 | U95: =VLOOKUP(H95,Παράμετροι!$G$4:$H$7,2,1) -> 0 | V95: =VLOOKUP(I95,Παράμετροι!$J$4:$K$7,2,1) -> 0 | W95: =VLOOKUP(J95,Παράμετροι!$M$4:$N$17,2,1) -> 0 | X95: =VLOOKUP(K95,Παράμετροι!$M$4:$N$17,2,1) -> 0 | Y95: =L95*20 -> 0 | Z95: =VLOOKUP(M95,Παράμετροι!$S$4:$T$124,2,1) -> 0 | AA95: =VLOOKUP(N95,Παράμετροι!$V$4:$W$124,2,1) -> 0 | AB95: =O95*3 -> 0 | AC95: =P95*2 -> 0 | AD95: =SUM(Q95:AC95) -> 0
A96: 128 | Q96: =VLOOKUP(D96,Παράμετροι!$A$4:$B$10,2) -> 0 | R96: =VLOOKUP(E96,Παράμετροι!$D$4:$E$16,2) -> 0 | S96: =VLOOKUP(F96,Παράμετροι!$D$4:$E$16,2,1) -> 0 | T96: =VLOOKUP(G96,Παράμετροι!$G$4:$H$7,2,1) -> 0 | U96: =VLOOKUP(H96,Παράμετροι!$G$4:$H$7,2,1) -> 0 | V96: =VLOOKUP(I96,Παράμετροι!$J$4:$K$7,2,1) -> 0 | W96: =VLOOKUP(J96,Παράμετροι!$M$4:$N$17,2,1) -> 0 | X96: =VLOOKUP(K96,Παράμετροι!$M$4:$N$17,2,1) -> 0 | Y96: =L96*20 -> 0 | Z96: =VLOOKUP(M96,Παράμετροι!$S$4:$T$124,2,1) -> 0 | AA96: =VLOOKUP(N96,Παράμετροι!$V$4:$W$124,2,1) -> 0 | AB96: =O96*3 -> 0 | AC96: =P96*2 -> 0 | AD96: =SUM(Q96:AC96) -> 0
A97: 129 | Q97: =VLOOKUP(D97,Παράμετροι!$A$4:$B$10,2) -> 0 | R97: =VLOOKUP(E97,Παράμετροι!$D$4:$E$16,2) -> 0 | S97: =VLOOKUP(F97,Παράμετροι!$D$4:$E$16,2,1) -> 0 | T97: =VLOOKUP(G97,Παράμετροι!$G$4:$H$7,2,1) -> 0 | U97: =VLOOKUP(H97,Παράμετροι!$G$4:$H$7,2,1) -> 0 | V97: =VLOOKUP(I97,Παράμετροι!$J$4:$K$7,2,1) -> 0 | W97: =VLOOKUP(J97,Παράμετροι!$M$4:$N$17,2,1) -> 0 | X97: =VLOOKUP(K97,Παράμετροι!$M$4:$N$17,2,1) -> 0 | Y97: =L97*20 -> 0 | Z97: =VLOOKUP(M97,Παράμετροι!$S$4:$T$124,2,1) -> 0 | AA97: =VLOOKUP(N97,Παράμετροι!$V$4:$W$124,2,1) -> 0 | AB97: =O97*3 -> 0 | AC97: =P97*2 -> 0 | AD97: =SUM(Q97:AC97) -> 0
A98: 130 | Q98: =VLOOKUP(D98,Παράμετροι!$A$4:$B$10,2) -> 0 | R98: =VLOOKUP(E98,Παράμετροι!$D$4:$E$16,2) -> 0 | S98: =VLOOKUP(F98,Παράμετροι!$D$4:$E$16,2,1) -> 0 | T98: =VLOOKUP(G98,Παράμετροι!$G$4:$H$7,2,1) -> 0 | U98: =VLOOKUP(H98,Παράμετροι!$G$4:$H$7,2,1) -> 0 | V98: =VLOOKUP(I98,Παράμετροι!$J$4:$K$7,2,1) -> 0 | W98: =VLOOKUP(J98,Παράμετροι!$M$4:$N$17,2,1) -> 0 | X98: =VLOOKUP(K98,Παράμετροι!$M$4:$N$17,2,1) -> 0 | Y98: =L98*20 -> 0 | Z98: =VLOOKUP(M98,Παράμετροι!$S$4:$T$124,2,1) -> 0 | AA98: =VLOOKUP(N98,Παράμετροι!$V$4:$W$124,2,1) -> 0 | AB98: =O98*3 -> 0 | AC98: =P98*2 -> 0 | AD98: =SUM(Q98:AC98) -> 0
A99: 131 | Q99: =VLOOKUP(D99,Παράμετροι!$A$4:$B$10,2) -> 0 | R99: =VLOOKUP(E99,Παράμετροι!$D$4:$E$16,2) -> 0 | S99: =VLOOKUP(F99,Παράμετροι!$D$4:$E$16,2,1) -> 0 | T99: =VLOOKUP(G99,Παράμετροι!$G$4:$H$7,2,1) -> 0 | U99: =VLOOKUP(H99,Παράμετροι!$G$4:$H$7,2,1) -> 0 | V99: =VLOOKUP(I99,Παράμετροι!$J$4:$K$7,2,1) -> 0 | W99: =VLOOKUP(J99,Παράμετροι!$M$4:$N$17,2,1) -> 0 | X99: =VLOOKUP(K99,Παράμετροι!$M$4:$N$17,2,1) -> 0 | Y99: =L99*20 -> 0 | Z99: =VLOOKUP(M99,Παράμετροι!$S$4:$T$124,2,1) -> 0 | AA99: =VLOOKUP(N99,Παράμετροι!$V$4:$W$124,2,1) -> 0 | AB99: =O99*3 -> 0 | AC99: =P99*2 -> 0 | AD99: =SUM(Q99:AC99) -> 0
A100: 132 | Q100: =VLOOKUP(D100,Παράμετροι!$A$4:$B$10,2) -> 0 | R100: =VLOOKUP(E100,Παράμετροι!$D$4:$E$16,2) -> 0 | S100: =VLOOKUP(F100,Παράμετροι!$D$4:$E$16,2,1) -> 0 | T100: =VLOOKUP(G100,Παράμετροι!$G$4:$H$7,2,1) -> 0 | U100: =VLOOKUP(H100,Παράμετροι!$G$4:$H$7,2,1) -> 0 | V100: =VLOOKUP(I100,Παράμετροι!$J$4:$K$7,2,1) -> 0 | W100: =VLOOKUP(J100,Παράμετροι!$M$4:$N$17,2,1) -> 0 | X100: =VLOOKUP(K100,Παράμετροι!$M$4:$N$17,2,1) -> 0 | Y100: =L100*20 -> 0 | Z100: =VLOOKUP(M100,Παράμετροι!$S$4:$T$124,2,1) -> 0 | AA100: =VLOOKUP(N100,Παράμετροι!$V$4:$W$124,2,1) -> 0 | AB100: =O100*3 -> 0 | AC100: =P100*2 -> 0 | AD100: =SUM(Q100:AC100) -> 0
A101: 133 | Q101: =VLOOKUP(D101,Παράμετροι!$A$4:$B$10,2) -> 0 | R101: =VLOOKUP(E101,Παράμετροι!$D$4:$E$16,2) -> 0 | S101: =VLOOKUP(F101,Παράμετροι!$D$4:$E$16,2,1) -> 0 | T101: =VLOOKUP(G101,Παράμετροι!$G$4:$H$7,2,1) -> 0 | U101: =VLOOKUP(H101,Παράμετροι!$G$4:$H$7,2,1) -> 0 | V101: =VLOOKUP(I101,Παράμετροι!$J$4:$K$7,2,1) -> 0 | W101: =VLOOKUP(J101,Παράμετροι!$M$4:$N$17,2,1) -> 0 | X101: =VLOOKUP(K101,Παράμετροι!$M$4:$N$17,2,1) -> 0 | Y101: =L101*20 -> 0 | Z101: =VLOOKUP(M101,Παράμετροι!$S$4:$T$124,2,1) -> 0 | AA101: =VLOOKUP(N101,Παράμετροι!$V$4:$W$124,2,1) -> 0 | AB101: =O101*3 -> 0 | AC101: =P101*2 -> 0 | AD101: =SUM(Q101:AC101) -> 0
...

Sheet Παράμετροι
A1: 1. ΧΡΟΝΟΣ ΑΝΕΡΓΙΑΣ (100 μονάδες για 4 μήνες ανεργίας και 50 μονάδες ανα μήνα ανεργίας άνω των 4 μηνών, με ανώτατο όριο τους 6 μήνες) | D1: 2. ή 3. ΠΟΛΥΤΕΚΝΟΣ Ή ΤΕΚΝΟ ΠΟΛΥΤΕΚΝΗΣ ΟΙΚΟΓΕΝΕΙΑΣ (50 μονάδες για κάθε τέκνο) | G1: 4. ή 5. ΤΡΙΤΕΚΝΟ ή ΤΕΚΝΟ ΤΡΙΤΕΚΝΗΣ ΟΙΚΟΓΕΝΕΙΑΣ (40 μονάδες για κάθε τέκνο) | J1: 6. ΑΝΗΛΙΚΑ ΤΕΚΝΑ (30 μονάδες για κάθε ένα από τα δυο πρώτα τέκνα και 50 μονάδες για το τρίτο) | M1: 7. ή 8. ΓΟΝΕΑΣ Ή ΤΕΚΝΟ ΜΟΝΟΓΕΟΝΕΪΚΗΣ ΟΙΚΟΓΕΝΕΙΑΣ (50 μονάδες για κάθε τέκνο) | P1: 9. ΒΑΣΙΚΟΣ ΤΙΤΛΟΣ ΣΠΟΥΔΩΝ (Οι μονάδες του βασικού τίτλου με 2 δεκαδικά ψηφία για τη ΔΕ πολλαπλασιάζονται με 20) | S1: 10α. ΠΡΟΫΠΗΡΕΣΙΑ ΣΕ ΚΤΗΡΙΑ ή ΥΠΗΡΕΣΙΕΣ ΤΟΥ ΔΗΜΟΣΙΟΥ ΤΟΜΕΑ (8 μονάδες ανά μήνα εμπειρίας και έως 120 μήνες) | V1: 10β. ΠΡΟΫΠΗΡΕΣΙΑ ΣΤΟΝ ΙΔΙΩΤΙΚΟ ΤΟΜΕΑ (7 μονάδες ανά μήνα εμπειρίας και έως 120 μήνες) | Y1: 11. ΑΝΑΠΗΡΙΑ ΥΠΟΨΗΦΙΟΥ ΜΕ ΠΟΣΟΣΤΟ ΤΟΥΛΑΧΙΣΤΟΝ 50% (το ποσοστό αναπηρίας πολλαπλασιάζεται με το συντελεστή "3") | AC1: 12. ΑΝΑΠΗΡΙΑ ΓΟΝΕΑ, ΤΕΚΝΟΥ, ΑΔΕΛΦΟΥ ή ΣΥΖΥΓΟΥ (το ποσοστό αναπηρίας πολλαπλασιάζεται με το συντελεστή "2")
A3: μήνες | B3: μονάδες | D3: αριθμός τέκνων | E3: μονάδες | G3: αριθμός τέκνων | H3: μονάδες | J3: αριθμός τέκνων | K3: μονάδες | M3: αριθμός τέκνων | N3: μονάδες | P3: βαθμος | Q3: μονάδες | S3: μήνες προϋπηρεσίας | T3: μονάδες | V3: μήνες προϋπηρεσίας | W3: μονάδες | Y3: ποσοστό αναπηρίας | AA3: μονάδες | AC3: ποσοστό αναπηρίας | AE3: μονάδες
A4: 0 | B4: 0 | D4: 0 | E4: 0 | G4: 0 | H4: 0 | J4: 0 | K4: 0 | M4: 0 | N4: 0 | P4: 10 | Q4: 200 | S4: 0 | T4: 0 | V4: 0 | W4: 0 | Y4: 50 | Z4: 3 | AA4: =Y4*Z4 -> 150 | AC4: 50 | AD4: 2 | AE4: =AC4*AD4 -> 100
A5: 1 | B5: 0 | D5: 1 | E5: 0 | G5: 1 | H5: 40 | J5: 1 | K5: 30 | M5: 1 | N5: =+M5*50 -> 50 | P5: 10.01 | Q5: 200.2 | S5: 1 | T5: 8 | V5: 1 | W5: 7 | Y5: 51 | Z5: 3 | AA5: =Y5*Z5 -> 153 | AC5: 51 | AD5: 2 | AE5: =AC5*AD5 -> 102
A6: 2 | B6: 0 | D6: 2 | E6: 0 | G6: 2 | H6: 80 | J6: 2 | K6: 60 | M6: 2 | N6: =+M6*50 -> 100 | P6: 10.02 | Q6: 200.4 | S6: 2 | T6: =+S6*8 -> 16 | V6: 2 | W6: =+V6*7 -> 14 | Y6: 52 | Z6: 3 | AA6: =Y6*Z6 -> 156 | AC6: 52 | AD6: 2 | AE6: =AC6*AD6 -> 104
A7: 3 | B7: 0 | D7: 3 | E7: =+D7*50 -> 150 | G7: 3 | H7: 120 | J7: 3 | K7: 110 | M7: 3 | N7: =+M7*50 -> 150 | P7: 10.03 | Q7: 200.6 | S7: 3 | T7: =+S7*8 -> 24 | V7: 3 | W7: =+V7*7 -> 21 | Y7: 53 | Z7: 3 | AA7: =Y7*Z7 -> 159 | AC7: 53 | AD7: 2 | AE7: =AC7*AD7 -> 106
A8: 4 | B8: 200 | D8: 4 | E8: =+D8*50 -> 200 | M8: 4 | N8: =+M8*50 -> 200 | P8: 10.04 | Q8: 200.8 | S8: 4 | T8: =+S8*8 -> 32 | V8: 4 | W8: =+V8*7 -> 28 | Y8: 54 | Z8: 3 | AA8: =Y8*Z8 -> 162 | AC8: 54 | AD8: 2 | AE8: =AC8*AD8 -> 108
A9: 5 | B9: 250 | D9: 5 | E9: =+D9*50 -> 250 | M9: 5 | N9: =+M9*50 -> 250 | P9: 10.05 | Q9: 201 | S9: 5 | T9: =+S9*8 -> 40 | V9: 5 | W9: =+V9*7 -> 35 | Y9: 55 | Z9: 3 | AA9: =Y9*Z9 -> 165 | AC9: 55 | AD9: 2 | AE9: =AC9*AD9 -> 110
A10: 6 | B10: 300 | D10: 6 | E10: =+D10*50 -> 300 | M10: 6 | N10: =+M10*50 -> 300 | P10: 10.06 | Q10: 201.2 | S10: 6 | T10: =+S10*8 -> 48 | V10: 6 | W10: =+V10*7 -> 42 | Y10: 56 | Z10: 3 | AA10: =Y10*Z10 -> 168 | AC10: 56 | AD10: 2 | AE10: =AC10*AD10 -> 112
D11: 7 | E11: =+D11*50 -> 350 | M11: 7 | N11: =+M11*50 -> 350 | P11: 10.07 | Q11: 201.4 | S11: 7 | T11: =+S11*8 -> 56 | V11: 7 | W11: =+V11*7 -> 49 | Y11: 57 | Z11: 3 | AA11: =Y11*Z11 -> 171 | AC11: 57 | AD11: 2 | AE11: =AC11*AD11 -> 114
D12: 8 | E12: =+D12*50 -> 400 | M12: 8 | N12: =+M12*50 -> 400 | P12: 10.08 | Q12: 201.6 | S12: 8 | T12: =+S12*8 -> 64 | V12: 8 | W12: =+V12*7 -> 56 | Y12: 58 | Z12: 3 | AA12: =Y12*Z12 -> 174 | AC12: 58 | AD12: 2 | AE12: =AC12*AD12 -> 116
D13: 9 | E13: =+D13*50 -> 450 | M13: 9 | N13: =+M13*50 -> 450 | P13: 10.09 | Q13: 201.8 | S13: 9 | T13: =+S13*8 -> 72 | V13: 9 | W13: =+V13*7 -> 63 | Y13: 59 | Z13: 3 | AA13: =Y13*Z13 -> 177 | AC13: 59 | AD13: 2 | AE13: =AC13*AD13 -> 118
D14: 10 | E14: =+D14*50 -> 500 | M14: 10 | N14: =+M14*50 -> 500 | P14: 10.1 | Q14: 202 | S14: 10 | T14: =+S14*8 -> 80 | V14: 10 | W14: =+V14*7 -> 70 | Y14: 60 | Z14: 3 | AA14: =Y14*Z14 -> 180 | AC14: 60 | AD14: 2 | AE14: =AC14*AD14 -> 120
D15: 11 | E15: =+D15*50 -> 550 | M15: 11 | N15: =+M15*50 -> 550 | P15: 10.11 | Q15: 202.2 | S15: 11 | T15: =+S15*8 -> 88 | V15: 11 | W15: =+V15*7 -> 77 | Y15: 61 | Z15: 3 | AA15: =Y15*Z15 -> 183 | AC15: 61 | AD15: 2 | AE15: =AC15*AD15 -> 122
D16: 12 | E16: =+D16*50 -> 600 | M16: 12 | N16: =+M16*50 -> 600 | P16: 10.12 | Q16: 202.4 | S16: 12 | T16: =+S16*8 -> 96 | V16: 12 | W16: =+V16*7 -> 84 | Y16: 62 | Z16: 3 | AA16: =Y16*Z16 -> 186 | AC16: 62 | AD16: 2 | AE16: =AC16*AD16 -> 124
M17: 13 | N17: =+M17*50 -> 650 | P17: 10.13 | Q17: 202.6 | S17: 13 | T17: =+S17*8 -> 104 | V17: 13 | W17: =+V17*7 -> 91 | Y17: 63 | Z17: 3 | AA17: =Y17*Z17 -> 189 | AC17: 63 | AD17: 2 | AE17: =AC17*AD17 -> 126
P18: 10.14 | Q18: 202.8 | S18: 14 | T18: =+S18*8 -> 112 | V18: 14 | W18: =+V18*7 -> 98 | Y18: 64 | Z18: 3 | AA18: =Y18*Z18 -> 192 | AC18: 64 | AD18: 2 | AE18: =AC18*AD18 -> 128
P19: 10.15 | Q19: 203 | S19: 15 | T19: =+S19*8 -> 120 | V19: 15 | W19: =+V19*7 -> 105 | Y19: 65 | Z19: 3 | AA19: =Y19*Z19 -> 195 | AC19: 65 | AD19: 2 | AE19: =AC19*AD19 -> 130
P20: 10.16 | Q20: 203.2 | S20: 16 | T20: =+S20*8 -> 128 | V20: 16 | W20: =+V20*7 -> 112 | Y20: 66 | Z20: 3 | AA20: =Y20*Z20 -> 198 | AC20: 66 | AD20: 2 | AE20: =AC20*AD20 -> 132
P21: 10.17 | Q21: 203.4 | S21: 17 | T21: =+S21*8 -> 136 | V21: 17 | W21: =+V21*7 -> 119 | Y21: 67 | Z21: 3 | AA21: =Y21*Z21 -> 201 | AC21: 67 | AD21: 2 | AE21: =AC21*AD21 -> 134
P22: 10.18 | Q22: 203.6 | S22: 18 | T22: =+S22*8 -> 144 | V22: 18 | W22: =+V22*7 -> 126 | Y22: 68 | Z22: 3 | AA22: =Y22*Z22 -> 204 | AC22: 68 | AD22: 2 | AE22: =AC22*AD22 -> 136
P23: 10.19 | Q23: 203.8 | S23: 19 | T23: =+S23*8 -> 152 | V23: 19 | W23: =+V23*7 -> 133 | Y23: 69 | Z23: 3 | AA23: =Y23*Z23 -> 207 | AC23: 69 | AD23: 2 | AE23: =AC23*AD23 -> 138
P24: 10.2 | Q24: 204 | S24: 20 | T24: =+S24*8 -> 160 | V24: 20 | W24: =+V24*7 -> 140 | Y24: 70 | Z24: 3 | AA24: =Y24*Z24 -> 210 | AC24: 70 | AD24: 2 | AE24: =AC24*AD24 -> 140
P25: 10.21 | Q25: 204.2 | S25: 21 | T25: =+S25*8 -> 168 | V25: 21 | W25: =+V25*7 -> 147 | Y25: 71 | Z25: 3 | AA25: =Y25*Z25 -> 213 | AC25: 71 | AD25: 2 | AE25: =AC25*AD25 -> 142
P26: 10.22 | Q26: 204.4 | S26: 22 | T26: =+S26*8 -> 176 | V26: 22 | W26: =+V26*7 -> 154 | Y26: 72 | Z26: 3 | AA26: =Y26*Z26 -> 216 | AC26: 72 | AD26: 2 | AE26: =AC26*AD26 -> 144
P27: 10.23 | Q27: 204.6 | S27: 23 | T27: =+S27*8 -> 184 | V27: 23 | W27: =+V27*7 -> 161 | Y27: 73 | Z27: 3 | AA27: =Y27*Z27 -> 219 | AC27: 73 | AD27: 2 | AE27: =AC27*AD27 -> 146
P28: 10.24 | Q28: 204.8 | S28: 24 | T28: =+S28*8 -> 192 | V28: 24 | W28: =+V28*7 -> 168 | Y28: 74 | Z28: 3 | AA28: =Y28*Z28 -> 222 | AC28: 74 | AD28: 2 | AE28: =AC28*AD28 -> 148
P29: 10.25 | Q29: 205 | S29: 25 | T29: =+S29*8 -> 200 | V29: 25 | W29: =+V29*7 -> 175 | Y29: 75 | Z29: 3 | AA29: =Y29*Z29 -> 225 | AC29: 75 | AD29: 2 | AE29: =AC29*AD29 -> 150
... P54: 10.5 | Q54: 210 | S54: 50 | T54: =+S54*8 -> 400 | V54: 50 | W54: =+V54*7 -> 350 | Y54: 100 | Z54: 3 | AA54: =Y54*Z54 -> 300 | AC54: 100 | AD54: 2 | AE54: =AC54*AD54 -> 200
P55: 10.51 | Q55: 210.2 | S55: 51 | T55: =+S55*8 -> 408 | V55: 51 | W55: =+V55*7 -> 357
P56: 10.52 | Q56: 210.4 | S56: 52 | T56: =+S56*8 -> 416 | V56: 52 | W56: =+V56*7 -> 364
P57: 10.53 | Q57: 210.6 | S57: 53 | T57: =+S57*8 -> 424 | V57: 53 | W57: =+V57*7 -> 371
P58: 10.54 | Q58: 210.8 | S58: 54 | T58: =+S58*8 -> 432 | V58: 54 | W58: =+V58*7 -> 378
P59: 10.55 | Q59: 211 | S59: 55 | T59: =+S59*8 -> 440 | V59: 55 | W59: =+V59*7 -> 385
P60: 10.56 | Q60: 211.2 | S60: 56 | T60: =+S60*8 -> 448 | V60: 56 | W60: =+V60*7 -> 392
P61: 10.57 | Q61: 211.4 | S61: 57 | T61: =+S61*8 -> 456 | V61: 57 | W61: =+V61*7 -> 399
P62: 10.58 | Q62: 211.6 | S62: 58 | T62: =+S62*8 -> 464 | V62: 58 | W62: =+V62*7 -> 406
P63: 10.59 | Q63: 211.8 | S63: 59 | T63: =+S63*8 -> 472 | V63: 59 | W63: =+V63*7 -> 413
P64: 10.6 | Q64: 212 | S64: 60 | T64: =+S64*8 -> 480 | V64: 60 | W64: =+V64*7 -> 420
P65: 10.61 | Q65: 212.2 | S65: 61 | T65: =+S65*8 -> 488 | V65: 61 | W65: =+V65*7 -> 427
P66: 10.62 | Q66: 212.4 | S66: 62 | T66: =+S66*8 -> 496 | V66: 62 | W66: =+V66*7 -> 434
... P124: 11.2 | Q124: 224 | S124: 120 | T124: =+S124*8 -> 960 | V124: 120 | W124: =+V124*7 -> 840
P125: 11.21 | Q125: 224.2
P126: 11.22 | Q126: 224.4
P127: 11.23 | Q127: 224.6
P128: 11.24 | Q128: 224.8
P129: 11.25 | Q129: 225
P130: 11.26 | Q130: 225.2
P131: 11.27 | Q131: 225.4
P132: 11.28 | Q132: 225.6
P133: 11.29 | Q133: 225.8
P134: 11.3 | Q134: 226
P135: 11.31 | Q135: 226.2
P136: 11.32 | Q136: 226.4
... P1004: 20 | Q1004: 400
