Workbook

Sheet Πίνακας Δεδομένων
C1: ΠΙΝΑΚΑΣ ΚΑΤΑΤΑΞΗΣ ΠΡΟΚΗΡΥΞΗΣ ΥΠ. ΥΓΕΙΑΣ ΣοΧ 1/17 ΔΕ
A3: Α.Μ. | B3: ΕΠΩΝΥΜΟ | C3: ΟΝΟΜΑ | D3: ΚΡΙΤΗΡΙΑ | Q3: ΒΑΘΜΟΛΟΓΙΑ | AD3: sort ΣΥΝΟΛΟ ΜΟΝΑΔΩΝ | AE3: Σειρά Κατάταξης
D4: ΧΡΟΝΟΣ ΑΝΕΡΓΙΑΣ (σε μήνες) | E4: ΠΟΛΥΤΕΚΝΟΣ (αριθμ. τέκνων) | F4: ΤΕΚΝΟ ΠΟΛΥΤΕΚΝΗΣ ΟΙΚΟΓΕΝΕΙΑΣ (αρ. τέκνων) | G4: ΤΡΙΤΕΚΝΟΣΣ (αριθμ. Τεκνων) | H4: ΤΕΚΝΟ ΤΡΙΤΕΚΝΗΣ (αριθμ. Τέκνων) | I4: ΑΝΗΛΙΚΑ ΤΕΚΝΑ (αριθμ. ανήλικων τέκνων) | J4: ΓΟΝΕΑΣ ΜΟΝΟΓΟΝΕΙΚΗΣ ΟΙΚΟΓΕΝΕΙΑΣ (αριθμ. τέκνων) | K4: ΤΕΚΝΟ ΜΟΝΟΓΟΝΕΙΚΗΣ ΟΙΚΟΓΕΝΕΙΑΣ (αρ. τέκνων) | L4: ΤΙΛΟΣ ΣΠΟΥΔΩΝ (για ΔΕ κατηγορία) | M4: ΕΜΠΕΙΡΙΑ ΣΤΟ ΔΗΜΟΣΙΟ (μήνες) | N4: ΕΜΠΕΙΡΙΑ ΣΤΟΝ ΙΔΙΩΤΙΚΟ (μήνες) | O4: ΑΝΑΠΗΡΙΑ ΥΠΟΨΗΦΙΟΥ (ποσοστό) | P4: ΑΝΑΠΗΡΙΑ ΓΟΝΕΑ, ΤΕΚΝΟΥ, ΑΔΕΛΦΟΥ ΣΥΖΥΓΟΥ (ποσοστό) | Q4: ΜΟΝΑΔΕΣ (1) | R4: ΜΟΝΑΔΕΣ (2) | S4: ΜΟΝΑΔΕΣ (3) | T4: ΜΟΝΑΔΕΣ (4) | U4: ΜΟΝΑΔΕΣ (5) | V4: ΜΟΝΑΔΕΣ (6) | W4: ΜΟΝΑΔΕΣ (7) | X4: ΜΟΝΑΔΕΣ (8) | Y4: ΜΟΝΑΔΕΣ (9) | Z4: ΜΟΝΑΔΕΣ (10) | AA4: ΜΟΝΑΔΕΣ (11) | AB4: ΜΟΝΑΔΕΣ (12) | AC4: ΜΟΝΑΔΕΣ (13)
D5: (1) | E5: (2) | F5: (3) | G5: (4) | H5: (5) | I5: (6) | J5: (7) | K5: (8) | L5: (9) | M5: (10) | N5: (11) | O5: (12) | P5: (13)
A6: 41 | B6: ΣΕΜΕΡΤΖΙΔΗΣ | C6: ΠΑΝΑΓΙΩΤΗΣ | D6: 6 | F6: 4 | I6: 2 | L6: 12.08 | M6: 6 | N6: 99 | Q6: =VLOOKUP(D6,Παράμετροι!$A$4:$B$10,2) -> 300 | R6: =VLOOKUP(E6,Παράμετροι!$D$4:$E$16,2) -> 0 | S6: =VLOOKUP(F6,Παράμετροι!$D$4:$E$16,2,1) -> 200 | T6: =VLOOKUP(G6,Παράμετροι!$G$4:$H$7,2,1) -> 0 | U6: =VLOOKUP(H6,Παράμετροι!$G$4:$H$7,2,1) -> 0 | V6: =VLOOKUP(I6,Παράμετροι!$J$4:$K$7,2,1) -> 60 | W6: =VLOOKUP(J6,Παράμετροι!$M$4:$N$17,2,1) -> 0 | X6: =VLOOKUP(K6,Παράμετροι!$M$4:$N$17,2,1) -> 0 | Y6: =L6*20 -> 241.6 | Z6: =VLOOKUP(M6,Παράμετροι!$S$4:$T$124,2,1) -> 48 | AA6: =VLOOKUP(N6,Παράμετροι!$V$4:$W$124,2,1) -> 693 | AB6: =O6*3 -> 0 | AC6: =P6*2 -> 0 | AD6: =SUM(Q6:AC6) -> 1542.6 | AE6: 1
A7: 42 | B7: ΔΗΜΑΣ | C7: ΠΕΤΡΟΣ | D7: 4 | I7: 1 | L7: 14.2 | M7: 120 | N7: 8 | Q7: =VLOOKUP(D7,Παράμετροι!$A$4:$B$10,2) -> 200 | R7: =VLOOKUP(E7,Παράμετροι!$D$4:$E$16,2) -> 0 | S7: =VLOOKUP(F7,Παράμετροι!$D$4:$E$16,2,1) -> 0 | T7: =VLOOKUP(G7,Παράμετροι!$G$4:$H$7,2,1) -> 0 | U7: =VLOOKUP(H7,Παράμετροι!$G$4:$H$7,2,1) -> 0 | V7: =VLOOKUP(I7,Παράμετροι!$J$4:$K$7,2,1) -> 30 | W7: =VLOOKUP(J7,Παράμετροι!$M$4:$N$17,2,1) -> 0 | X7: =VLOOKUP(K7,Παράμετροι!$M$4:$N$17,2,1) -> 0 | Y7: =L7*20 -> 284 | Z7: =VLOOKUP(M7,Παράμετροι!$S$4:$T$124,2,1) -> 960 | AA7: =VLOOKUP(N7,Παράμετροι!$V$4:$W$124,2,1) -> 56 | AB7: =O7*3 -> 0 | AC7: =P7*2 -> 0 | AD7: =SUM(Q7:AC7) -> 1530 | AE7: 2 | BA7: ΓΝΑ ΕΥΑΓΓΕΛΙΣΜΟΣ ΜΕΘ
A8: 57 | B8: ΞΕΝΟΔΟΧΙΔΗΣ | C8: ΚΩΝΣΤΑΝΤΙΝΟΣ | D8: 6 | I8: 2 | L8: 12.58 | N8: 120 | Q8: =VLOOKUP(D8,Παράμετροι!$A$4:$B$10,2) -> 300 | R8: =VLOOKUP(E8,Παράμετροι!$D$4:$E$16,2) -> 0 | S8: =VLOOKUP(F8,Παράμετροι!$D$4:$E$16,2,1) -> 0 | T8: =VLOOKUP(G8,Παράμετροι!$G$4:$H$7,2,1) -> 0 | U8: =VLOOKUP(H8,Παράμετροι!$G$4:$H$7,2,1) -> 0 | V8: =VLOOKUP(I8,Παράμετροι!$J$4:$K$7,2,1) -> 60 | W8: =VLOOKUP(J8,Παράμετροι!$M$4:$N$17,2,1) -> 0 | X8: =VLOOKUP(K8,Παράμετροι!$M$4:$N$17,2,1) -> 0 | Y8: =L8*20 -> 251.6 | Z8: =VLOOKUP(M8,Παράμετροι!$S$4:$T$124,2,1) -> 0 | AA8: =VLOOKUP(N8,Παράμετροι!$V$4:$W$124,2,1) -> 840 | AB8: =O8*3 -> 0 | AC8: =P8*2 -> 0 | AD8: =SUM(Q8:AC8) -> 1451.6 | AE8: 3 | BA8: ΓΝ ΑΓΙΑ ΣΟΦΙΑ ΜΑΦ
A9: 35 | B9: ΠΕΤΡΟΠΟΥΛΟΣ | C9: ΔΗΜΗΤΡΙΟΣ | D9: 6 | L9: 15.1 | N9: 120 | Q9: =VLOOKUP(D9,Παράμετροι!$A$4:$B$10,2) -> 300 | R9: =VLOOKUP(E9,Παράμετροι!$D$4:$E$16,2) -> 0 | S9: =VLOOKUP(F9,Παράμετροι!$D$4:$E$16,2,1) -> 0 | T9: =VLOOKUP(G9,Παράμετροι!$G$4:$H$7,2,1) -> 0 | U9: =VLOOKUP(H9,Παράμετροι!$G$4:$H$7,2,1) -> 0 | V9: =VLOOKUP(I9,Παράμετροι!$J$4:$K$7,2,1) -> 0 | W9: =VLOOKUP(J9,Παράμετροι!$M$4:$N$17,2,1) -> 0 | X9: =VLOOKUP(K9,Παράμετροι!$M$4:$N$17,2,1) -> 0 | Y9: =L9*20 -> 302 | Z9: =VLOOKUP(M9,Παράμετροι!$S$4:$T$124,2,1) -> 0 | AA9: =VLOOKUP(N9,Παράμετροι!$V$4:$W$124,2,1) -> 840 | AB9: =O9*3 -> 0 | AC9: =P9*2 -> 0 | AD9: =SUM(Q9:AC9) -> 1442 | AE9: 4 | BA9: ΓΝ ΠΑΙΔΩΝ ΠΕΝΤΕΛΗΣ ΜΕΘ
A10: 5 | B10: ΚΟΤΣΩΝΗΣ | C10: ΕΥΑΓΓΕΛΟΣ | D10: 6 | L10: 18.58 | M10: 24 | N10: 68 | Q10: =VLOOKUP(D10,Παράμετροι!$A$4:$B$10,2) -> 300 | R10: =VLOOKUP(E10,Παράμετροι!$D$4:$E$16,2) -> 0 | S10: =VLOOKUP(F10,Παράμετροι!$D$4:$E$16,2,1) -> 0 | T10: =VLOOKUP(G10,Παράμετροι!$G$4:$H$7,2,1) -> 0 | U10: =VLOOKUP(H10,Παράμετροι!$G$4:$H$7,2,1) -> 0 | V10: =VLOOKUP(I10,Παράμετροι!$J$4:$K$7,2,1) -> 0 | W10: =VLOOKUP(J10,Παράμετροι!$M$4:$N$17,2,1) -> 0 | X10: =VLOOKUP(K10,Παράμετροι!$M$4:$N$17,2,1) -> 0 | Y10: =L10*20 -> 371.6 | Z10: =VLOOKUP(M10,Παράμετροι!$S$4:$T$124,2,1) -> 192 | AA10: =VLOOKUP(N10,Παράμετροι!$V$4:$W$124,2,1) -> 476 | AB10: =O10*3 -> 0 | AC10: =P10*2 -> 0 | AD10: =SUM(Q10:AC10) -> 1339.6 | AE10: 5 | AY10: ΝΑΙ | BA10: ΓΟΝΚ ΜΕΘ
A11: 19 | B11: ΝΤΟΥΝΙΑΣ | C11: ΧΑΡΑΛΑΜΠΟΣ | D11: 6 | F11: 4 | L11: 12.46 | N11: 75 | Q11: =VLOOKUP(D11,Παράμετροι!$A$4:$B$10,2) -> 300 | R11: =VLOOKUP(E11,Παράμετροι!$D$4:$E$16,2) -> 0 | S11: =VLOOKUP(F11,Παράμετροι!$D$4:$E$16,2,1) -> 200 | T11: =VLOOKUP(G11,Παράμετροι!$G$4:$H$7,2,1) -> 0 | U11: =VLOOKUP(H11,Παράμετροι!$G$4:$H$7,2,1) -> 0 | V11: =VLOOKUP(I11,Παράμετροι!$J$4:$K$7,2,1) -> 0 | W11: =VLOOKUP(J11,Παράμετροι!$M$4:$N$17,2,1) -> 0 | X11: =VLOOKUP(K11,Παράμετροι!$M$4:$N$17,2,1) -> 0 | Y11: =L11*20 -> 249.2 | Z11: =VLOOKUP(M11,Παράμετροι!$S$4:$T$124,2,1) -> 0 | AA11: =VLOOKUP(N11,Παράμετροι!$V$4:$W$124,2,1) -> 525 | AB11: =O11*3 -> 0 | AC11: =P11*2 -> 0 | AD11: =SUM(Q11:AC11) -> 1274.2 | AE11: 6 | AY11: ΌΧΙ | BA11: ΣΩΤΗΡΙΑ ΜΕΘ
A12: 62 | B12: ΤΣΙΓΓΕΛΗ | C12: ΛΑΜΠΡΙΝΗ | L12: 14.3 | N12: 120 | Q12: =VLOOKUP(D12,Παράμετροι!$A$4:$B$10,2) -> 0 | R12: =VLOOKUP(E12,Παράμετροι!$D$4:$E$16,2) -> 0 | S12: =VLOOKUP(F12,Παράμετροι!$D$4:$E$16,2,1) -> 0 | T12: =VLOOKUP(G12,Παράμετροι!$G$4:$H$7,2,1) -> 0 | U12: =VLOOKUP(H12,Παράμετροι!$G$4:$H$7,2,1) -> 0 | V12: =VLOOKUP(I12,Παράμετροι!$J$4:$K$7,2,1) -> 0 | W12: =VLOOKUP(J12,Παράμετροι!$M$4:$N$17,2,1) -> 0 | X12: =VLOOKUP(K12,Παράμετροι!$M$4:$N$17,2,1) -> 0 | Y12: =L12*20 -> 286 | Z12: =VLOOKUP(M12,Παράμετροι!$S$4:$T$124,2,1) -> 0 | AA12: =VLOOKUP(N12,Παράμετροι!$V$4:$W$124,2,1) -> 840 | AB12: =O12*3 -> 0 | AC12: =P12*2 -> 0 | AD12: =SUM(Q12:AC12) -> 1126 | AE12: 7 | BA12: ΕΛΠΙΣ ΜΕΘ
A13: 51 | B13: ΧΡΙΣΤΟΠΟΥΛΟΣ | C13: ΓΕΩΡΓΙΟΣ | L13: 14.23 | N13: 120 | Q13: =VLOOKUP(D13,Παράμετροι!$A$4:$B$10,2) -> 0 | R13: =VLOOKUP(E13,Παράμετροι!$D$4:$E$16,2) -> 0 | S13: =VLOOKUP(F13,Παράμετροι!$D$4:$E$16,2,1) -> 0 | T13: =VLOOKUP(G13,Παράμετροι!$G$4:$H$7,2,1) -> 0 | U13: =VLOOKUP(H13,Παράμετροι!$G$4:$H$7,2,1) -> 0 | V13: =VLOOKUP(I13,Παράμετροι!$J$4:$K$7,2,1) -> 0 | W13: =VLOOKUP(J13,Παράμετροι!$M$4:$N$17,2,1) -> 0 | X13: =VLOOKUP(K13,Παράμετροι!$M$4:$N$17,2,1) -> 0 | Y13: =L13*20 -> 284.6 | Z13: =VLOOKUP(M13,Παράμετροι!$S$4:$T$124,2,1) -> 0 | AA13: =VLOOKUP(N13,Παράμετροι!$V$4:$W$124,2,1) -> 840 | AB13: =O13*3 -> 0 | AC13: =P13*2 -> 0 | AD13: =SUM(Q13:AC13) -> 1124.6 | AE13: 8 | BA13: ΓΕΝΝΗΜΑΤΑΣ ΑΘΗΝΑ ΜΕΘ
A14: 8 | B14: ΤΟΜΑΡΑΣ | C14: ΕΠΑΜΕΙΝΩΝΤΑΣ | D14: 0 | F14: 4 | I14: 1 | L14: 13.3 | N14: 89 | Q14: =VLOOKUP(D14,Παράμετροι!$A$4:$B$10,2) -> 0 | R14: =VLOOKUP(E14,Παράμετροι!$D$4:$E$16,2) -> 0 | S14: =VLOOKUP(F14,Παράμετροι!$D$4:$E$16,2,1) -> 200 | T14: =VLOOKUP(G14,Παράμετροι!$G$4:$H$7,2,1) -> 0 | U14: =VLOOKUP(H14,Παράμετροι!$G$4:$H$7,2,1) -> 0 | V14: =VLOOKUP(I14,Παράμετροι!$J$4:$K$7,2,1) -> 30 | W14: =VLOOKUP(J14,Παράμετροι!$M$4:$N$17,2,1) -> 0 | X14: =VLOOKUP(K14,Παράμετροι!$M$4:$N$17,2,1) -> 0 | Y14: =L14*20 -> 266 | Z14: =VLOOKUP(M14,Παράμετροι!$S$4:$T$124,2,1) -> 0 | AA14: =VLOOKUP(N14,Παράμετροι!$V$4:$W$124,2,1) -> 623 | AB14: =O14*3 -> 0 | AC14: =P14*2 -> 0 | AD14: =SUM(Q14:AC14) -> 1119 | AE14: 9 | BA14: ΑΓ. ΚΥΡΙΑΚΟΥ ΜΕΘ
A15: 31 | B15: ΓΚΙΟΥΛΦΕΣΗΣ | C15: ΠΑΝΑΓΙΩΤΗΣ | D15: 0 | L15: 13.42 | N15: 119 | Q15: =VLOOKUP(D15,Παράμετροι!$A$4:$B$10,2) -> 0 | R15: =VLOOKUP(E15,Παράμετροι!$D$4:$E$16,2) -> 0 | S15: =VLOOKUP(F15,Παράμετροι!$D$4:$E$16,2,1) -> 0 | T15: =VLOOKUP(G15,Παράμετροι!$G$4:$H$7,2,1) -> 0 | U15: =VLOOKUP(H15,Παράμετροι!$G$4:$H$7,2,1) -> 0 | V15: =VLOOKUP(I15,Παράμετροι!$J$4:$K$7,2,1) -> 0 | W15: =VLOOKUP(J15,Παράμετροι!$M$4:$N$17,2,1) -> 0 | X15: =VLOOKUP(K15,Παράμετροι!$M$4:$N$17,2,1) -> 0 | Y15: =L15*20 -> 268.4 | Z15: =VLOOKUP(M15,Παράμετροι!$S$4:$T$124,2,1) -> 0 | AA15: =VLOOKUP(N15,Παράμετροι!$V$4:$W$124,2,1) -> 833 | AB15: =O15*3 -> 0 | AC15: =P15*2 -> 0 | AD15: =SUM(Q15:AC15) -> 1101.4 | AE15: 10 | BA15: ΑΓ. ΚΥΡΙΑΚΟΥ ΜΕΝΝ
A16: 67 | B16: ΜΟΥΡΕΛΑΤΟΥ | C16: ΑΝΝΑ | D16: 6 | L16: 18.61 | N16: 61 | Q16: =VLOOKUP(D16,Παράμετροι!$A$4:$B$10,2) -> 300 | R16: =VLOOKUP(E16,Παράμετροι!$D$4:$E$16,2) -> 0 | S16: =VLOOKUP(F16,Παράμετροι!$D$4:$E$16,2,1) -> 0 | T16: =VLOOKUP(G16,Παράμετροι!$G$4:$H$7,2,1) -> 0 | U16: =VLOOKUP(H16,Παράμετροι!$G$4:$H$7,2,1) -> 0 | V16: =VLOOKUP(I16,Παράμετροι!$J$4:$K$7,2,1) -> 0 | W16: =VLOOKUP(J16,Παράμετροι!$M$4:$N$17,2,1) -> 0 | X16: =VLOOKUP(K16,Παράμετροι!$M$4:$N$17,2,1) -> 0 | Y16: =L16*20 -> 372.2 | Z16: =VLOOKUP(M16,Παράμετροι!$S$4:$T$124,2,1) -> 0 | AA16: =VLOOKUP(N16,Παράμετροι!$V$4:$W$124,2,1) -> 427 | AB16: =O16*3 -> 0 | AC16: =P16*2 -> 0 | AD16: =SUM(Q16:AC16) -> 1099.2 | BA16: ΑΓ. ΚΥΡΙΑΚΟΥ
A17: 80 | B17: ΔΕΡΤΟΥΖΟΥ | C17: ΑΙΚΑΤΕΡΙΝΗ | D17: 6 | I17: 2 | J17: 2 | L17: 16.3 | M17: 5 | N17: 39 | Q17: =VLOOKUP(D17,Παράμετροι!$A$4:$B$10,2) -> 300 | R17: =VLOOKUP(E17,Παράμετροι!$D$4:$E$16,2) -> 0 | S17: =VLOOKUP(F17,Παράμετροι!$D$4:$E$16,2,1) -> 0 | T17: =VLOOKUP(G17,Παράμετροι!$G$4:$H$7,2,1) -> 0 | U17: =VLOOKUP(H17,Παράμετροι!$G$4:$H$7,2,1) -> 0 | V17: =VLOOKUP(I17,Παράμετροι!$J$4:$K$7,2,1) -> 60 | W17: =VLOOKUP(J17,Παράμετροι!$M$4:$N$17,2,1) -> 100 | X17: =VLOOKUP(K17,Παράμετροι!$M$4:$N$17,2,1) -> 0 | Y17: =L17*20 -> 326 | Z17: =VLOOKUP(M17,Παράμετροι!$S$4:$T$124,2,1) -> 40 | AA17: =VLOOKUP(N17,Παράμετροι!$V$4:$W$124,2,1) -> 273 | AB17: =O17*3 -> 0 | AC17: =P17*2 -> 0 | AD17: =SUM(Q17:AC17) -> 1099 | BA17: ΛΑΙΚΟ ΜΟΝ. ΜΕΤΑΜ.
A18: 28 | B18: ΚΟΚΚΑΣ | C18: ΑΝΤΩΝΙΟΣ | F18: 4 | L18: 11.75 | N18: 94 | Q18: =VLOOKUP(D18,Παράμετροι!$A$4:$B$10,2) -> 0 | R18: =VLOOKUP(E18,Παράμετροι!$D$4:$E$16,2) -> 0 | S18: =VLOOKUP(F18,Παράμετροι!$D$4:$E$16,2,1) -> 200 | T18: =VLOOKUP(G18,Παράμετροι!$G$4:$H$7,2,1) -> 0 | U18: =VLOOKUP(H18,Παράμετροι!$G$4:$H$7,2,1) -> 0 | V18: =VLOOKUP(I18,Παράμετροι!$J$4:$K$7,2,1) -> 0 | W18: =VLOOKUP(J18,Παράμετροι!$M$4:$N$17,2,1) -> 0 | X18: =VLOOKUP(K18,Παράμετροι!$M$4:$N$17,2,1) -> 0 | Y18: =L18*20 -> 235 | Z18: =VLOOKUP(M18,Παράμετροι!$S$4:$T$124,2,1) -> 0 | AA18: =VLOOKUP(N18,Παράμετροι!$V$4:$W$124,2,1) -> 658 | AB18: =O18*3 -> 0 | AC18: =P18*2 -> 0 | AD18: =SUM(Q18:AC18) -> 1093 | BA18: ΘΡΙΑΣΙΟ ΜΕΘ
A19: 44 | B19: ΤΡΙΑΝΤΑΦΥΛΛΟΥ | C19: ΦΩΤΕΙΝΗ | L19: 12.6 | N19: 120 | Q19: =VLOOKUP(D19,Παράμετροι!$A$4:$B$10,2) -> 0 | R19: =VLOOKUP(E19,Παράμετροι!$D$4:$E$16,2) -> 0 | S19: =VLOOKUP(F19,Παράμετροι!$D$4:$E$16,2,1) -> 0 | T19: =VLOOKUP(G19,Παράμετροι!$G$4:$H$7,2,1) -> 0 | U19: =VLOOKUP(H19,Παράμετροι!$G$4:$H$7,2,1) -> 0 | V19: =VLOOKUP(I19,Παράμετροι!$J$4:$K$7,2,1) -> 0 | W19: =VLOOKUP(J19,Παράμετροι!$M$4:$N$17,2,1) -> 0 | X19: =VLOOKUP(K19,Παράμετροι!$M$4:$N$17,2,1) -> 0 | Y19: =L19*20 -> 252 | Z19: =VLOOKUP(M19,Παράμετροι!$S$4:$T$124,2,1) -> 0 | AA19: =VLOOKUP(N19,Παράμετροι!$V$4:$W$124,2,1) -> 840 | AB19: =O19*3 -> 0 | AC19: =P19*2 -> 0 | AD19: =SUM(Q19:AC19) -> 1092 | BA19: ΘΡΙΑΣΙΟ ΜΕΘ ΕΓΚ.
A20: 79 | B20: ΚΟΥΡΙΔΗΣ | C20: ΚΩΝΣΤΑΝΤΙΝΟΣ | D20: 6 | I20: 2 | L20: 13.45 | N20: 66 | Q20: =VLOOKUP(D20,Παράμετροι!$A$4:$B$10,2) -> 300 | R20: =VLOOKUP(E20,Παράμετροι!$D$4:$E$16,2) -> 0 | S20: =VLOOKUP(F20,Παράμετροι!$D$4:$E$16,2,1) -> 0 | T20: =VLOOKUP(G20,Παράμετροι!$G$4:$H$7,2,1) -> 0 | U20: =VLOOKUP(H20,Παράμετροι!$G$4:$H$7,2,1) -> 0 | V20: =VLOOKUP(I20,Παράμετροι!$J$4:$K$7,2,1) -> 60 | W20: =VLOOKUP(J20,Παράμετροι!$M$4:$N$17,2,1) -> 0 | X20: =VLOOKUP(K20,Παράμετροι!$M$4:$N$17,2,1) -> 0 | Y20: =L20*20 -> 269 | Z20: =VLOOKUP(M20,Παράμετροι!$S$4:$T$124,2,1) -> 0 | AA20: =VLOOKUP(N20,Παράμετροι!$V$4:$W$124,2,1) -> 462 | AB20: =O20*3 -> 0 | AC20: =P20*2 -> 0 | AD20: =SUM(Q20:AC20) -> 1091 | BA20: ΓΝ ΚΥ ΛΗΜΝΟΥ ΜΕΘ
A21: 12 | B21: ΑΝΥΦΑΝΤΗ | C21: ΕΥΓΕΝΙΑ | L21: 14.4 | N21: 114 | Q21: =VLOOKUP(D21,Παράμετροι!$A$4:$B$10,2) -> 0 | R21: =VLOOKUP(E21,Παράμετροι!$D$4:$E$16,2) -> 0 | S21: =VLOOKUP(F21,Παράμετροι!$D$4:$E$16,2,1) -> 0 | T21: =VLOOKUP(G21,Παράμετροι!$G$4:$H$7,2,1) -> 0 | U21: =VLOOKUP(H21,Παράμετροι!$G$4:$H$7,2,1) -> 0 | V21: =VLOOKUP(I21,Παράμετροι!$J$4:$K$7,2,1) -> 0 | W21: =VLOOKUP(J21,Παράμετροι!$M$4:$N$17,2,1) -> 0 | X21: =VLOOKUP(K21,Παράμετροι!$M$4:$N$17,2,1) -> 0 | Y21: =L21*20 -> 288 | Z21: =VLOOKUP(M21,Παράμετροι!$S$4:$T$124,2,1) -> 0 | AA21: =VLOOKUP(N21,Παράμετροι!$V$4:$W$124,2,1) -> 798 | AB21: =O21*3 -> 0 | AC21: =P21*2 -> 0 | AD21: =SUM(Q21:AC21) -> 1086 | BA21: ΓΝ ΡΟΔΟΥ ΜΕΘ
A22: 45 | B22: ΤΡΙΑΝΤΑΦΥΛΛΟΥ | C22: ΠΑΝΤΕΛΗΣ | L22: 16.72 | N22: 107 | Q22: =VLOOKUP(D22,Παράμετροι!$A$4:$B$10,2) -> 0 | R22: =VLOOKUP(E22,Παράμετροι!$D$4:$E$16,2) -> 0 | S22: =VLOOKUP(F22,Παράμετροι!$D$4:$E$16,2,1) -> 0 | T22: =VLOOKUP(G22,Παράμετροι!$G$4:$H$7,2,1) -> 0 | U22: =VLOOKUP(H22,Παράμετροι!$G$4:$H$7,2,1) -> 0 | V22: =VLOOKUP(I22,Παράμετροι!$J$4:$K$7,2,1) -> 0 | W22: =VLOOKUP(J22,Παράμετροι!$M$4:$N$17,2,1) -> 0 | X22: =VLOOKUP(K22,Παράμετροι!$M$4:$N$17,2,1) -> 0 | Y22: =L22*20 -> 334.4 | Z22: =VLOOKUP(M22,Παράμετροι!$S$4:$T$124,2,1) -> 0 | AA22: =VLOOKUP(N22,Παράμετροι!$V$4:$W$124,2,1) -> 749 | AB22: =O22*3 -> 0 | AC22: =P22*2 -> 0 | AD22: =SUM(Q22:AC22) -> 1083.4 | BA22: ΓΝ ΜΥΤΙΛΗΝΗΣ ΜΕΘ
A23: 43 | B23: ΛΟΥΚΑΣ | C23: ΘΕΟΔΩΡΟΣ | L23: 12.16 | N23: 120 | Q23: =VLOOKUP(D23,Παράμετροι!$A$4:$B$10,2) -> 0 | R23: =VLOOKUP(E23,Παράμετροι!$D$4:$E$16,2) -> 0 | S23: =VLOOKUP(F23,Παράμετροι!$D$4:$E$16,2,1) -> 0 | T23: =VLOOKUP(G23,Παράμετροι!$G$4:$H$7,2,1) -> 0 | U23: =VLOOKUP(H23,Παράμετροι!$G$4:$H$7,2,1) -> 0 | V23: =VLOOKUP(I23,Παράμετροι!$J$4:$K$7,2,1) -> 0 | W23: =VLOOKUP(J23,Παράμετροι!$M$4:$N$17,2,1) -> 0 | X23: =VLOOKUP(K23,Παράμετροι!$M$4:$N$17,2,1) -> 0 | Y23: =L23*20 -> 243.2 | Z23: =VLOOKUP(M23,Παράμετροι!$S$4:$T$124,2,1) -> 0 | AA23: =VLOOKUP(N23,Παράμετροι!$V$4:$W$124,2,1) -> 840 | AB23: =O23*3 -> 0 | AC23: =P23*2 -> 0 | AD23: =SUM(Q23:AC23) -> 1083.2 | BA23: ΓΝ ΣΑΜΟΥ ΜΕΘ
A24: 50 | B24: ΧΑΤΖΗΜΑΝΩΛΗΣ | C24: ΑΛΕΞΑΝΔΡΟΣ | D24: 6 | F24: 4 | I24: 1 | L24: 14.9 | N24: 32 | Q24: =VLOOKUP(D24,Παράμετροι!$A$4:$B$10,2) -> 300 | R24: =VLOOKUP(E24,Παράμετροι!$D$4:$E$16,2) -> 0 | S24: =VLOOKUP(F24,Παράμετροι!$D$4:$E$16,2,1) -> 200 | T24: =VLOOKUP(G24,Παράμετροι!$G$4:$H$7,2,1) -> 0 | U24: =VLOOKUP(H24,Παράμετροι!$G$4:$H$7,2,1) -> 0 | V24: =VLOOKUP(I24,Παράμετροι!$J$4:$K$7,2,1) -> 30 | W24: =VLOOKUP(J24,Παράμετροι!$M$4:$N$17,2,1) -> 0 | X24: =VLOOKUP(K24,Παράμετροι!$M$4:$N$17,2,1) -> 0 | Y24: =L24*20 -> 298 | Z24: =VLOOKUP(M24,Παράμετροι!$S$4:$T$124,2,1) -> 0 | AA24: =VLOOKUP(N24,Παράμετροι!$V$4:$W$124,2,1) -> 224 | AB24: =O24*3 -> 0 | AC24: =P24*2 -> 0 | AD24: =SUM(Q24:AC24) -> 1052 | BA24: ΠΑΠΑΝΙΚΟΛΑΟΥ ΜΕΘ
A25: 1 | B25: ΣΥΚΙΑΝΑΚΗΣ | C25: ΓΕΩΡΓΙΟΣ | D25: 6 | L25: 13.75 | N25: 65 | Q25: =VLOOKUP(D25,Παράμετροι!$A$4:$B$10,2) -> 300 | R25: =VLOOKUP(E25,Παράμετροι!$D$4:$E$16,2) -> 0 | S25: =VLOOKUP(F25,Παράμετροι!$D$4:$E$16,2,1) -> 0 | T25: =VLOOKUP(G25,Παράμετροι!$G$4:$H$7,2,1) -> 0 | U25: =VLOOKUP(H25,Παράμετροι!$G$4:$H$7,2,1) -> 0 | V25: =VLOOKUP(I25,Παράμετροι!$J$4:$K$7,2,1) -> 0 | W25: =VLOOKUP(J25,Παράμετροι!$M$4:$N$17,2,1) -> 0 | X25: =VLOOKUP(K25,Παράμετροι!$M$4:$N$17,2,1) -> 0 | Y25: =L25*20 -> 275 | Z25: =VLOOKUP(M25,Παράμετροι!$S$4:$T$124,2,1) -> 0 | AA25: =VLOOKUP(N25,Παράμετροι!$V$4:$W$124,2,1) -> 455 | AB25: =O25*3 -> 0 | AC25: =P25*2 -> 0 | AD25: =SUM(Q25:AC25) -> 1030 | BA25: ΓΝ ΚΑΤΕΡΙΝΗΣ ΜΕΘ
A26: 74 | B26: ΣΑΡΡΗ | C26: ΕΥΑΓΓΕΛΙΑ | F26: 4 | I26: 2 | L26: 13.7 | N26: 63 | Q26: =VLOOKUP(D26,Παράμετροι!$A$4:$B$10,2) -> 0 | R26: =VLOOKUP(E26,Παράμετροι!$D$4:$E$16,2) -> 0 | S26: =VLOOKUP(F26,Παράμετροι!$D$4:$E$16,2,1) -> 200 | T26: =VLOOKUP(G26,Παράμετροι!$G$4:$H$7,2,1) -> 0 | U26: =VLOOKUP(H26,Παράμετροι!$G$4:$H$7,2,1) -> 0 | V26: =VLOOKUP(I26,Παράμετροι!$J$4:$K$7,2,1) -> 60 | W26: =VLOOKUP(J26,Παράμετροι!$M$4:$N$17,2,1) -> 0 | X26: =VLOOKUP(K26,Παράμετροι!$M$4:$N$17,2,1) -> 0 | Y26: =L26*20 -> 274 | Z26: =VLOOKUP(M26,Παράμετροι!$S$4:$T$124,2,1) -> 0 | AA26: =VLOOKUP(N26,Παράμετροι!$V$4:$W$124,2,1) -> 441 | AB26: =O26*3 -> 0 | AC26: =P26*2 -> 0 | AD26: =SUM(Q26:AC26) -> 975 | BA26: ΓΝ ΚΑΣΤΟΡΙΑΣ ΜΕΘ
A27: 14 | B27: ΛΙΑΒΕΡΗΣ | C27: ΙΩΑΝΝΗΣ | D27: 0 | L27: 11.33 | N27: 105 | Q27: =VLOOKUP(D27,Παράμετροι!$A$4:$B$10,2) -> 0 | R27: =VLOOKUP(E27,Παράμετροι!$D$4:$E$16,2) -> 0 | S27: =VLOOKUP(F27,Παράμετροι!$D$4:$E$16,2,1) -> 0 | T27: =VLOOKUP(G27,Παράμετροι!$G$4:$H$7,2,1) -> 0 | U27: =VLOOKUP(H27,Παράμετροι!$G$4:$H$7,2,1) -> 0 | V27: =VLOOKUP(I27,Παράμετροι!$J$4:$K$7,2,1) -> 0 | W27: =VLOOKUP(J27,Παράμετροι!$M$4:$N$17,2,1) -> 0 | X27: =VLOOKUP(K27,Παράμετροι!$M$4:$N$17,2,1) -> 0 | Y27: =L27*20 -> 226.6 | Z27: =VLOOKUP(M27,Παράμετροι!$S$4:$T$124,2,1) -> 0 | AA27: =VLOOKUP(N27,Παράμετροι!$V$4:$W$124,2,1) -> 735 | AB27: =O27*3 -> 0 | AC27: =P27*2 -> 0 | AD27: =SUM(Q27:AC27) -> 961.6 | BA27: ΓΝ ΚΑΣΤΟΡΙΑΣ
A28: 29 | B28: ΚΑΤΣΟΥΛΗΣ | C28: ΒΑΣΙΛΕΙΟΣ | D28: 6 | L28: 11.752 | N28: 57 | Q28: =VLOOKUP(D28,Παράμετροι!$A$4:$B$10,2) -> 300 | R28: =VLOOKUP(E28,Παράμετροι!$D$4:$E$16,2) -> 0 | S28: =VLOOKUP(F28,Παράμετροι!$D$4:$E$16,2,1) -> 0 | T28: =VLOOKUP(G28,Παράμετροι!$G$4:$H$7,2,1) -> 0 | U28: =VLOOKUP(H28,Παράμετροι!$G$4:$H$7,2,1) -> 0 | V28: =VLOOKUP(I28,Παράμετροι!$J$4:$K$7,2,1) -> 0 | W28: =VLOOKUP(J28,Παράμετροι!$M$4:$N$17,2,1) -> 0 | X28: =VLOOKUP(K28,Παράμετροι!$M$4:$N$17,2,1) -> 0 | Y28: =L28*20 -> 235.04 | Z28: =VLOOKUP(M28,Παράμετροι!$S$4:$T$124,2,1) -> 0 | AA28: =VLOOKUP(N28,Παράμετροι!$V$4:$W$124,2,1) -> 399 | AB28: =O28*3 -> 0 | AC28: =P28*2 -> 0 | AD28: =SUM(Q28:AC28) -> 934.04 | BA28: ΓΝ ΒΕΡΟΙΑΣ
A29: 30 | B29: ΜΟΥΓΑΚΟΣ | C29: ΚΩΝΣΤΑΝΤΙΝΟΣ | D29: 6 | L29: 13.38 | M29: 27 | N29: 18 | Q29: =VLOOKUP(D29,Παράμετροι!$A$4:$B$10,2) -> 300 | R29: =VLOOKUP(E29,Παράμετροι!$D$4:$E$16,2) -> 0 | S29: =VLOOKUP(F29,Παράμετροι!$D$4:$E$16,2,1) -> 0 | T29: =VLOOKUP(G29,Παράμετροι!$G$4:$H$7,2,1) -> 0 | U29: =VLOOKUP(H29,Παράμετροι!$G$4:$H$7,2,1) -> 0 | V29: =VLOOKUP(I29,Παράμετροι!$J$4:$K$7,2,1) -> 0 | W29: =VLOOKUP(J29,Παράμετροι!$M$4:$N$17,2,1) -> 0 | X29: =VLOOKUP(K29,Παράμετροι!$M$4:$N$17,2,1) -> 0 | Y29: =L29*20 -> 267.6 | Z29: =VLOOKUP(M29,Παράμετροι!$S$4:$T$124,2,1) -> 216 | AA29: =VLOOKUP(N29,Παράμετροι!$V$4:$W$124,2,1) -> 126 | AB29: =O29*3 -> 0 | AC29: =P29*2 -> 0 | AD29: =SUM(Q29:AC29) -> 909.6 | BA29: ΓΝ ΕΔΕΣΣΑΣ
A30: 27 | B30: ΡΟΥΜΑΝΟΣ | C30: ΣΠΥΡΙΔΩΝ | I30: 1 | L30: 14.72 | N30: 80 | Q30: =VLOOKUP(D30,Παράμετροι!$A$4:$B$10,2) -> 0 | R30: =VLOOKUP(E30,Παράμετροι!$D$4:$E$16,2) -> 0 | S30: =VLOOKUP(F30,Παράμετροι!$D$4:$E$16,2,1) -> 0 | T30: =VLOOKUP(G30,Παράμετροι!$G$4:$H$7,2,1) -> 0 | U30: =VLOOKUP(H30,Παράμετροι!$G$4:$H$7,2,1) -> 0 | V30: =VLOOKUP(I30,Παράμετροι!$J$4:$K$7,2,1) -> 30 | W30: =VLOOKUP(J30,Παράμετροι!$M$4:$N$17,2,1) -> 0 | X30: =VLOOKUP(K30,Παράμετροι!$M$4:$N$17,2,1) -> 0 | Y30: =L30*20 -> 294.4 | Z30: =VLOOKUP(M30,Παράμετροι!$S$4:$T$124,2,1) -> 0 | AA30: =VLOOKUP(N30,Παράμετροι!$V$4:$W$124,2,1) -> 560 | AB30: =O30*3 -> 0 | AC30: =P30*2 -> 0 | AD30: =SUM(Q30:AC30) -> 884.4 | BA30: ΓΝ ΑΛΕΞΑΝΔΡΟΥΠΟΛΗΣ ΜΕΘ
A31: 72 | B31: ΜΠΑΛΑΦΑΣ | C31: ΛΑΖΑΡΟΣ | D31: 6 | I31: 1 | L31: 14.28 | N31: 38 | Q31: =VLOOKUP(D31,Παράμετροι!$A$4:$B$10,2) -> 300 | R31: =VLOOKUP(E31,Παράμετροι!$D$4:$E$16,2) -> 0 | S31: =VLOOKUP(F31,Παράμετροι!$D$4:$E$16,2,1) -> 0 | T31: =VLOOKUP(G31,Παράμετροι!$G$4:$H$7,2,1) -> 0 | U31: =VLOOKUP(H31,Παράμετροι!$G$4:$H$7,2,1) -> 0 | V31: =VLOOKUP(I31,Παράμετροι!$J$4:$K$7,2,1) -> 30 | W31: =VLOOKUP(J31,Παράμετροι!$M$4:$N$17,2,1) -> 0 | X31: =VLOOKUP(K31,Παράμετροι!$M$4:$N$17,2,1) -> 0 | Y31: =L31*20 -> 285.6 | Z31: =VLOOKUP(M31,Παράμετροι!$S$4:$T$124,2,1) -> 0 | AA31: =VLOOKUP(N31,Παράμετροι!$V$4:$W$124,2,1) -> 266 | AB31: =O31*3 -> 0 | AC31: =P31*2 -> 0 | AD31: =SUM(Q31:AC31) -> 881.6 | BA31: ΓΝ ΑΛΕΞΑΝΔΡΟΥΠΟΛΗΣ ΜΕΝΝ
A32: 73 | B32: ΒΛΑΧΑΚΗ | C32: ΛΑΜΠΡΙΝΗ | D32: 6 | L32: 18.1 | M32: 14 | P32: 50 | Q32: =VLOOKUP(D32,Παράμετροι!$A$4:$B$10,2) -> 300 | R32: =VLOOKUP(E32,Παράμετροι!$D$4:$E$16,2) -> 0 | S32: =VLOOKUP(F32,Παράμετροι!$D$4:$E$16,2,1) -> 0 | T32: =VLOOKUP(G32,Παράμετροι!$G$4:$H$7,2,1) -> 0 | U32: =VLOOKUP(H32,Παράμετροι!$G$4:$H$7,2,1) -> 0 | V32: =VLOOKUP(I32,Παράμετροι!$J$4:$K$7,2,1) -> 0 | W32: =VLOOKUP(J32,Παράμετροι!$M$4:$N$17,2,1) -> 0 | X32: =VLOOKUP(K32,Παράμετροι!$M$4:$N$17,2,1) -> 0 | Y32: =L32*20 -> 362 | Z32: =VLOOKUP(M32,Παράμετροι!$S$4:$T$124,2,1) -> 112 | AA32: =VLOOKUP(N32,Παράμετροι!$V$4:$W$124,2,1) -> 0 | AB32: =O32*3 -> 0 | AC32: =P32*2 -> 100 | AD32: =SUM(Q32:AC32) -> 874 | BA32: ΓΝΘ ΙΠΠΟΚΡΑΤΕΙΟ ΜΕΘ
A33: 49 | B33: ΜΑΝΔΗΛΑΡΑΣ | C33: ΣΤΕΦΑΝΟΣ | D33: 5 | L33: 14.92 | N33: 42 | Q33: =VLOOKUP(D33,Παράμετροι!$A$4:$B$10,2) -> 250 | R33: =VLOOKUP(E33,Παράμετροι!$D$4:$E$16,2) -> 0 | S33: =VLOOKUP(F33,Παράμετροι!$D$4:$E$16,2,1) -> 0 | T33: =VLOOKUP(G33,Παράμετροι!$G$4:$H$7,2,1) -> 0 | U33: =VLOOKUP(H33,Παράμετροι!$G$4:$H$7,2,1) -> 0 | V33: =VLOOKUP(I33,Παράμετροι!$J$4:$K$7,2,1) -> 0 | W33: =VLOOKUP(J33,Παράμετροι!$M$4:$N$17,2,1) -> 0 | X33: =VLOOKUP(K33,Παράμετροι!$M$4:$N$17,2,1) -> 0 | Y33: =L33*20 -> 298.4 | Z33: =VLOOKUP(M33,Παράμετροι!$S$4:$T$124,2,1) -> 0 | AA33: =VLOOKUP(N33,Παράμετροι!$V$4:$W$124,2,1) -> 294 | AB33: =O33*3 -> 0 | AC33: =P33*2 -> 0 | AD33: =SUM(Q33:AC33) -> 842.4 | BA33: ΘΕΑΓΕΝΕΙΟ ΜΕΘ
A34: 2 | B34: ΚΟΥΣΗΣ | C34: ΦΙΛΛΙΠΟΣ | D34: 5 | F34: 4 | L34: 12.58 | N34: 15 | Q34: =VLOOKUP(D34,Παράμετροι!$A$4:$B$10,2) -> 250 | R34: =VLOOKUP(E34,Παράμετροι!$D$4:$E$16,2) -> 0 | S34: =VLOOKUP(F34,Παράμετροι!$D$4:$E$16,2,1) -> 200 | T34: =VLOOKUP(G34,Παράμετροι!$G$4:$H$7,2,1) -> 0 | U34: =VLOOKUP(H34,Παράμετροι!$G$4:$H$7,2,1) -> 0 | V34: =VLOOKUP(I34,Παράμετροι!$J$4:$K$7,2,1) -> 0 | W34: =VLOOKUP(J34,Παράμετροι!$M$4:$N$17,2,1) -> 0 | X34: =VLOOKUP(K34,Παράμετροι!$M$4:$N$17,2,1) -> 0 | Y34: =L34*20 -> 251.6 | Z34: =VLOOKUP(M34,Παράμετροι!$S$4:$T$124,2,1) -> 0 | AA34: =VLOOKUP(N34,Παράμετροι!$V$4:$W$124,2,1) -> 105 | AB34: =O34*3 -> 0 | AC34: =P34*2 -> 0 | AD34: =SUM(Q34:AC34) -> 806.6 | BA34: ΓΝ ΚΟΜΟΤΗΝΗΣ ΜΕΘ
A35: 69 | B35: ΜΕΤΑΞΑΣ | C35: ΓΕΩΡΓΙΟΣ | D35: 6 | G35: 3 | I35: 3 | L35: 13.75 | Q35: =VLOOKUP(D35,Παράμετροι!$A$4:$B$10,2) -> 300 | R35: =VLOOKUP(E35,Παράμετροι!$D$4:$E$16,2) -> 0 | S35: =VLOOKUP(F35,Παράμετροι!$D$4:$E$16,2,1) -> 0 | T35: =VLOOKUP(G35,Παράμετροι!$G$4:$H$7,2,1) -> 120 | U35: =VLOOKUP(H35,Παράμετροι!$G$4:$H$7,2,1) -> 0 | V35: =VLOOKUP(I35,Παράμετροι!$J$4:$K$7,2,1) -> 110 | W35: =VLOOKUP(J35,Παράμετροι!$M$4:$N$17,2,1) -> 0 | X35: =VLOOKUP(K35,Παράμετροι!$M$4:$N$17,2,1) -> 0 | Y35: =L35*20 -> 275 | Z35: =VLOOKUP(M35,Παράμετροι!$S$4:$T$124,2,1) -> 0 | AA35: =VLOOKUP(N35,Παράμετροι!$V$4:$W$124,2,1) -> 0 | AB35: =O35*3 -> 0 | AC35: =P35*2 -> 0 | AD35: =SUM(Q35:AC35) -> 805 | BA35: ΓΝ ΞΑΝΘΗΣ ΜΕΘ
A36: 9 | B36: ΤΣΙΛΗΣ | C36: ΒΑΣΙΛΕΙΟΣ | D36: 6 | L36: 12.5 | M36: 5 | N36: 30 | Q36: =VLOOKUP(D36,Παράμετροι!$A$4:$B$10,2) -> 300 | R36: =VLOOKUP(E36,Παράμετροι!$D$4:$E$16,2) -> 0 | S36: =VLOOKUP(F36,Παράμετροι!$D$4:$E$16,2,1) -> 0 | T36: =VLOOKUP(G36,Παράμετροι!$G$4:$H$7,2,1) -> 0 | U36: =VLOOKUP(H36,Παράμετροι!$G$4:$H$7,2,1) -> 0 | V36: =VLOOKUP(I36,Παράμετροι!$J$4:$K$7,2,1) -> 0 | W36: =VLOOKUP(J36,Παράμετροι!$M$4:$N$17,2,1) -> 0 | X36: =VLOOKUP(K36,Παράμετροι!$M$4:$N$17,2,1) -> 0 | Y36: =L36*20 -> 250 | Z36: =VLOOKUP(M36,Παράμετροι!$S$4:$T$124,2,1) -> 40 | AA36: =VLOOKUP(N36,Παράμετροι!$V$4:$W$124,2,1) -> 210 | AB36: =O36*3 -> 0 | AC36: =P36*2 -> 0 | AD36: =SUM(Q36:AC36) -> 800 | BA36: ΓΝ ΛΑΡΙΣΑΣ ΜΑΦ
A37: 39 | B37: ΚΟΥΤΣΙΑΒΑΣ | C37: ΝΙΚΟΛΑΟΣ | D37: 6 | L37: 15.14 | M37: 5 | P37: 75 | Q37: =VLOOKUP(D37,Παράμετροι!$A$4:$B$10,2) -> 300 | R37: =VLOOKUP(E37,Παράμετροι!$D$4:$E$16,2) -> 0 | S37: =VLOOKUP(F37,Παράμετροι!$D$4:$E$16,2,1) -> 0 | T37: =VLOOKUP(G37,Παράμετροι!$G$4:$H$7,2,1) -> 0 | U37: =VLOOKUP(H37,Παράμετροι!$G$4:$H$7,2,1) -> 0 | V37: =VLOOKUP(I37,Παράμετροι!$J$4:$K$7,2,1) -> 0 | W37: =VLOOKUP(J37,Παράμετροι!$M$4:$N$17,2,1) -> 0 | X37: =VLOOKUP(K37,Παράμετροι!$M$4:$N$17,2,1) -> 0 | Y37: =L37*20 -> 302.8 | Z37: =VLOOKUP(M37,Παράμετροι!$S$4:$T$124,2,1) -> 40 | AA37: =VLOOKUP(N37,Παράμετροι!$V$4:$W$124,2,1) -> 0 | AB37: =O37*3 -> 0 | AC37: =P37*2 -> 150 | AD37: =SUM(Q37:AC37) -> 792.8 | BA37: ΓΝ ΒΟΛΟΥ ΜΕΘ
A38: 48 | B38: ΣΑΛΤΟΣ | C38: ΙΩΑΝΝΗΣ | D38: 6 | F38: 4 | L38: 14.5 | Q38: =VLOOKUP(D38,Παράμετροι!$A$4:$B$10,2) -> 300 | R38: =VLOOKUP(E38,Παράμετροι!$D$4:$E$16,2) -> 0 | S38: =VLOOKUP(F38,Παράμετροι!$D$4:$E$16,2,1) -> 200 | T38: =VLOOKUP(G38,Παράμετροι!$G$4:$H$7,2,1) -> 0 | U38: =VLOOKUP(H38,Παράμετροι!$G$4:$H$7,2,1) -> 0 | V38: =VLOOKUP(I38,Παράμετροι!$J$4:$K$7,2,1) -> 0 | W38: =VLOOKUP(J38,Παράμετροι!$M$4:$N$17,2,1) -> 0 | X38: =VLOOKUP(K38,Παράμετροι!$M$4:$N$17,2,1) -> 0 | Y38: =L38*20 -> 290 | Z38: =VLOOKUP(M38,Παράμετροι!$S$4:$T$124,2,1) -> 0 | AA38: =VLOOKUP(N38,Παράμετροι!$V$4:$W$124,2,1) -> 0 | AB38: =O38*3 -> 0 | AC38: =P38*2 -> 0 | AD38: =SUM(Q38:AC38) -> 790 | BA38: ΓΝ ΛΑΜΙΑΣ
A39: 3 | B39: ΟΙΚΟΝΟΜΟΥ | C39: ΜΑΡΙΑΝΘΗ | D39: 6 | I39: 2 | L39: 14.36 | M39: 6 | N39: 12 | Q39: =VLOOKUP(D39,Παράμετροι!$A$4:$B$10,2) -> 300 | R39: =VLOOKUP(E39,Παράμετροι!$D$4:$E$16,2) -> 0 | S39: =VLOOKUP(F39,Παράμετροι!$D$4:$E$16,2,1) -> 0 | T39: =VLOOKUP(G39,Παράμετροι!$G$4:$H$7,2,1) -> 0 | U39: =VLOOKUP(H39,Παράμετροι!$G$4:$H$7,2,1) -> 0 | V39: =VLOOKUP(I39,Παράμετροι!$J$4:$K$7,2,1) -> 60 | W39: =VLOOKUP(J39,Παράμετροι!$M$4:$N$17,2,1) -> 0 | X39: =VLOOKUP(K39,Παράμετροι!$M$4:$N$17,2,1) -> 0 | Y39: =L39*20 -> 287.2 | Z39: =VLOOKUP(M39,Παράμετροι!$S$4:$T$124,2,1) -> 48 | AA39: =VLOOKUP(N39,Παράμετροι!$V$4:$W$124,2,1) -> 84 | AB39: =O39*3 -> 0 | AC39: =P39*2 -> 0 | AD39: =SUM(Q39:AC39) -> 779.2 | BA39: ΠΓΝ ΠΑΤΡΩΝ ΜΕΘ
A40: 61 | B40: ΜΠΕΖΑΣ | C40: ΓΕΩΡΓΙΟΣ | I40: 3 | L40: 10.1 | N40: 52 | P40: 50 | Q40: =VLOOKUP(D40,Παράμετροι!$A$4:$B$10,2) -> 0 | R40: =VLOOKUP(E40,Παράμετροι!$D$4:$E$16,2) -> 0 | S40: =VLOOKUP(F40,Παράμετροι!$D$4:$E$16,2,1) -> 0 | T40: =VLOOKUP(G40,Παράμετροι!$G$4:$H$7,2,1) -> 0 | U40: =VLOOKUP(H40,Παράμετροι!$G$4:$H$7,2,1) -> 0 | V40: =VLOOKUP(I40,Παράμετροι!$J$4:$K$7,2,1) -> 110 | W40: =VLOOKUP(J40,Παράμετροι!$M$4:$N$17,2,1) -> 0 | X40: =VLOOKUP(K40,Παράμετροι!$M$4:$N$17,2,1) -> 0 | Y40: =L40*20 -> 202 | Z40: =VLOOKUP(M40,Παράμετροι!$S$4:$T$124,2,1) -> 0 | AA40: =VLOOKUP(N40,Παράμετροι!$V$4:$W$124,2,1) -> 364 | AB40: =O40*3 -> 0 | AC40: =P40*2 -> 100 | AD40: =SUM(Q40:AC40) -> 776 | BA40: ΓΝ ΚΟΡΙΝΘΟΥ ΜΕΘ
A41: 52 | B41: ΚΟΥΤΣΟΥΡΗ | C41: ΒΙΚΤΩΡΙΑ | D41: 6 | I41: 1 | L41: 14.45 | N41: 20 | Q41: =VLOOKUP(D41,Παράμετροι!$A$4:$B$10,2) -> 300 | R41: =VLOOKUP(E41,Παράμετροι!$D$4:$E$16,2) -> 0 | S41: =VLOOKUP(F41,Παράμετροι!$D$4:$E$16,2,1) -> 0 | T41: =VLOOKUP(G41,Παράμετροι!$G$4:$H$7,2,1) -> 0 | U41: =VLOOKUP(H41,Παράμετροι!$G$4:$H$7,2,1) -> 0 | V41: =VLOOKUP(I41,Παράμετροι!$J$4:$K$7,2,1) -> 30 | W41: =VLOOKUP(J41,Παράμετροι!$M$4:$N$17,2,1) -> 0 | X41: =VLOOKUP(K41,Παράμετροι!$M$4:$N$17,2,1) -> 0 | Y41: =L41*20 -> 289 | Z41: =VLOOKUP(M41,Παράμετροι!$S$4:$T$124,2,1) -> 0 | AA41: =VLOOKUP(N41,Παράμετροι!$V$4:$W$124,2,1) -> 140 | AB41: =O41*3 -> 0 | AC41: =P41*2 -> 0 | AD41: =SUM(Q41:AC41) -> 759 | BA41: ΓΝ ΚΕΦΑΛΛΟΝΙΑΣ ΜΕΘ
...

Sheet Παράμετροι
A1: 1. ΧΡΟΝΟΣ ΑΝΕΡΓΙΑΣ (100 μονάδες για 4 μήνες ανεργίας και 50 μονάδες ανα μήνα ανεργίας άνω των 4 μηνών, με ανώτατο όριο τους 6 μήνες) | D1: 2. ή 3. ΠΟΛΥΤΕΚΝΟΣ Ή ΤΕΚΝΟ ΠΟΛΥΤΕΚΝΗΣ ΟΙΚΟΓΕΝΕΙΑΣ (50 μονάδες για κάθε τέκνο) | G1: 4. ή 5. ΤΡΙΤΕΚΝΟ ή ΤΕΚΝΟ ΤΡΙΤΕΚΝΗΣ ΟΙΚΟΓΕΝΕΙΑΣ (40 μονάδες για κάθε τέκνο) | J1: 6. ΑΝΗΛΙΚΑ ΤΕΚΝΑ (30 μονάδες για κάθε ένα από τα δυο πρώτα τέκνα και 50 μονάδες για το τρίτο) | M1: 7. ή 8. ΓΟΝΕΑΣ Ή ΤΕΚΝΟ ΜΟΝΟΓΕΟΝΕΪΚΗΣ ΟΙΚΟΓΕΝΕΙΑΣ (50 μονάδες για κάθε τέκνο) | P1: 9. ΒΑΣΙΚΟΣ ΤΙΤΛΟΣ ΣΠΟΥΔΩΝ (Οι μονάδες του βασικού τίτλου με 2 δεκαδικά ψηφία για τη ΔΕ πολλαπλασιάζονται με 20) | S1: 10α. ΠΡΟΫΠΗΡΕΣΙΑ ΣΕ ΚΤΗΡΙΑ ή ΥΠΗΡΕΣΙΕΣ ΤΟΥ ΔΗΜΟΣΙΟΥ ΤΟΜΕΑ (8 μονάδες ανά μήνα εμπειρίας και έως 120 μήνες) | V1: 10β. ΠΡΟΫΠΗΡΕΣΙΑ ΣΤΟΝ ΙΔΙΩΤΙΚΟ ΤΟΜΕΑ (7 μονάδες ανά μήνα εμπειρίας και έως 120 μήνες) | Y1: 11. ΑΝΑΠΗΡΙΑ ΥΠΟΨΗΦΙΟΥ ΜΕ ΠΟΣΟΣΤΟ ΤΟΥΛΑΧΙΣΤΟΝ 50% (το ποσοστό αναπηρίας πολλαπλασιάζεται με το συντελεστή "3") | AC1: 12. ΑΝΑΠΗΡΙΑ ΓΟΝΕΑ, ΤΕΚΝΟΥ, ΑΔΕΛΦΟΥ ή ΣΥΖΥΓΟΥ (το ποσοστό αναπηρίας πολλαπλασιάζεται με το συντελεστή "2")
A3: μήνες | B3: μονάδες | D3: αριθμός τέκνων | E3: μονάδες | G3: αριθμός τέκνων | H3: μονάδες | J3: αριθμός τέκνων | K3: μονάδες | M3: αριθμός τέκνων | N3: μονάδες | P3: βαθμος | Q3: μονάδες | S3: μήνες προϋπηρεσίας | T3: μονάδες | V3: μήνες προϋπηρεσίας | W3: μονάδες | Y3: ποσοστό αναπηρίας | AA3: μονάδες | AC3: ποσοστό αναπηρίας | AE3: μονάδες
A4: 0 | B4: 0 | D4: 0 | E4: 0 | G4: 0 | H4: 0 | J4: 0 | K4: 0 | M4: 0 | N4: 0 | P4: 10 | Q4: 200 | S4: 0 | T4: 0 | V4: 0 | W4: 0 | Y4: 50 | Z4: 3 | AA4: =Y4*Z4 -> 150 | AC4: 50 | AD4: 2 | AE4: =AC4*AD4 -> 100
A5: 1 | B5: 0 | D5: 1 | E5: 0 | G5: 1 | H5: 40 | J5: 1 | K5: 30 | M5: 1 | N5: =+M5*50 -> 50 | P5: 10.01 | Q5: 200.2 | S5: 1 | T5: 8 | V5: 1 | W5: 7 | Y5: 51 | Z5: 3 | AA5: =Y5*Z5 -> 153 | AC5: 51 | AD5: 2 | AE5: =AC5*AD5 -> 102
A6: 2 | B6: 0 | D6: 2 | E6: 0 | G6: 2 | H6: 80 | J6: 2 | K6: 60 | M6: 2 | N6: =+M6*50 -> 100 | P6: 10.02 | Q6: 200.4 | S6: 2 | T6: =+S6*8 -> 16 | V6: 2 | W6: =+V6*7 -> 14 | Y6: 52 | Z6: 3 | AA6: =Y6*Z6 -> 156 | AC6: 52 | AD6: 2 | AE6: =AC6*AD6 -> 104
A7: 3 | B7: 0 | D7: 3 | E7: =+D7*50 -> 150 | G7: 3 | H7: 120 | J7: 3 | K7: 110 | M7: 3 | N7: =+M7*50 -> 150 | P7: 10.03 | Q7: 200.6 | S7: 3 | T7: =+S7*8 -> 24 | V7: 3 | W7: =+V7*7 -> 21 | Y7: 53 | Z7: 3 | AA7: =Y7*Z7 -> 159 | AC7: 53 | AD7: 2 | AE7: =AC7*AD7 -> 106
A8: 4 | B8: 200 | D8: 4 | E8: =+D8*50 -> 200 | M8: 4 | N8: =+M8*50 -> 200 | P8: 10.04 | Q8: 200.8 | S8: 4 | T8: =+S8*8 -> 32 | V8: 4 | W8: =+V8*7 -> 28 | Y8: 54 | Z8: 3 | AA8: =Y8*Z8 -> 162 | AC8: 54 | AD8: 2 | AE8: =AC8*AD8 -> 108
A9: 5 | B9: 250 | D9: 5 | E9: =+D9*50 -> 250 | M9: 5 | N9: =+M9*50 -> 250 | P9: 10.05 | Q9: 201 | S9: 5 | T9: =+S9*8 -> 40 | V9: 5 | W9: =+V9*7 -> 35 | Y9: 55 | Z9: 3 | AA9: =Y9*Z9 -> 165 | AC9: 55 | AD9: 2 | AE9: =AC9*AD9 -> 110
A10: 6 | B10: 300 | D10: 6 | E10: =+D10*50 -> 300 | M10: 6 | N10: =+M10*50 -> 300 | P10: 10.06 | Q10: 201.2 | S10: 6 | T10: =+S10*8 -> 48 | V10: 6 | W10: =+V10*7 -> 42 | Y10: 56 | Z10: 3 | AA10: =Y10*Z10 -> 168 | AC10: 56 | AD10: 2 | AE10: =AC10*AD10 -> 112
D11: 7 | E11: =+D11*50 -> 350 | M11: 7 | N11: =+M11*50 -> 350 | P11: 10.07 | Q11: 201.4 | S11: 7 | T11: =+S11*8 -> 56 | V11: 7 | W11: =+V11*7 -> 49 | Y11: 57 | Z11: 3 | AA11: =Y11*Z11 -> 171 | AC11: 57 | AD11: 2 | AE11: =AC11*AD11 -> 114
D12: 8 | E12: =+D12*50 -> 400 | M12: 8 | N12: =+M12*50 -> 400 | P12: 10.08 | Q12: 201.6 | S12: 8 | T12: =+S12*8 -> 64 | V12: 8 | W12: =+V12*7 -> 56 | Y12: 58 | Z12: 3 | AA12: =Y12*Z12 -> 174 | AC12: 58 | AD12: 2 | AE12: =AC12*AD12 -> 116
D13: 9 | E13: =+D13*50 -> 450 | M13: 9 | N13: =+M13*50 -> 450 | P13: 10.09 | Q13: 201.8 | S13: 9 | T13: =+S13*8 -> 72 | V13: 9 | W13: =+V13*7 -> 63 | Y13: 59 | Z13: 3 | AA13: =Y13*Z13 -> 177 | AC13: 59 | AD13: 2 | AE13: =AC13*AD13 -> 118
D14: 10 | E14: =+D14*50 -> 500 | M14: 10 | N14: =+M14*50 -> 500 | P14: 10.1 | Q14: 202 | S14: 10 | T14: =+S14*8 -> 80 | V14: 10 | W14: =+V14*7 -> 70 | Y14: 60 | Z14: 3 | AA14: =Y14*Z14 -> 180 | AC14: 60 | AD14: 2 | AE14: =AC14*AD14 -> 120
D15: 11 | E15: =+D15*50 -> 550 | M15: 11 | N15: =+M15*50 -> 550 | P15: 10.11 | Q15: 202.2 | S15: 11 | T15: =+S15*8 -> 88 | V15: 11 | W15: =+V15*7 -> 77 | Y15: 61 | Z15: 3 | AA15: =Y15*Z15 -> 183 | AC15: 61 | AD15: 2 | AE15: =AC15*AD15 -> 122
D16: 12 | E16: =+D16*50 -> 600 | M16: 12 | N16: =+M16*50 -> 600 | P16: 10.12 | Q16: 202.4 | S16: 12 | T16: =+S16*8 -> 96 | V16: 12 | W16: =+V16*7 -> 84 | Y16: 62 | Z16: 3 | AA16: =Y16*Z16 -> 186 | AC16: 62 | AD16: 2 | AE16: =AC16*AD16 -> 124
M17: 13 | N17: =+M17*50 -> 650 | P17: 10.13 | Q17: 202.6 | S17: 13 | T17: =+S17*8 -> 104 | V17: 13 | W17: =+V17*7 -> 91 | Y17: 63 | Z17: 3 | AA17: =Y17*Z17 -> 189 | AC17: 63 | AD17: 2 | AE17: =AC17*AD17 -> 126
P18: 10.14 | Q18: 202.8 | S18: 14 | T18: =+S18*8 -> 112 | V18: 14 | W18: =+V18*7 -> 98 | Y18: 64 | Z18: 3 | AA18: =Y18*Z18 -> 192 | AC18: 64 | AD18: 2 | AE18: =AC18*AD18 -> 128
P19: 10.15 | Q19: 203 | S19: 15 | T19: =+S19*8 -> 120 | V19: 15 | W19: =+V19*7 -> 105 | Y19: 65 | Z19: 3 | AA19: =Y19*Z19 -> 195 | AC19: 65 | AD19: 2 | AE19: =AC19*AD19 -> 130
P20: 10.16 | Q20: 203.2 | S20: 16 | T20: =+S20*8 -> 128 | V20: 16 | W20: =+V20*7 -> 112 | Y20: 66 | Z20: 3 | AA20: =Y20*Z20 -> 198 | AC20: 66 | AD20: 2 | AE20: =AC20*AD20 -> 132
P21: 10.17 | Q21: 203.4 | S21: 17 | T21: =+S21*8 -> 136 | V21: 17 | W21: =+V21*7 -> 119 | Y21: 67 | Z21: 3 | AA21: =Y21*Z21 -> 201 | AC21: 67 | AD21: 2 | AE21: =AC21*AD21 -> 134
P22: 10.18 | Q22: 203.6 | S22: 18 | T22: =+S22*8 -> 144 | V22: 18 | W22: =+V22*7 -> 126 | Y22: 68 | Z22: 3 | AA22: =Y22*Z22 -> 204 | AC22: 68 | AD22: 2 | AE22: =AC22*AD22 -> 136
P23: 10.19 | Q23: 203.8 | S23: 19 | T23: =+S23*8 -> 152 | V23: 19 | W23: =+V23*7 -> 133 | Y23: 69 | Z23: 3 | AA23: =Y23*Z23 -> 207 | AC23: 69 | AD23: 2 | AE23: =AC23*AD23 -> 138
P24: 10.2 | Q24: 204 | S24: 20 | T24: =+S24*8 -> 160 | V24: 20 | W24: =+V24*7 -> 140 | Y24: 70 | Z24: 3 | AA24: =Y24*Z24 -> 210 | AC24: 70 | AD24: 2 | AE24: =AC24*AD24 -> 140
P25: 10.21 | Q25: 204.2 | S25: 21 | T25: =+S25*8 -> 168 | V25: 21 | W25: =+V25*7 -> 147 | Y25: 71 | Z25: 3 | AA25: =Y25*Z25 -> 213 | AC25: 71 | AD25: 2 | AE25: =AC25*AD25 -> 142
P26: 10.22 | Q26: 204.4 | S26: 22 | T26: =+S26*8 -> 176 | V26: 22 | W26: =+V26*7 -> 154 | Y26: 72 | Z26: 3 | AA26: =Y26*Z26 -> 216 | AC26: 72 | AD26: 2 | AE26: =AC26*AD26 -> 144
P27: 10.23 | Q27: 204.6 | S27: 23 | T27: =+S27*8 -> 184 | V27: 23 | W27: =+V27*7 -> 161 | Y27: 73 | Z27: 3 | AA27: =Y27*Z27 -> 219 | AC27: 73 | AD27: 2 | AE27: =AC27*AD27 -> 146
P28: 10.24 | Q28: 204.8 | S28: 24 | T28: =+S28*8 -> 192 | V28: 24 | W28: =+V28*7 -> 168 | Y28: 74 | Z28: 3 | AA28: =Y28*Z28 -> 222 | AC28: 74 | AD28: 2 | AE28: =AC28*AD28 -> 148
P29: 10.25 | Q29: 205 | S29: 25 | T29: =+S29*8 -> 200 | V29: 25 | W29: =+V29*7 -> 175 | Y29: 75 | Z29: 3 | AA29: =Y29*Z29 -> 225 | AC29: 75 | AD29: 2 | AE29: =AC29*AD29 -> 150
... P54: 10.5 | Q54: 210 | S54: 50 | T54: =+S54*8 -> 400 | V54: 50 | W54: =+V54*7 -> 350 | Y54: 100 | Z54: 3 | AA54: =Y54*Z54 -> 300 | AC54: 100 | AD54: 2 | AE54: =AC54*AD54 -> 200
P55: 10.51 | Q55: 210.2 | S55: 51 | T55: =+S55*8 -> 408 | V55: 51 | W55: =+V55*7 -> 357
P56: 10.52 | Q56: 210.4 | S56: 52 | T56: =+S56*8 -> 416 | V56: 52 | W56: =+V56*7 -> 364
P57: 10.53 | Q57: 210.6 | S57: 53 | T57: =+S57*8 -> 424 | V57: 53 | W57: =+V57*7 -> 371
P58: 10.54 | Q58: 210.8 | S58: 54 | T58: =+S58*8 -> 432 | V58: 54 | W58: =+V58*7 -> 378
P59: 10.55 | Q59: 211 | S59: 55 | T59: =+S59*8 -> 440 | V59: 55 | W59: =+V59*7 -> 385
P60: 10.56 | Q60: 211.2 | S60: 56 | T60: =+S60*8 -> 448 | V60: 56 | W60: =+V60*7 -> 392
P61: 10.57 | Q61: 211.4 | S61: 57 | T61: =+S61*8 -> 456 | V61: 57 | W61: =+V61*7 -> 399
P62: 10.58 | Q62: 211.6 | S62: 58 | T62: =+S62*8 -> 464 | V62: 58 | W62: =+V62*7 -> 406
P63: 10.59 | Q63: 211.8 | S63: 59 | T63: =+S63*8 -> 472 | V63: 59 | W63: =+V63*7 -> 413
P64: 10.6 | Q64: 212 | S64: 60 | T64: =+S64*8 -> 480 | V64: 60 | W64: =+V64*7 -> 420
P65: 10.61 | Q65: 212.2 | S65: 61 | T65: =+S65*8 -> 488 | V65: 61 | W65: =+V65*7 -> 427
...
