Workbook

Sheet ΑΘΗΝΑ
E2: (1) | F2: (2) | G2: (3) | H2: (4) | I2: (5) | J2: (6) | K2: (7) | L2: (8) | M2: (9) | N2: (10α) | O2: (10β) | P2: (11) | Q2: (12)
A3: A/A | B3: ΑΡ.ΠΡΩΤ. | C3: ΕΠΩΝΥΜΟ | D3: ΟΝΟΜΑ | E3: ΧΡΟΝΟΣ ΑΝΕΡΓΙΑΣ (σε μήνες) | F3: ΠΟΛΥΤΕΚΝΟΣ (αριθμ. τέκνων) | G3: ΤΕΚΝΟ ΠΟΛΥΤΕΚΝΗΣ ΟΙΚΟΓΕΝΕΙΑΣ (αρ. τέκνων) | H3: ΤΡΙΤΕΚΝΟΣΣ (αριθμ. Τεκνων) | I3: ΤΕΚΝΟ ΤΡΙΤΕΚΝΗΣ (αριθμ. Τέκνων) | J3: ΑΝΗΛΙΚΑ ΤΕΚΝΑ (αριθμ. ανήλικων τέκνων) | K3: ΓΟΝΕΑΣ ΜΟΝΟΓΟΝΕΙΚΗΣ ΟΙΚΟΓΕΝΕΙΑΣ (αριθμ. τέκνων) | L3: ΤΕΚΝΟ ΜΟΝΟΓΟΝΕΙΚΗΣ ΟΙΚΟΓΕΝΕΙΑΣ (αρ. τέκνων) | M3: ΤΙΛΟΣ ΣΠΟΥΔΩΝ (για ΔΕ κατηγορία) | N3: ΕΜΠΕΙΡΙΑ ΣΤΟ ΔΗΜΟΣΙΟ (μήνες) | O3: ΕΜΠΕΙΡΙΑ ΣΤΟΝ ΙΔΙΩΤΙΚΟ (μήνες) | P3: ΑΝΑΠΗΡΙΑ ΥΠΟΨΗΦΙΟΥ (ποσοστό) | Q3: ΑΝΑΠΗΡΙΑ ΓΟΝΕΑ, ΤΕΚΝΟΥ, ΑΔΕΛΦΟΥ ΣΥΖΥΓΟΥ (ποσοστό) | R3: ΜΟΝΑΔΕΣ (1) | S3: ΜΟΝΑΔΕΣ (2) | T3: ΜΟΝΑΔΕΣ (3) | U3: ΜΟΝΑΔΕΣ (4) | V3: ΜΟΝΑΔΕΣ (5) | W3: ΜΟΝΑΔΕΣ (6) | X3: ΜΟΝΑΔΕΣ (7) | Y3: ΜΟΝΑΔΕΣ (8) | Z3: ΜΟΝΑΔΕΣ (9) | AA3: ΜΟΝΑΔΕΣ (10α) | AB3: ΜΟΝΑΔΕΣ (10β) | AC3: ΜΟΝΑΔΕΣ (11) | AD3: ΜΟΝΑΔΕΣ (12) | AF3: ΣΥΝΟΛΟ ΜΟΝΑΔΩΝ
A4: 1 | B4: 91370 | C4: ΧΡΙΣΤΟΦΗ | D4: ΕΛΕΝΗ | E4: 6 | F4: 0 | G4: 4 | H4: 3 | I4: 0 | J4: 3 | K4: 0 | L4: 0 | M4: 0 | N4: 29 | O4: 118 | P4: 0 | Q4: 0 | R4: =VLOOKUP(E4,Παράμετροι!$A$4:$B$10,2) -> 300 | S4: =VLOOKUP(F4,Παράμετροι!$D$4:$E$19,2) -> 0 | T4: =VLOOKUP(G4,Παράμετροι!$D$4:$E$19,2) -> 200 | U4: =VLOOKUP(H4,Παράμετροι!$G$4:$H$7,2) -> 120 | V4: =VLOOKUP(I4,Παράμετροι!$G$4:$H$7,2) -> 0 | W4: =VLOOKUP(J4,Παράμετροι!$J$4:$K$7,2) -> 110 | X4: =VLOOKUP(K4,Παράμετροι!$M$4:$N$14,2) -> 0 | Y4: =VLOOKUP(L4,Παράμετροι!$M$4:$N$14,2) -> 0 | Z4: 0 | AA4: =VLOOKUP(N4,Παράμετροι!$S$4:$T$124,2) -> 232 | AB4: =VLOOKUP(O4,Παράμετροι!$V$4:$W$124,2) -> 826 | AC4: =VLOOKUP(P4,Παράμετροι!$Y$4:$Z$55,2) -> 0 | AD4: =VLOOKUP(Q4,Παράμετροι!$AB$4:$AC$55,2) -> 0 | AE4: =SUM(R4:AD4) -> 1788 | AF4: 1788
A5: 2 | B5: 92718 | C5: ΔΕΒΕΛΙΑΔΟΥ | D5: ΒΗΘΛΕΕΜ | E5: 7 | F5: 0 | G5: 0 | H5: 0 | I5: 0 | J5: 1 | K5: 1 | L5: 0 | M5: 0 | N5: 75 | O5: 115 | P5: 0 | Q5: 0 | R5: =VLOOKUP(E5,Παράμετροι!$A$4:$B$10,2) -> 300 | S5: =VLOOKUP(F5,Παράμετροι!$D$4:$E$19,2) -> 0 | T5: =VLOOKUP(G5,Παράμετροι!$D$4:$E$19,2) -> 0 | U5: =VLOOKUP(H5,Παράμετροι!$G$4:$H$7,2) -> 0 | V5: =VLOOKUP(I5,Παράμετροι!$G$4:$H$7,2) -> 0 | W5: =VLOOKUP(J5,Παράμετροι!$J$4:$K$7,2) -> 30 | X5: =VLOOKUP(K5,Παράμετροι!$M$4:$N$14,2) -> 50 | Y5: =VLOOKUP(L5,Παράμετροι!$M$4:$N$14,2) -> 0 | Z5: 0 | AA5: =VLOOKUP(N5,Παράμετροι!$S$4:$T$124,2) -> 600 | AB5: =VLOOKUP(O5,Παράμετροι!$V$4:$W$124,2) -> 805 | AC5: =VLOOKUP(P5,Παράμετροι!$Y$4:$Z$55,2) -> 0 | AD5: =VLOOKUP(Q5,Παράμετροι!$AB$4:$AC$55,2) -> 0 | AE5: =SUM(R5:AD5) -> 1785 | AF5: 1785
A6: 3 | B6: 90804 | C6: ΚΑΝΤΑΡΙΔΟΥ | D6: ΜΑΡΘΑ | E6: 6 | F6: 0 | G6: 5 | H6: 3 | I6: 0 | J6: 3 | K6: 0 | L6: 0 | M6: 0 | N6: 53 | O6: 68 | P6: 0 | Q6: 0 | R6: =VLOOKUP(E6,Παράμετροι!$A$4:$B$10,2) -> 300 | S6: =VLOOKUP(F6,Παράμετροι!$D$4:$E$19,2) -> 0 | T6: =VLOOKUP(G6,Παράμετροι!$D$4:$E$19,2) -> 250 | U6: =VLOOKUP(H6,Παράμετροι!$G$4:$H$7,2) -> 120 | V6: =VLOOKUP(I6,Παράμετροι!$G$4:$H$7,2) -> 0 | W6: =VLOOKUP(J6,Παράμετροι!$J$4:$K$7,2) -> 110 | X6: =VLOOKUP(K6,Παράμετροι!$M$4:$N$14,2) -> 0 | Y6: =VLOOKUP(L6,Παράμετροι!$M$4:$N$14,2) -> 0 | Z6: 0 | AA6: =VLOOKUP(N6,Παράμετροι!$S$4:$T$124,2) -> 424 | AB6: =VLOOKUP(O6,Παράμετροι!$V$4:$W$124,2) -> 476 | AC6: =VLOOKUP(P6,Παράμετροι!$Y$4:$Z$55,2) -> 0 | AD6: =VLOOKUP(Q6,Παράμετροι!$AB$4:$AC$55,2) -> 0 | AE6: =SUM(R6:AD6) -> 1680 | AF6: 1680
A7: 4 | B7: 91385 | C7: ΚΟΝΙΑΒΙΤΗΣ | D7: ΒΑΣΙΛΕΙΟΣ | E7: 5 | F7: 0 | G7: 0 | H7: 0 | I7: 0 | J7: 2 | K7: 0 | L7: 0 | M7: 0 | N7: 183 | O7: 34 | P7: 0 | Q7: 85 | R7: =VLOOKUP(E7,Παράμετροι!$A$4:$B$10,2) -> 250 | S7: =VLOOKUP(F7,Παράμετροι!$D$4:$E$19,2) -> 0 | T7: =VLOOKUP(G7,Παράμετροι!$D$4:$E$19,2) -> 0 | U7: =VLOOKUP(H7,Παράμετροι!$G$4:$H$7,2) -> 0 | V7: =VLOOKUP(I7,Παράμετροι!$G$4:$H$7,2) -> 0 | W7: =VLOOKUP(J7,Παράμετροι!$J$4:$K$7,2) -> 60 | X7: =VLOOKUP(K7,Παράμετροι!$M$4:$N$14,2) -> 0 | Y7: =VLOOKUP(L7,Παράμετροι!$M$4:$N$14,2) -> 0 | Z7: 0 | AA7: =VLOOKUP(N7,Παράμετροι!$S$4:$T$124,2) -> 960 | AB7: =VLOOKUP(O7,Παράμετροι!$V$4:$W$124,2) -> 238 | AC7: =VLOOKUP(P7,Παράμετροι!$Y$4:$Z$55,2) -> 0 | AD7: =VLOOKUP(Q7,Παράμετροι!$AB$4:$AC$55,2) -> 170 | AE7: =SUM(R7:AD7) -> 1678 | AF7: 1678
A8: 5 | B8: 90845 | C8: ΤΥΡΟΠΟΥΛΟΥ | D8: ΒΑΡΒΑΡΑ | E8: 8 | F8: 0 | G8: 6 | H8: 0 | I8: 0 | J8: 0 | K8: 0 | L8: 0 | M8: 0 | N8: 26 | O8: 114 | P8: 0 | Q8: 0 | R8: =VLOOKUP(E8,Παράμετροι!$A$4:$B$10,2) -> 300 | S8: =VLOOKUP(F8,Παράμετροι!$D$4:$E$19,2) -> 0 | T8: =VLOOKUP(G8,Παράμετροι!$D$4:$E$19,2) -> 300 | U8: =VLOOKUP(H8,Παράμετροι!$G$4:$H$7,2) -> 0 | V8: =VLOOKUP(I8,Παράμετροι!$G$4:$H$7,2) -> 0 | W8: =VLOOKUP(J8,Παράμετροι!$J$4:$K$7,2) -> 0 | X8: =VLOOKUP(K8,Παράμετροι!$M$4:$N$14,2) -> 0 | Y8: =VLOOKUP(L8,Παράμετροι!$M$4:$N$14,2) -> 0 | Z8: 0 | AA8: =VLOOKUP(N8,Παράμετροι!$S$4:$T$124,2) -> 208 | AB8: =VLOOKUP(O8,Παράμετροι!$V$4:$W$124,2) -> 798 | AC8: =VLOOKUP(P8,Παράμετροι!$Y$4:$Z$55,2) -> 0 | AD8: =VLOOKUP(Q8,Παράμετροι!$AB$4:$AC$55,2) -> 0 | AE8: =SUM(R8:AD8) -> 1606 | AF8: 1606
A9: 6 | B9: 90552 | C9: ΛΑΖΟΣ | D9: ΙΩΑΝΝΗΣ | E9: 12 | F9: 4 | G9: 0 | H9: 0 | I9: 0 | J9: 0 | K9: 0 | L9: 0 | M9: 0 | N9: 32 | O9: 249 | P9: 0 | Q9: 0 | R9: =VLOOKUP(E9,Παράμετροι!$A$4:$B$10,2) -> 300 | S9: =VLOOKUP(F9,Παράμετροι!$D$4:$E$19,2) -> 200 | T9: =VLOOKUP(G9,Παράμετροι!$D$4:$E$19,2) -> 0 | U9: =VLOOKUP(H9,Παράμετροι!$G$4:$H$7,2) -> 0 | V9: =VLOOKUP(I9,Παράμετροι!$G$4:$H$7,2) -> 0 | W9: =VLOOKUP(J9,Παράμετροι!$J$4:$K$7,2) -> 0 | X9: =VLOOKUP(K9,Παράμετροι!$M$4:$N$14,2) -> 0 | Y9: =VLOOKUP(L9,Παράμετροι!$M$4:$N$14,2) -> 0 | Z9: 0 | AA9: =VLOOKUP(N9,Παράμετροι!$S$4:$T$124,2) -> 256 | AB9: =VLOOKUP(O9,Παράμετροι!$V$4:$W$124,2) -> 840 | AC9: =VLOOKUP(P9,Παράμετροι!$Y$4:$Z$55,2) -> 0 | AD9: =VLOOKUP(Q9,Παράμετροι!$AB$4:$AC$55,2) -> 0 | AE9: =SUM(R9:AD9) -> 1596 | AF9: 1596
A10: 7 | B10: 92360 | C10: ΣΟΛΩΜΟΥ | D10: ΑΡΕΤΗ | E10: 11 | F10: 0 | G10: 0 | H10: 3 | I10: 0 | J10: 3 | K10: 0 | L10: 0 | M10: 0 | N10: 17 | O10: 133 | P10: 0 | Q10: 0 | R10: =VLOOKUP(E10,Παράμετροι!$A$4:$B$10,2) -> 300 | S10: =VLOOKUP(F10,Παράμετροι!$D$4:$E$19,2) -> 0 | T10: =VLOOKUP(G10,Παράμετροι!$D$4:$E$19,2) -> 0 | U10: =VLOOKUP(H10,Παράμετροι!$G$4:$H$7,2) -> 120 | V10: =VLOOKUP(I10,Παράμετροι!$G$4:$H$7,2) -> 0 | W10: =VLOOKUP(J10,Παράμετροι!$J$4:$K$7,2) -> 110 | X10: =VLOOKUP(K10,Παράμετροι!$M$4:$N$14,2) -> 0 | Y10: =VLOOKUP(L10,Παράμετροι!$M$4:$N$14,2) -> 0 | Z10: 0 | AA10: =VLOOKUP(N10,Παράμετροι!$S$4:$T$124,2) -> 136 | AB10: =VLOOKUP(O10,Παράμετροι!$V$4:$W$124,2) -> 840 | AC10: =VLOOKUP(P10,Παράμετροι!$Y$4:$Z$55,2) -> 0 | AD10: =VLOOKUP(Q10,Παράμετροι!$AB$4:$AC$55,2) -> 0 | AE10: =SUM(R10:AD10) -> 1506 | AF10: 1506
A11: 8 | B11: 91229 | C11: ΔΗΜΗΤΡΑΚΗ | D11: ΒΑΣΙΛΙΚΗ | E11: 22 | F11: 0 | G11: 0 | H11: 0 | I11: 0 | J11: 0 | K11: 0 | L11: 0 | M11: 0 | N11: 71 | O11: 87 | P11: 0 | Q11: 0 | R11: =VLOOKUP(E11,Παράμετροι!$A$4:$B$10,2) -> 300 | S11: =VLOOKUP(F11,Παράμετροι!$D$4:$E$19,2) -> 0 | T11: =VLOOKUP(G11,Παράμετροι!$D$4:$E$19,2) -> 0 | U11: =VLOOKUP(H11,Παράμετροι!$G$4:$H$7,2) -> 0 | V11: =VLOOKUP(I11,Παράμετροι!$G$4:$H$7,2) -> 0 | W11: =VLOOKUP(J11,Παράμετροι!$J$4:$K$7,2) -> 0 | X11: =VLOOKUP(K11,Παράμετροι!$M$4:$N$14,2) -> 0 | Y11: =VLOOKUP(L11,Παράμετροι!$M$4:$N$14,2) -> 0 | Z11: 0 | AA11: =VLOOKUP(N11,Παράμετροι!$S$4:$T$124,2) -> 568 | AB11: =VLOOKUP(O11,Παράμετροι!$V$4:$W$124,2) -> 609 | AC11: =VLOOKUP(P11,Παράμετροι!$Y$4:$Z$55,2) -> 0 | AD11: =VLOOKUP(Q11,Παράμετροι!$AB$4:$AC$55,2) -> 0 | AE11: =SUM(R11:AD11) -> 1477 | AF11: 1477
A12: 9 | B12: 91077 | C12: ΚΑΡΑΜΠΑΛΙΚΟΓΛΟΥ | D12: ΑΡΓΥΡΩ | E12: 11 | F12: 0 | G12: 0 | H12: 0 | I12: 0 | J12: 3 | K12: 0 | L12: 0 | M12: 0 | N12: 37 | O12: 109 | P12: 0 | Q12: 0 | R12: =VLOOKUP(E12,Παράμετροι!$A$4:$B$10,2) -> 300 | S12: =VLOOKUP(F12,Παράμετροι!$D$4:$E$19,2) -> 0 | T12: =VLOOKUP(G12,Παράμετροι!$D$4:$E$19,2) -> 0 | U12: =VLOOKUP(H12,Παράμετροι!$G$4:$H$7,2) -> 0 | V12: =VLOOKUP(I12,Παράμετροι!$G$4:$H$7,2) -> 0 | W12: =VLOOKUP(J12,Παράμετροι!$J$4:$K$7,2) -> 110 | X12: =VLOOKUP(K12,Παράμετροι!$M$4:$N$14,2) -> 0 | Y12: =VLOOKUP(L12,Παράμετροι!$M$4:$N$14,2) -> 0 | Z12: 0 | AA12: =VLOOKUP(N12,Παράμετροι!$S$4:$T$124,2) -> 296 | AB12: =VLOOKUP(O12,Παράμετροι!$V$4:$W$124,2) -> 763 | AC12: =VLOOKUP(P12,Παράμετροι!$Y$4:$Z$55,2) -> 0 | AD12: =VLOOKUP(Q12,Παράμετροι!$AB$4:$AC$55,2) -> 0 | AE12: =SUM(R12:AD12) -> 1469 | AF12: 1469
A13: 10 | B13: 89288 | C13: ΜΠΑΜΠΑΝΗ | D13: ΓΕΩΡΓΙΑ | E13: 10 | F13: 0 | G13: 0 | H13: 0 | I13: 0 | J13: 1 | K13: 0 | L13: 0 | M13: 0 | N13: 39 | O13: 118 | P13: 0 | Q13: 0 | R13: =VLOOKUP(E13,Παράμετροι!$A$4:$B$10,2) -> 300 | S13: =VLOOKUP(F13,Παράμετροι!$D$4:$E$19,2) -> 0 | T13: =VLOOKUP(G13,Παράμετροι!$D$4:$E$19,2) -> 0 | U13: =VLOOKUP(H13,Παράμετροι!$G$4:$H$7,2) -> 0 | V13: =VLOOKUP(I13,Παράμετροι!$G$4:$H$7,2) -> 0 | W13: =VLOOKUP(J13,Παράμετροι!$J$4:$K$7,2) -> 30 | X13: =VLOOKUP(K13,Παράμετροι!$M$4:$N$14,2) -> 0 | Y13: =VLOOKUP(L13,Παράμετροι!$M$4:$N$14,2) -> 0 | Z13: 0 | AA13: =VLOOKUP(N13,Παράμετροι!$S$4:$T$124,2) -> 312 | AB13: =VLOOKUP(O13,Παράμετροι!$V$4:$W$124,2) -> 826 | AC13: =VLOOKUP(P13,Παράμετροι!$Y$4:$Z$55,2) -> 0 | AD13: =VLOOKUP(Q13,Παράμετροι!$AB$4:$AC$55,2) -> 0 | AE13: =SUM(R13:AD13) -> 1468 | AF13: 1468
A14: 11 | B14: 89311 | C14: ΖΟΥΛΟΥ | D14: ΝΙΚΟΛΕΤΤΑ | E14: 15 | F14: 0 | G14: 0 | H14: 0 | I14: 0 | J14: 1 | K14: 0 | L14: 0 | M14: 0 | N14: 36 | O14: 145 | P14: 0 | Q14: 0 | R14: =VLOOKUP(E14,Παράμετροι!$A$4:$B$10,2) -> 300 | S14: =VLOOKUP(F14,Παράμετροι!$D$4:$E$19,2) -> 0 | T14: =VLOOKUP(G14,Παράμετροι!$D$4:$E$19,2) -> 0 | U14: =VLOOKUP(H14,Παράμετροι!$G$4:$H$7,2) -> 0 | V14: =VLOOKUP(I14,Παράμετροι!$G$4:$H$7,2) -> 0 | W14: =VLOOKUP(J14,Παράμετροι!$J$4:$K$7,2) -> 30 | X14: =VLOOKUP(K14,Παράμετροι!$M$4:$N$14,2) -> 0 | Y14: =VLOOKUP(L14,Παράμετροι!$M$4:$N$14,2) -> 0 | Z14: 0 | AA14: =VLOOKUP(N14,Παράμετροι!$S$4:$T$124,2) -> 288 | AB14: =VLOOKUP(O14,Παράμετροι!$V$4:$W$124,2) -> 840 | AC14: =VLOOKUP(P14,Παράμετροι!$Y$4:$Z$55,2) -> 0 | AD14: =VLOOKUP(Q14,Παράμετροι!$AB$4:$AC$55,2) -> 0 | AE14: =SUM(R14:AD14) -> 1458 | AF14: 1458
A15: 12 | B15: 92788 | C15: ΓΙΑΝΝΟΠΟΥΛΟΥ | D15: ΚΩΝΣΤΑΝΤΙΝΑ | E15: 6 | F15: 0 | G15: 0 | H15: 3 | I15: 0 | J15: 3 | K15: 0 | L15: 0 | M15: 0 | N15: 15 | O15: 115 | P15: 0 | Q15: 0 | R15: =VLOOKUP(E15,Παράμετροι!$A$4:$B$10,2) -> 300 | S15: =VLOOKUP(F15,Παράμετροι!$D$4:$E$19,2) -> 0 | T15: =VLOOKUP(G15,Παράμετροι!$D$4:$E$19,2) -> 0 | U15: =VLOOKUP(H15,Παράμετροι!$G$4:$H$7,2) -> 120 | V15: =VLOOKUP(I15,Παράμετροι!$G$4:$H$7,2) -> 0 | W15: =VLOOKUP(J15,Παράμετροι!$J$4:$K$7,2) -> 110 | X15: =VLOOKUP(K15,Παράμετροι!$M$4:$N$14,2) -> 0 | Y15: =VLOOKUP(L15,Παράμετροι!$M$4:$N$14,2) -> 0 | Z15: 0 | AA15: =VLOOKUP(N15,Παράμετροι!$S$4:$T$124,2) -> 120 | AB15: =VLOOKUP(O15,Παράμετροι!$V$4:$W$124,2) -> 805 | AC15: =VLOOKUP(P15,Παράμετροι!$Y$4:$Z$55,2) -> 0 | AD15: =VLOOKUP(Q15,Παράμετροι!$AB$4:$AC$55,2) -> 0 | AE15: =SUM(R15:AD15) -> 1455 | AF15: 1455
... A67: 64 | B67: 92274 | C67: ΠΑΡΑΣΚΕΥΟΠΟΥΛΟΥ | D67: ΜΑΡΙΑ | E67: 25 | F67: 0 | G67: 0 | H67: 0 | I67: 0 | J67: 1 | K67: 0 | L67: 0 | M67: 0 | N67: 0 | O67: 170 | P67: 0 | Q67: 0 | R67: =VLOOKUP(E67,Παράμετροι!$A$4:$B$10,2) -> 300 | S67: =VLOOKUP(F67,Παράμετροι!$D$4:$E$19,2) -> 0 | T67: =VLOOKUP(G67,Παράμετροι!$D$4:$E$19,2) -> 0 | U67: =VLOOKUP(H67,Παράμετροι!$G$4:$H$7,2) -> 0 | V67: =VLOOKUP(I67,Παράμετροι!$G$4:$H$7,2) -> 0 | W67: =VLOOKUP(J67,Παράμετροι!$J$4:$K$7,2) -> 30 | X67: =VLOOKUP(K67,Παράμετροι!$M$4:$N$14,2) -> 0 | Y67: =VLOOKUP(L67,Παράμετροι!$M$4:$N$14,2) -> 0 | Z67: 0 | AA67: =VLOOKUP(N67,Παράμετροι!$S$4:$T$124,2) -> 0 | AB67: =VLOOKUP(O67,Παράμετροι!$V$4:$W$124,2) -> 840 | AC67: =VLOOKUP(P67,Παράμετροι!$Y$4:$Z$55,2) -> 0 | AD67: =VLOOKUP(Q67,Παράμετροι!$AB$4:$AC$55,2) -> 0 | AE67: =SUM(R67:AD67) -> 1170 | AF67: 1170
A68: 65 | B68: 92234,ΣΧ.93114 | C68: ΑΝΔΡΙΩΤΗ | D68: ΣΟΥΛΤΑΝΑ | E68: 20 | F68: 0 | G68: 0 | H68: 0 | I68: 0 | J68: 1 | K68: 0 | L68: 0 | M68: 0 | N68: 0 | O68: 127 | P68: 0 | Q68: 0 | R68: =VLOOKUP(E68,Παράμετροι!$A$4:$B$10,2) -> 300 | S68: =VLOOKUP(F68,Παράμετροι!$D$4:$E$19,2) -> 0 | T68: =VLOOKUP(G68,Παράμετροι!$D$4:$E$19,2) -> 0 | U68: =VLOOKUP(H68,Παράμετροι!$G$4:$H$7,2) -> 0 | V68: =VLOOKUP(I68,Παράμετροι!$G$4:$H$7,2) -> 0 | W68: =VLOOKUP(J68,Παράμετροι!$J$4:$K$7,2) -> 30 | X68: =VLOOKUP(K68,Παράμετροι!$M$4:$N$14,2) -> 0 | Y68: =VLOOKUP(L68,Παράμετροι!$M$4:$N$14,2) -> 0 | Z68: 0 | AA68: =VLOOKUP(N68,Παράμετροι!$S$4:$T$124,2) -> 0 | AB68: =VLOOKUP(O68,Παράμετροι!$V$4:$W$124,2) -> 840 | AC68: =VLOOKUP(P68,Παράμετροι!$Y$4:$Z$55,2) -> 0 | AD68: =VLOOKUP(Q68,Παράμετροι!$AB$4:$AC$55,2) -> 0 | AE68: =SUM(R68:AD68) -> 1170 | AF68: 1170
A69: 66 | B69: 90164 | C69: ΚΙΛΛΕΡΗ | D69: ΑΝΤΡΙΑΝ | E69: 12 | F69: 0 | G69: 0 | H69: 0 | I69: 0 | J69: 1 | K69: 0 | L69: 0 | M69: 0 | N69: 0 | O69: 156 | P69: 0 | Q69: 0 | R69: =VLOOKUP(E69,Παράμετροι!$A$4:$B$10,2) -> 300 | S69: =VLOOKUP(F69,Παράμετροι!$D$4:$E$19,2) -> 0 | T69: =VLOOKUP(G69,Παράμετροι!$D$4:$E$19,2) -> 0 | U69: =VLOOKUP(H69,Παράμετροι!$G$4:$H$7,2) -> 0 | V69: =VLOOKUP(I69,Παράμετροι!$G$4:$H$7,2) -> 0 | W69: =VLOOKUP(J69,Παράμετροι!$J$4:$K$7,2) -> 30 | X69: =VLOOKUP(K69,Παράμετροι!$M$4:$N$14,2) -> 0 | Y69: =VLOOKUP(L69,Παράμετροι!$M$4:$N$14,2) -> 0 | Z69: 0 | AA69: =VLOOKUP(N69,Παράμετροι!$S$4:$T$124,2) -> 0 | AB69: =VLOOKUP(O69,Παράμετροι!$V$4:$W$124,2) -> 840 | AC69: =VLOOKUP(P69,Παράμετροι!$Y$4:$Z$55,2) -> 0 | AD69: =VLOOKUP(Q69,Παράμετροι!$AB$4:$AC$55,2) -> 0 | AE69: =SUM(R69:AD69) -> 1170 | AF69: 1170
A70: 67 | B70: 90329 | C70: ΑΝΑΣΤΑΣΟΠΟΥΛΟΥ | D70: ΘΕΟΔΩΡΑ | E70: 8 | F70: 0 | G70: 0 | H70: 0 | I70: 0 | J70: 1 | K70: 0 | L70: 0 | M70: 0 | N70: 0 | O70: 120 | P70: 0 | Q70: 0 | R70: =VLOOKUP(E70,Παράμετροι!$A$4:$B$10,2) -> 300 | S70: =VLOOKUP(F70,Παράμετροι!$D$4:$E$19,2) -> 0 | T70: =VLOOKUP(G70,Παράμετροι!$D$4:$E$19,2) -> 0 | U70: =VLOOKUP(H70,Παράμετροι!$G$4:$H$7,2) -> 0 | V70: =VLOOKUP(I70,Παράμετροι!$G$4:$H$7,2) -> 0 | W70: =VLOOKUP(J70,Παράμετροι!$J$4:$K$7,2) -> 30 | X70: =VLOOKUP(K70,Παράμετροι!$M$4:$N$14,2) -> 0 | Y70: =VLOOKUP(L70,Παράμετροι!$M$4:$N$14,2) -> 0 | Z70: 0 | AA70: =VLOOKUP(N70,Παράμετροι!$S$4:$T$124,2) -> 0 | AB70: =VLOOKUP(O70,Παράμετροι!$V$4:$W$124,2) -> 840 | AC70: =VLOOKUP(P70,Παράμετροι!$Y$4:$Z$55,2) -> 0 | AD70: =VLOOKUP(Q70,Παράμετροι!$AB$4:$AC$55,2) -> 0 | AE70: =SUM(R70:AD70) -> 1170 | AF70: 1170
A71: 68 | B71: 90313 | C71: ΒΟΥΡΤΣΗΣ | D71: ΣΤΥΛΙΑΝΟΣ | E71: 7 | F71: 0 | G71: 0 | H71: 0 | I71: 0 | J71: 0 | K71: 0 | L71: 0 | M71: 0 | N71: 106 | O71: 0 | P71: 0 | Q71: 0 | R71: =VLOOKUP(E71,Παράμετροι!$A$4:$B$10,2) -> 300 | S71: =VLOOKUP(F71,Παράμετροι!$D$4:$E$19,2) -> 0 | T71: =VLOOKUP(G71,Παράμετροι!$D$4:$E$19,2) -> 0 | U71: =VLOOKUP(H71,Παράμετροι!$G$4:$H$7,2) -> 0 | V71: =VLOOKUP(I71,Παράμετροι!$G$4:$H$7,2) -> 0 | W71: =VLOOKUP(J71,Παράμετροι!$J$4:$K$7,2) -> 0 | X71: =VLOOKUP(K71,Παράμετροι!$M$4:$N$14,2) -> 0 | Y71: =VLOOKUP(L71,Παράμετροι!$M$4:$N$14,2) -> 0 | Z71: 0 | AA71: =VLOOKUP(N71,Παράμετροι!$S$4:$T$124,2) -> 848 | AB71: =VLOOKUP(O71,Παράμετροι!$V$4:$W$124,2) -> 0 | AC71: =VLOOKUP(P71,Παράμετροι!$Y$4:$Z$55,2) -> 0 | AD71: =VLOOKUP(Q71,Παράμετροι!$AB$4:$AC$55,2) -> 0 | AE71: =SUM(R71:AD71) -> 1148 | AF71: 1148
A72: 69 | B72: 90732 | C72: ΣΟΦΙΑΝΟΣ | D72: ΝΙΚΟΛΑΟΣ | E72: 28 | F72: 0 | G72: 0 | H72: 0 | I72: 0 | J72: 0 | K72: 0 | L72: 0 | M72: 0 | N72: 0 | O72: 120 | P72: 0 | Q72: 0 | R72: =VLOOKUP(E72,Παράμετροι!$A$4:$B$10,2) -> 300 | S72: =VLOOKUP(F72,Παράμετροι!$D$4:$E$19,2) -> 0 | T72: =VLOOKUP(G72,Παράμετροι!$D$4:$E$19,2) -> 0 | U72: =VLOOKUP(H72,Παράμετροι!$G$4:$H$7,2) -> 0 | V72: =VLOOKUP(I72,Παράμετροι!$G$4:$H$7,2) -> 0 | W72: =VLOOKUP(J72,Παράμετροι!$J$4:$K$7,2) -> 0 | X72: =VLOOKUP(K72,Παράμετροι!$M$4:$N$14,2) -> 0 | Y72: =VLOOKUP(L72,Παράμετροι!$M$4:$N$14,2) -> 0 | Z72: 0 | AA72: =VLOOKUP(N72,Παράμετροι!$S$4:$T$124,2) -> 0 | AB72: =VLOOKUP(O72,Παράμετροι!$V$4:$W$124,2) -> 840 | AC72: =VLOOKUP(P72,Παράμετροι!$Y$4:$Z$55,2) -> 0 | AD72: =VLOOKUP(Q72,Παράμετροι!$AB$4:$AC$55,2) -> 0 | AE72: =SUM(R72:AD72) -> 1140 | AF72: 1140
A73: 70 | B73: 91045 | C73: ΚΕΣΟΒ | D73: ΣΑΒΒΑΣ | E73: 17 | F73: 0 | G73: 0 | H73: 0 | I73: 0 | J73: 0 | K73: 0 | L73: 0 | M73: 0 | N73: 0 | O73: 120 | P73: 0 | Q73: 0 | R73: =VLOOKUP(E73,Παράμετροι!$A$4:$B$10,2) -> 300 | S73: =VLOOKUP(F73,Παράμετροι!$D$4:$E$19,2) -> 0 | T73: =VLOOKUP(G73,Παράμετροι!$D$4:$E$19,2) -> 0 | U73: =VLOOKUP(H73,Παράμετροι!$G$4:$H$7,2) -> 0 | V73: =VLOOKUP(I73,Παράμετροι!$G$4:$H$7,2) -> 0 | W73: =VLOOKUP(J73,Παράμετροι!$J$4:$K$7,2) -> 0 | X73: =VLOOKUP(K73,Παράμετροι!$M$4:$N$14,2) -> 0 | Y73: =VLOOKUP(L73,Παράμετροι!$M$4:$N$14,2) -> 0 | Z73: 0 | AA73: =VLOOKUP(N73,Παράμετροι!$S$4:$T$124,2) -> 0 | AB73: =VLOOKUP(O73,Παράμετροι!$V$4:$W$124,2) -> 840 | AC73: =VLOOKUP(P73,Παράμετροι!$Y$4:$Z$55,2) -> 0 | AD73: =VLOOKUP(Q73,Παράμετροι!$AB$4:$AC$55,2) -> 0 | AE73: =SUM(R73:AD73) -> 1140 | AF73: 1140
A74: 71 | B74: 88802 | C74: ΣΕΡΔΑΡΗΣ | D74: ΙΩΑΝΝΗΣ | E74: 16 | F74: 0 | G74: 0 | H74: 0 | I74: 0 | J74: 0 | K74: 0 | L74: 0 | M74: 0 | N74: 0 | O74: 153 | P74: 0 | Q74: 0 | R74: =VLOOKUP(E74,Παράμετροι!$A$4:$B$10,2) -> 300 | S74: =VLOOKUP(F74,Παράμετροι!$D$4:$E$19,2) -> 0 | T74: =VLOOKUP(G74,Παράμετροι!$D$4:$E$19,2) -> 0 | U74: =VLOOKUP(H74,Παράμετροι!$G$4:$H$7,2) -> 0 | V74: =VLOOKUP(I74,Παράμετροι!$G$4:$H$7,2) -> 0 | W74: =VLOOKUP(J74,Παράμετροι!$J$4:$K$7,2) -> 0 | X74: =VLOOKUP(K74,Παράμετροι!$M$4:$N$14,2) -> 0 | Y74: =VLOOKUP(L74,Παράμετροι!$M$4:$N$14,2) -> 0 | Z74: 0 | AA74: =VLOOKUP(N74,Παράμετροι!$S$4:$T$124,2) -> 0 | AB74: =VLOOKUP(O74,Παράμετροι!$V$4:$W$124,2) -> 840 | AC74: =VLOOKUP(P74,Παράμετροι!$Y$4:$Z$55,2) -> 0 | AD74: =VLOOKUP(Q74,Παράμετροι!$AB$4:$AC$55,2) -> 0 | AE74: =SUM(R74:AD74) -> 1140 | AF74: 1140
A75: 72 | B75: 91264 | C75: ΚΟΥΡΟΥ | D75: ΜΑΡΙΑ | E75: 15 | F75: 0 | G75: 0 | H75: 0 | I75: 0 | J75: 0 | K75: 0 | L75: 0 | M75: 0 | N75: 0 | O75: 186 | P75: 0 | Q75: 0 | R75: =VLOOKUP(E75,Παράμετροι!$A$4:$B$10,2) -> 300 | S75: =VLOOKUP(F75,Παράμετροι!$D$4:$E$19,2) -> 0 | T75: =VLOOKUP(G75,Παράμετροι!$D$4:$E$19,2) -> 0 | U75: =VLOOKUP(H75,Παράμετροι!$G$4:$H$7,2) -> 0 | V75: =VLOOKUP(I75,Παράμετροι!$G$4:$H$7,2) -> 0 | W75: =VLOOKUP(J75,Παράμετροι!$J$4:$K$7,2) -> 0 | X75: =VLOOKUP(K75,Παράμετροι!$M$4:$N$14,2) -> 0 | Y75: =VLOOKUP(L75,Παράμετροι!$M$4:$N$14,2) -> 0 | Z75: 0 | AA75: =VLOOKUP(N75,Παράμετροι!$S$4:$T$124,2) -> 0 | AB75: =VLOOKUP(O75,Παράμετροι!$V$4:$W$124,2) -> 840 | AC75: =VLOOKUP(P75,Παράμετροι!$Y$4:$Z$55,2) -> 0 | AD75: =VLOOKUP(Q75,Παράμετροι!$AB$4:$AC$55,2) -> 0 | AE75: =SUM(R75:AD75) -> 1140 | AF75: 1140
A76: 73 | B76: 89337 | C76: ΣΑΡΑΝΤΗ | D76: ΣΕΒΑΣΤΗ | E76: 14 | F76: 0 | G76: 0 | H76: 0 | I76: 0 | J76: 0 | K76: 0 | L76: 0 | M76: 0 | N76: 0 | O76: 177 | P76: 0 | Q76: 0 | R76: =VLOOKUP(E76,Παράμετροι!$A$4:$B$10,2) -> 300 | S76: =VLOOKUP(F76,Παράμετροι!$D$4:$E$19,2) -> 0 | T76: =VLOOKUP(G76,Παράμετροι!$D$4:$E$19,2) -> 0 | U76: =VLOOKUP(H76,Παράμετροι!$G$4:$H$7,2) -> 0 | V76: =VLOOKUP(I76,Παράμετροι!$G$4:$H$7,2) -> 0 | W76: =VLOOKUP(J76,Παράμετροι!$J$4:$K$7,2) -> 0 | X76: =VLOOKUP(K76,Παράμετροι!$M$4:$N$14,2) -> 0 | Y76: =VLOOKUP(L76,Παράμετροι!$M$4:$N$14,2) -> 0 | Z76: 0 | AA76: =VLOOKUP(N76,Παράμετροι!$S$4:$T$124,2) -> 0 | AB76: =VLOOKUP(O76,Παράμετροι!$V$4:$W$124,2) -> 840 | AC76: =VLOOKUP(P76,Παράμετροι!$Y$4:$Z$55,2) -> 0 | AD76: =VLOOKUP(Q76,Παράμετροι!$AB$4:$AC$55,2) -> 0 | AE76: =SUM(R76:AD76) -> 1140 | AF76: 1140
A77: 74 | B77: 92518 | C77: ΜΠΑΡΑ | D77: ΑΓΓΕΛΙΚΗ | E77: 14 | F77: 0 | G77: 0 | H77: 0 | I77: 0 | J77: 0 | K77: 0 | L77: 0 | M77: 0 | N77: 0 | O77: 130 | P77: 0 | Q77: 0 | R77: =VLOOKUP(E77,Παράμετροι!$A$4:$B$10,2) -> 300 | S77: =VLOOKUP(F77,Παράμετροι!$D$4:$E$19,2) -> 0 | T77: =VLOOKUP(G77,Παράμετροι!$D$4:$E$19,2) -> 0 | U77: =VLOOKUP(H77,Παράμετροι!$G$4:$H$7,2) -> 0 | V77: =VLOOKUP(I77,Παράμετροι!$G$4:$H$7,2) -> 0 | W77: =VLOOKUP(J77,Παράμετροι!$J$4:$K$7,2) -> 0 | X77: =VLOOKUP(K77,Παράμετροι!$M$4:$N$14,2) -> 0 | Y77: =VLOOKUP(L77,Παράμετροι!$M$4:$N$14,2) -> 0 | Z77: 0 | AA77: =VLOOKUP(N77,Παράμετροι!$S$4:$T$124,2) -> 0 | AB77: =VLOOKUP(O77,Παράμετροι!$V$4:$W$124,2) -> 840 | AC77: =VLOOKUP(P77,Παράμετροι!$Y$4:$Z$55,2) -> 0 | AD77: =VLOOKUP(Q77,Παράμετροι!$AB$4:$AC$55,2) -> 0 | AE77: =SUM(R77:AD77) -> 1140 | AF77: 1140
A78: 75 | B78: 88651 | C78: ΤΣΙΜΟΓΙΑΝΝΗ | D78: ΙΟΥΛΙΑ | E78: 9 | F78: 0 | G78: 0 | H78: 0 | I78: 0 | J78: 0 | K78: 0 | L78: 0 | M78: 0 | N78: 0 | O78: 159 | P78: 0 | Q78: 0 | R78: =VLOOKUP(E78,Παράμετροι!$A$4:$B$10,2) -> 300 | S78: =VLOOKUP(F78,Παράμετροι!$D$4:$E$19,2) -> 0 | T78: =VLOOKUP(G78,Παράμετροι!$D$4:$E$19,2) -> 0 | U78: =VLOOKUP(H78,Παράμετροι!$G$4:$H$7,2) -> 0 | V78: =VLOOKUP(I78,Παράμετροι!$G$4:$H$7,2) -> 0 | W78: =VLOOKUP(J78,Παράμετροι!$J$4:$K$7,2) -> 0 | X78: =VLOOKUP(K78,Παράμετροι!$M$4:$N$14,2) -> 0 | Y78: =VLOOKUP(L78,Παράμετροι!$M$4:$N$14,2) -> 0 | Z78: 0 | AA78: =VLOOKUP(N78,Παράμετροι!$S$4:$T$124,2) -> 0 | AB78: =VLOOKUP(O78,Παράμετροι!$V$4:$W$124,2) -> 840 | AC78: =VLOOKUP(P78,Παράμετροι!$Y$4:$Z$55,2) -> 0 | AD78: =VLOOKUP(Q78,Παράμετροι!$AB$4:$AC$55,2) -> 0 | AE78: =SUM(R78:AD78) -> 1140 | AF78: 1140
A79: 76 | B79: 88555 | C79: ΤΣΙΓΓΕΛΗ | D79: ΛΑΜΠΡΙΝΗ | E79: 9 | F79: 0 | G79: 0 | H79: 0 | I79: 0 | J79: 0 | K79: 0 | L79: 0 | M79: 0 | N79: 0 | O79: 153 | P79: 0 | Q79: 0 | R79: =VLOOKUP(E79,Παράμετροι!$A$4:$B$10,2) -> 300 | S79: =VLOOKUP(F79,Παράμετροι!$D$4:$E$19,2) -> 0 | T79: =VLOOKUP(G79,Παράμετροι!$D$4:$E$19,2) -> 0 | U79: =VLOOKUP(H79,Παράμετροι!$G$4:$H$7,2) -> 0 | V79: =VLOOKUP(I79,Παράμετροι!$G$4:$H$7,2) -> 0 | W79: =VLOOKUP(J79,Παράμετροι!$J$4:$K$7,2) -> 0 | X79: =VLOOKUP(K79,Παράμετροι!$M$4:$N$14,2) -> 0 | Y79: =VLOOKUP(L79,Παράμετροι!$M$4:$N$14,2) -> 0 | Z79: 0 | AA79: =VLOOKUP(N79,Παράμετροι!$S$4:$T$124,2) -> 0 | AB79: =VLOOKUP(O79,Παράμετροι!$V$4:$W$124,2) -> 840 | AC79: =VLOOKUP(P79,Παράμετροι!$Y$4:$Z$55,2) -> 0 | AD79: =VLOOKUP(Q79,Παράμετροι!$AB$4:$AC$55,2) -> 0 | AE79: =SUM(R79:AD79) -> 1140 | AF79: 1140
A80: 77 | B80: 91241 | C80: ΠΑΝΑΓΙΩΤΟΠΟΥΛΟΣ | D80: ΘΕΟΔΩΡΟΣ | E80: 7 | F80: 0 | G80: 0 | H80: 0 | I80: 0 | J80: 0 | K80: 0 | L80: 0 | M80: 0 | N80: 3 | O80: 116 | P80: 0 | Q80: 0 | R80: =VLOOKUP(E80,Παράμετροι!$A$4:$B$10,2) -> 300 | S80: =VLOOKUP(F80,Παράμετροι!$D$4:$E$19,2) -> 0 | T80: =VLOOKUP(G80,Παράμετροι!$D$4:$E$19,2) -> 0 | U80: =VLOOKUP(H80,Παράμετροι!$G$4:$H$7,2) -> 0 | V80: =VLOOKUP(I80,Παράμετροι!$G$4:$H$7,2) -> 0 | W80: =VLOOKUP(J80,Παράμετροι!$J$4:$K$7,2) -> 0 | X80: =VLOOKUP(K80,Παράμετροι!$M$4:$N$14,2) -> 0 | Y80: =VLOOKUP(L80,Παράμετροι!$M$4:$N$14,2) -> 0 | Z80: 0 | AA80: =VLOOKUP(N80,Παράμετροι!$S$4:$T$124,2) -> 24 | AB80: =VLOOKUP(O80,Παράμετροι!$V$4:$W$124,2) -> 812 | AC80: =VLOOKUP(P80,Παράμετροι!$Y$4:$Z$55,2) -> 0 | AD80: =VLOOKUP(Q80,Παράμετροι!$AB$4:$AC$55,2) -> 0 | AE80: =SUM(R80:AD80) -> 1136 | AF80: 1136
... A98: 95 | B98: 89082 | C98: ΣΥΜΙΝΗ | D98: ΑΝΑΣΤΑΣΙΑ | E98: 5 | F98: 0 | G98: 0 | H98: 0 | I98: 0 | J98: 2 | K98: 0 | L98: 0 | M98: 0 | N98: 10 | O98: 91 | P98: 0 | Q98: 0 | R98: =VLOOKUP(E98,Παράμετροι!$A$4:$B$10,2) -> 250 | S98: =VLOOKUP(F98,Παράμετροι!$D$4:$E$19,2) -> 0 | T98: =VLOOKUP(G98,Παράμετροι!$D$4:$E$19,2) -> 0 | U98: =VLOOKUP(H98,Παράμετροι!$G$4:$H$7,2) -> 0 | V98: =VLOOKUP(I98,Παράμετροι!$G$4:$H$7,2) -> 0 | W98: =VLOOKUP(J98,Παράμετροι!$J$4:$K$7,2) -> 60 | X98: =VLOOKUP(K98,Παράμετροι!$M$4:$N$14,2) -> 0 | Y98: =VLOOKUP(L98,Παράμετροι!$M$4:$N$14,2) -> 0 | Z98: 0 | AA98: =VLOOKUP(N98,Παράμετροι!$S$4:$T$124,2) -> 80 | AB98: =VLOOKUP(O98,Παράμετροι!$V$4:$W$124,2) -> 637 | AC98: =VLOOKUP(P98,Παράμετροι!$Y$4:$Z$55,2) -> 0 | AD98: =VLOOKUP(Q98,Παράμετροι!$AB$4:$AC$55,2) -> 0 | AE98: =SUM(R98:AD98) -> 1027 | AF98: 1027
A99: 96 | B99: 89764, ΣΧ.92249 | C99: ΘΑΝΟΥ | D99: ΛΕΕΙΜΟΝΙΑ | E99: 0 | F99: 0 | G99: 0 | H99: 0 | I99: 0 | J99: 2 | K99: 0 | L99: 0 | M99: 0 | N99: 37 | O99: 94 | P99: 0 | Q99: 0 | R99: =VLOOKUP(E99,Παράμετροι!$A$4:$B$10,2) -> 0 | S99: =VLOOKUP(F99,Παράμετροι!$D$4:$E$19,2) -> 0 | T99: =VLOOKUP(G99,Παράμετροι!$D$4:$E$19,2) -> 0 | U99: =VLOOKUP(H99,Παράμετροι!$G$4:$H$7,2) -> 0 | V99: =VLOOKUP(I99,Παράμετροι!$G$4:$H$7,2) -> 0 | W99: =VLOOKUP(J99,Παράμετροι!$J$4:$K$7,2) -> 60 | X99: =VLOOKUP(K99,Παράμετροι!$M$4:$N$14,2) -> 0 | Y99: =VLOOKUP(L99,Παράμετροι!$M$4:$N$14,2) -> 0 | Z99: 0 | AA99: =VLOOKUP(N99,Παράμετροι!$S$4:$T$124,2) -> 296 | AB99: =VLOOKUP(O99,Παράμετροι!$V$4:$W$124,2) -> 658 | AC99: =VLOOKUP(P99,Παράμετροι!$Y$4:$Z$55,2) -> 0 | AD99: =VLOOKUP(Q99,Παράμετροι!$AB$4:$AC$55,2) -> 0 | AE99: =SUM(R99:AD99) -> 1014 | AF99: 1014
A100: 97 | B100: 92535 | C100: ΜΩΡΑΪΤΗ | D100: ΑΛΕΞΑΝΡΔΑ | E100: 0 | F100: 0 | G100: 0 | H100: 0 | I100: 0 | J100: 1 | K100: 1 | L100: 0 | M100: 0 | N100: 11 | O100: 144 | P100: 0 | Q100: 0 | R100: =VLOOKUP(E100,Παράμετροι!$A$4:$B$10,2) -> 0 | S100: =VLOOKUP(F100,Παράμετροι!$D$4:$E$19,2) -> 0 | T100: =VLOOKUP(G100,Παράμετροι!$D$4:$E$19,2) -> 0 | U100: =VLOOKUP(H100,Παράμετροι!$G$4:$H$7,2) -> 0 | V100: =VLOOKUP(I100,Παράμετροι!$G$4:$H$7,2) -> 0 | W100: =VLOOKUP(J100,Παράμετροι!$J$4:$K$7,2) -> 30 | X100: =VLOOKUP(K100,Παράμετροι!$M$4:$N$14,2) -> 50 | Y100: =VLOOKUP(L100,Παράμετροι!$M$4:$N$14,2) -> 0 | Z100: 0 | AA100: =VLOOKUP(N100,Παράμετροι!$S$4:$T$124,2) -> 88 | AB100: =VLOOKUP(O100,Παράμετροι!$V$4:$W$124,2) -> 840 | AC100: =VLOOKUP(P100,Παράμετροι!$Y$4:$Z$55,2) -> 0 | AD100: =VLOOKUP(Q100,Παράμετροι!$AB$4:$AC$55,2) -> 0 | AE100: =SUM(R100:AD100) -> 1008 | AF100: 1008
A101: 98 | B101: 92223 | C101: ΝΤΟΛΓΚΟΥΣΙΝ | D101: ΒΑΛΕΡΙΪ | E101: 10 | F101: 0 | G101: 0 | H101: 0 | I101: 0 | J101: 0 | K101: 0 | L101: 0 | M101: 0 | N101: 8 | O101: 91 | P101: 0 | Q101: 0 | R101: =VLOOKUP(E101,Παράμετροι!$A$4:$B$10,2) -> 300 | S101: =VLOOKUP(F101,Παράμετροι!$D$4:$E$19,2) -> 0 | T101: =VLOOKUP(G101,Παράμετροι!$D$4:$E$19,2) -> 0 | U101: =VLOOKUP(H101,Παράμετροι!$G$4:$H$7,2) -> 0 | V101: =VLOOKUP(I101,Παράμετροι!$G$4:$H$7,2) -> 0 | W101: =VLOOKUP(J101,Παράμετροι!$J$4:$K$7,2) -> 0 | X101: =VLOOKUP(K101,Παράμετροι!$M$4:$N$14,2) -> 0 | Y101: =VLOOKUP(L101,Παράμετροι!$M$4:$N$14,2) -> 0 | Z101: 0 | AA101: =VLOOKUP(N101,Παράμετροι!$S$4:$T$124,2) -> 64 | AB101: =VLOOKUP(O101,Παράμετροι!$V$4:$W$124,2) -> 637 | AC101: =VLOOKUP(P101,Παράμετροι!$Y$4:$Z$55,2) -> 0 | AD101: =VLOOKUP(Q101,Παράμετροι!$AB$4:$AC$55,2) -> 0 | AE101: =SUM(R101:AD101) -> 1001 | AF101: 1001
A102: 99 | B102: 90326 | C102: ΓΕΩΡΓΙΟΥ | D102: ΓΕΩΡΓΙΟΣ | E102: 58 | F102: 0 | G102: 0 | H102: 0 | I102: 0 | J102: 0 | K102: 0 | L102: 0 | M102: 0 | N102: 0 | O102: 100 | P102: 0 | Q102: 0 | R102: =VLOOKUP(E102,Παράμετροι!$A$4:$B$10,2) -> 300 | S102: =VLOOKUP(F102,Παράμετροι!$D$4:$E$19,2) -> 0 | T102: =VLOOKUP(G102,Παράμετροι!$D$4:$E$19,2) -> 0 | U102: =VLOOKUP(H102,Παράμετροι!$G$4:$H$7,2) -> 0 | V102: =VLOOKUP(I102,Παράμετροι!$G$4:$H$7,2) -> 0 | W102: =VLOOKUP(J102,Παράμετροι!$J$4:$K$7,2) -> 0 | X102: =VLOOKUP(K102,Παράμετροι!$M$4:$N$14,2) -> 0 | Y102: =VLOOKUP(L102,Παράμετροι!$M$4:$N$14,2) -> 0 | Z102: 0 | AA102: =VLOOKUP(N102,Παράμετροι!$S$4:$T$124,2) -> 0 | AB102: =VLOOKUP(O102,Παράμετροι!$V$4:$W$124,2) -> 700 | AC102: =VLOOKUP(P102,Παράμετροι!$Y$4:$Z$55,2) -> 0 | AD102: =VLOOKUP(Q102,Παράμετροι!$AB$4:$AC$55,2) -> 0 | AE102: =SUM(R102:AD102) -> 1000 | AF102: 1000
A103: 100 | B103: 89770 | C103: ΤΣΑΜΠΑΣΗ | D103: ΒΑΣΙΛΙΚΗ | E103: 34 | F103: 0 | G103: 0 | H103: 0 | I103: 0 | J103: 2 | K103: 0 | L103: 0 | M103: 0 | N103: 4 | O103: 86 | P103: 0 | Q103: 0 | R103: =VLOOKUP(E103,Παράμετροι!$A$4:$B$10,2) -> 300 | S103: =VLOOKUP(F103,Παράμετροι!$D$4:$E$19,2) -> 0 | T103: =VLOOKUP(G103,Παράμετροι!$D$4:$E$19,2) -> 0 | U103: =VLOOKUP(H103,Παράμετροι!$G$4:$H$7,2) -> 0 | V103: =VLOOKUP(I103,Παράμετροι!$G$4:$H$7,2) -> 0 | W103: =VLOOKUP(J103,Παράμετροι!$J$4:$K$7,2) -> 60 | X103: =VLOOKUP(K103,Παράμετροι!$M$4:$N$14,2) -> 0 | Y103: =VLOOKUP(L103,Παράμετροι!$M$4:$N$14,2) -> 0 | Z103: 0 | AA103: =VLOOKUP(N103,Παράμετροι!$S$4:$T$124,2) -> 32 | AB103: =VLOOKUP(O103,Παράμετροι!$V$4:$W$124,2) -> 602 | AC103: =VLOOKUP(P103,Παράμετροι!$Y$4:$Z$55,2) -> 0 | AD103: =VLOOKUP(Q103,Παράμετροι!$AB$4:$AC$55,2) -> 0 | AE103: =SUM(R103:AD103) -> 994 | AF103: 994
A104: 101 | B104: 91121 | C104: ΜΗΛΙΤΣΟΠΟΥΛΟΥ | D104: ΒΑΣΙΛΙΚΗ | E104: 0 | F104: 0 | G104: 0 | H104: 0 | I104: 0 | J104: 0 | K104: 0 | L104: 0 | M104: 0 | N104: 19 | O104: 131 | P104: 0 | Q104: 0 | R104: =VLOOKUP(E104,Παράμετροι!$A$4:$B$10,2) -> 0 | S104: =VLOOKUP(F104,Παράμετροι!$D$4:$E$19,2) -> 0 | T104: =VLOOKUP(G104,Παράμετροι!$D$4:$E$19,2) -> 0 | U104: =VLOOKUP(H104,Παράμετροι!$G$4:$H$7,2) -> 0 | V104: =VLOOKUP(I104,Παράμετροι!$G$4:$H$7,2) -> 0 | W104: =VLOOKUP(J104,Παράμετροι!$J$4:$K$7,2) -> 0 | X104: =VLOOKUP(K104,Παράμετροι!$M$4:$N$14,2) -> 0 | Y104: =VLOOKUP(L104,Παράμετροι!$M$4:$N$14,2) -> 0 | Z104: 0 | AA104: =VLOOKUP(N104,Παράμετροι!$S$4:$T$124,2) -> 152 | AB104: =VLOOKUP(O104,Παράμετροι!$V$4:$W$124,2) -> 840 | AC104: =VLOOKUP(P104,Παράμετροι!$Y$4:$Z$55,2) -> 0 | AD104: =VLOOKUP(Q104,Παράμετροι!$AB$4:$AC$55,2) -> 0 | AE104: =SUM(R104:AD104) -> 992 | AF104: 992
A105: 102 | B105: 90311 | C105: ΓΚΑΓΚΑΝΗ | D105: ΑΝΑΣΤΑΣΙΑ | E105: 45 | F105: 0 | G105: 0 | H105: 0 | I105: 0 | J105: 0 | K105: 0 | L105: 0 | M105: 0 | N105: 0 | O105: 97 | P105: 0 | Q105: 0 | R105: =VLOOKUP(E105,Παράμετροι!$A$4:$B$10,2) -> 300 | S105: =VLOOKUP(F105,Παράμετροι!$D$4:$E$19,2) -> 0 | T105: =VLOOKUP(G105,Παράμετροι!$D$4:$E$19,2) -> 0 | U105: =VLOOKUP(H105,Παράμετροι!$G$4:$H$7,2) -> 0 | V105: =VLOOKUP(I105,Παράμετροι!$G$4:$H$7,2) -> 0 | W105: =VLOOKUP(J105,Παράμετροι!$J$4:$K$7,2) -> 0 | X105: =VLOOKUP(K105,Παράμετροι!$M$4:$N$14,2) -> 0 | Y105: =VLOOKUP(L105,Παράμετροι!$M$4:$N$14,2) -> 0 | Z105: 0 | AA105: =VLOOKUP(N105,Παράμετροι!$S$4:$T$124,2) -> 0 | AB105: =VLOOKUP(O105,Παράμετροι!$V$4:$W$124,2) -> 679 | AC105: =VLOOKUP(P105,Παράμετροι!$Y$4:$Z$55,2) -> 0 | AD105: =VLOOKUP(Q105,Παράμετροι!$AB$4:$AC$55,2) -> 0 | AE105: =SUM(R105:AD105) -> 979 | AF105: 979
A106: 103 | B106: 89784 | C106: ΤΣΕΚΕΡΗ | D106: ΑΘΑΝΑΣΙΑ | E106: 0 | F106: 0 | G106: 0 | H106: 0 | I106: 0 | J106: 0 | K106: 0 | L106: 0 | M106: 0 | N106: 17 | O106: 279 | P106: 0 | Q106: 0 | R106: =VLOOKUP(E106,Παράμετροι!$A$4:$B$10,2) -> 0 | S106: =VLOOKUP(F106,Παράμετροι!$D$4:$E$19,2) -> 0 | T106: =VLOOKUP(G106,Παράμετροι!$D$4:$E$19,2) -> 0 | U106: =VLOOKUP(H106,Παράμετροι!$G$4:$H$7,2) -> 0 | V106: =VLOOKUP(I106,Παράμετροι!$G$4:$H$7,2) -> 0 | W106: =VLOOKUP(J106,Παράμετροι!$J$4:$K$7,2) -> 0 | X106: =VLOOKUP(K106,Παράμετροι!$M$4:$N$14,2) -> 0 | Y106: =VLOOKUP(L106,Παράμετροι!$M$4:$N$14,2) -> 0 | Z106: 0 | AA106: =VLOOKUP(N106,Παράμετροι!$S$4:$T$124,2) -> 136 | AB106: =VLOOKUP(O106,Παράμετροι!$V$4:$W$124,2) -> 840 | AC106: =VLOOKUP(P106,Παράμετροι!$Y$4:$Z$55,2) -> 0 | AD106: =VLOOKUP(Q106,Παράμετροι!$AB$4:$AC$55,2) -> 0 | AE106: =SUM(R106:AD106) -> 976 | AF106: 976
A107: 104 | B107: 89260 | C107: ΓΚΙΝΗ | D107: ΡΑΙΜΟΝΤΑ | E107: 0 | F107: 0 | G107: 0 | H107: 0 | I107: 0 | J107: 0 | K107: 0 | L107: 0 | M107: 0 | N107: 17 | O107: 195 | P107: 0 | Q107: 0 | R107: =VLOOKUP(E107,Παράμετροι!$A$4:$B$10,2) -> 0 | S107: =VLOOKUP(F107,Παράμετροι!$D$4:$E$19,2) -> 0 | T107: =VLOOKUP(G107,Παράμετροι!$D$4:$E$19,2) -> 0 | U107: =VLOOKUP(H107,Παράμετροι!$G$4:$H$7,2) -> 0 | V107: =VLOOKUP(I107,Παράμετροι!$G$4:$H$7,2) -> 0 | W107: =VLOOKUP(J107,Παράμετροι!$J$4:$K$7,2) -> 0 | X107: =VLOOKUP(K107,Παράμετροι!$M$4:$N$14,2) -> 0 | Y107: =VLOOKUP(L107,Παράμετροι!$M$4:$N$14,2) -> 0 | Z107: 0 | AA107: =VLOOKUP(N107,Παράμετροι!$S$4:$T$124,2) -> 136 | AB107: =VLOOKUP(O107,Παράμετροι!$V$4:$W$124,2) -> 840 | AC107: =VLOOKUP(P107,Παράμετροι!$Y$4:$Z$55,2) -> 0 | AD107: =VLOOKUP(Q107,Παράμετροι!$AB$4:$AC$55,2) -> 0 | AE107: =SUM(R107:AD107) -> 976 | AF107: 976
A108: 105 | B108: 92744 | C108: ΚΑΠΛΑΝΤΖΗ | D108: ΑΝΑΣΤΑΣΙΑ | E108: 0 | F108: 0 | G108: 0 | H108: 0 | I108: 0 | J108: 0 | K108: 0 | L108: 0 | M108: 0 | N108: 17 | O108: 180 | P108: 0 | Q108: 0 | R108: =VLOOKUP(E108,Παράμετροι!$A$4:$B$10,2) -> 0 | S108: =VLOOKUP(F108,Παράμετροι!$D$4:$E$19,2) -> 0 | T108: =VLOOKUP(G108,Παράμετροι!$D$4:$E$19,2) -> 0 | U108: =VLOOKUP(H108,Παράμετροι!$G$4:$H$7,2) -> 0 | V108: =VLOOKUP(I108,Παράμετροι!$G$4:$H$7,2) -> 0 | W108: =VLOOKUP(J108,Παράμετροι!$J$4:$K$7,2) -> 0 | X108: =VLOOKUP(K108,Παράμετροι!$M$4:$N$14,2) -> 0 | Y108: =VLOOKUP(L108,Παράμετροι!$M$4:$N$14,2) -> 0 | Z108: 0 | AA108: =VLOOKUP(N108,Παράμετροι!$S$4:$T$124,2) -> 136 | AB108: =VLOOKUP(O108,Παράμετροι!$V$4:$W$124,2) -> 840 | AC108: =VLOOKUP(P108,Παράμετροι!$Y$4:$Z$55,2) -> 0 | AD108: =VLOOKUP(Q108,Παράμετροι!$AB$4:$AC$55,2) -> 0 | AE108: =SUM(R108:AD108) -> 976 | AF108: 976
A109: 106 | B109: 90678 | C109: ΑΘΑΝΑΣΙΑΔΟΥ | D109: ΖΩΗ | E109: 0 | F109: 0 | G109: 0 | H109: 0 | I109: 0 | J109: 0 | K109: 0 | L109: 0 | M109: 0 | N109: 17 | O109: 168 | P109: 0 | Q109: 0 | R109: =VLOOKUP(E109,Παράμετροι!$A$4:$B$10,2) -> 0 | S109: =VLOOKUP(F109,Παράμετροι!$D$4:$E$19,2) -> 0 | T109: =VLOOKUP(G109,Παράμετροι!$D$4:$E$19,2) -> 0 | U109: =VLOOKUP(H109,Παράμετροι!$G$4:$H$7,2) -> 0 | V109: =VLOOKUP(I109,Παράμετροι!$G$4:$H$7,2) -> 0 | W109: =VLOOKUP(J109,Παράμετροι!$J$4:$K$7,2) -> 0 | X109: =VLOOKUP(K109,Παράμετροι!$M$4:$N$14,2) -> 0 | Y109: =VLOOKUP(L109,Παράμετροι!$M$4:$N$14,2) -> 0 | Z109: 0 | AA109: =VLOOKUP(N109,Παράμετροι!$S$4:$T$124,2) -> 136 | AB109: =VLOOKUP(O109,Παράμετροι!$V$4:$W$124,2) -> 840 | AC109: =VLOOKUP(P109,Παράμετροι!$Y$4:$Z$55,2) -> 0 | AD109: =VLOOKUP(Q109,Παράμετροι!$AB$4:$AC$55,2) -> 0 | AE109: =SUM(R109:AD109) -> 976 | AF109: 976
...

Sheet ΘΕΣΣΑΛΟΝΙΚΗ
E2: (1) | F2: (2) | G2: (3) | H2: (4) | I2: (5) | J2: (6) | K2: (7) | L2: (8) | M2: (9) | N2: (10α) | O2: (10β) | P2: (11) | Q2: (12)
A3: A/A | B3: ΑΡ.ΠΡΩΤ. | C3: ΕΠΩΝΥΜΟ | D3: ΟΝΟΜΑ | E3: ΧΡΟΝΟΣ ΑΝΕΡΓΙΑΣ (σε μήνες) | F3: ΠΟΛΥΤΕΚΝΟΣ (αριθμ. τέκνων) | G3: ΤΕΚΝΟ ΠΟΛΥΤΕΚΝΗΣ ΟΙΚΟΓΕΝΕΙΑΣ (αρ. τέκνων) | H3: ΤΡΙΤΕΚΝΟΣΣ (αριθμ. Τεκνων) | I3: ΤΕΚΝΟ ΤΡΙΤΕΚΝΗΣ (αριθμ. Τέκνων) | J3: ΑΝΗΛΙΚΑ ΤΕΚΝΑ (αριθμ. ανήλικων τέκνων) | K3: ΓΟΝΕΑΣ ΜΟΝΟΓΟΝΕΙΚΗΣ ΟΙΚΟΓΕΝΕΙΑΣ (αριθμ. τέκνων) | L3: ΤΕΚΝΟ ΜΟΝΟΓΟΝΕΙΚΗΣ ΟΙΚΟΓΕΝΕΙΑΣ (αρ. τέκνων) | M3: ΤΙΛΟΣ ΣΠΟΥΔΩΝ (για ΔΕ κατηγορία) | N3: ΕΜΠΕΙΡΙΑ ΣΤΟ ΔΗΜΟΣΙΟ (μήνες) | O3: ΕΜΠΕΙΡΙΑ ΣΤΟΝ ΙΔΙΩΤΙΚΟ (μήνες) | P3: ΑΝΑΠΗΡΙΑ ΥΠΟΨΗΦΙΟΥ (ποσοστό) | Q3: ΑΝΑΠΗΡΙΑ ΓΟΝΕΑ, ΤΕΚΝΟΥ, ΑΔΕΛΦΟΥ ΣΥΖΥΓΟΥ (ποσοστό) | R3: ΜΟΝΑΔΕΣ (1) | S3: ΜΟΝΑΔΕΣ (2) | T3: ΜΟΝΑΔΕΣ (3) | U3: ΜΟΝΑΔΕΣ (4) | V3: ΜΟΝΑΔΕΣ (5) | W3: ΜΟΝΑΔΕΣ (6) | X3: ΜΟΝΑΔΕΣ (7) | Y3: ΜΟΝΑΔΕΣ (8) | Z3: ΜΟΝΑΔΕΣ (9) | AA3: ΜΟΝΑΔΕΣ (10α) | AB3: ΜΟΝΑΔΕΣ (10β) | AC3: ΜΟΝΑΔΕΣ (11) | AD3: ΜΟΝΑΔΕΣ (12) | AF3: ΣΥΝΟΛΟ ΜΟΝΑΔΩΝ
A4: 1 | B4: 91462 | C4: ΠΕΣΕΡΙΔΟΥ | D4: ΜΑΓΔΑΛΗΝΗ | E4: 16 | F4: 0 | G4: 0 | H4: 0 | I4: 0 | J4: 0 | K4: 0 | L4: 0 | M4: 0 | N4: 61 | O4: 99 | P4: 0 | Q4: 0 | R4: =VLOOKUP(E4,Παράμετροι!$A$4:$B$10,2) -> 300 | S4: =VLOOKUP(F4,Παράμετροι!$D$4:$E$19,2) -> 0 | T4: =VLOOKUP(G4,Παράμετροι!$D$4:$E$19,2) -> 0 | U4: =VLOOKUP(H4,Παράμετροι!$G$4:$H$7,2) -> 0 | V4: =VLOOKUP(I4,Παράμετροι!$G$4:$H$7,2) -> 0 | W4: =VLOOKUP(J4,Παράμετροι!$J$4:$K$7,2) -> 0 | X4: =VLOOKUP(K4,Παράμετροι!$M$4:$N$14,2) -> 0 | Y4: =VLOOKUP(L4,Παράμετροι!$M$4:$N$14,2) -> 0 | Z4: 0 | AA4: =VLOOKUP(N4,Παράμετροι!$S$4:$T$124,2) -> 488 | AB4: =VLOOKUP(O4,Παράμετροι!$V$4:$W$124,2) -> 693 | AC4: =VLOOKUP(P4,Παράμετροι!$Y$4:$Z$55,2) -> 0 | AD4: =VLOOKUP(Q4,Παράμετροι!$AB$4:$AC$55,2) -> 0 | AE4: =SUM(R4:AD4) -> 1481 | AF4: 1481
A5: 2 | B5: 93166 | C5: ΣΟΜΠΑΤΖΗ | D5: ΜΑΡΙΑ | E5: 7 | F5: 0 | G5: 0 | H5: 0 | I5: 0 | J5: 0 | K5: 1 | L5: 0 | M5: 0 | N5: 86 | O5: 39 | P5: 0 | Q5: 81 | R5: =VLOOKUP(E5,Παράμετροι!$A$4:$B$10,2) -> 300 | S5: =VLOOKUP(F5,Παράμετροι!$D$4:$E$19,2) -> 0 | T5: =VLOOKUP(G5,Παράμετροι!$D$4:$E$19,2) -> 0 | U5: =VLOOKUP(H5,Παράμετροι!$G$4:$H$7,2) -> 0 | V5: =VLOOKUP(I5,Παράμετροι!$G$4:$H$7,2) -> 0 | W5: =VLOOKUP(J5,Παράμετροι!$J$4:$K$7,2) -> 0 | X5: =VLOOKUP(K5,Παράμετροι!$M$4:$N$14,2) -> 50 | Y5: =VLOOKUP(L5,Παράμετροι!$M$4:$N$14,2) -> 0 | Z5: 0 | AA5: =VLOOKUP(N5,Παράμετροι!$S$4:$T$124,2) -> 688 | AB5: =VLOOKUP(O5,Παράμετροι!$V$4:$W$124,2) -> 273 | AC5: =VLOOKUP(P5,Παράμετροι!$Y$4:$Z$55,2) -> 0 | AD5: =VLOOKUP(Q5,Παράμετροι!$AB$4:$AC$55,2) -> 162 | AE5: =SUM(R5:AD5) -> 1473 | AF5: 1473
A6: 3 | B6: 91787 | C6: ΓΙΑΝΝΑΚΟΥΔΑΚΗ | D6: ΜΕΛΙΝΑ | E6: 4 | F6: 0 | G6: 0 | H6: 0 | I6: 0 | J6: 2 | K6: 0 | L6: 0 | M6: 0 | N6: 45 | O6: 120 | P6: 0 | Q6: 0 | R6: =VLOOKUP(E6,Παράμετροι!$A$4:$B$10,2) -> 200 | S6: =VLOOKUP(F6,Παράμετροι!$D$4:$E$19,2) -> 0 | T6: =VLOOKUP(G6,Παράμετροι!$D$4:$E$19,2) -> 0 | U6: =VLOOKUP(H6,Παράμετροι!$G$4:$H$7,2) -> 0 | V6: =VLOOKUP(I6,Παράμετροι!$G$4:$H$7,2) -> 0 | W6: =VLOOKUP(J6,Παράμετροι!$J$4:$K$7,2) -> 60 | X6: =VLOOKUP(K6,Παράμετροι!$M$4:$N$14,2) -> 0 | Y6: =VLOOKUP(L6,Παράμετροι!$M$4:$N$14,2) -> 0 | Z6: 0 | AA6: =VLOOKUP(N6,Παράμετροι!$S$4:$T$124,2) -> 360 | AB6: =VLOOKUP(O6,Παράμετροι!$V$4:$W$124,2) -> 840 | AC6: =VLOOKUP(P6,Παράμετροι!$Y$4:$Z$55,2) -> 0 | AD6: =VLOOKUP(Q6,Παράμετροι!$AB$4:$AC$55,2) -> 0 | AE6: =SUM(R6:AD6) -> 1460 | AF6: 1460
A7: 4 | B7: 91804 | C7: ΔΑΝΙΛΟΥΔΗ | D7: ΜΑΡΘΑ | E7: 19 | F7: 4 | G7: 0 | H7: 0 | I7: 0 | J7: 4 | K7: 0 | L7: 0 | M7: 0 | N7: 0 | O7: 150 | P7: 0 | Q7: 0 | R7: =VLOOKUP(E7,Παράμετροι!$A$4:$B$10,2) -> 300 | S7: =VLOOKUP(F7,Παράμετροι!$D$4:$E$19,2) -> 200 | T7: =VLOOKUP(G7,Παράμετροι!$D$4:$E$19,2) -> 0 | U7: =VLOOKUP(H7,Παράμετροι!$G$4:$H$7,2) -> 0 | V7: =VLOOKUP(I7,Παράμετροι!$G$4:$H$7,2) -> 0 | W7: =VLOOKUP(J7,Παράμετροι!$J$4:$K$7,2) -> 110 | X7: =VLOOKUP(K7,Παράμετροι!$M$4:$N$14,2) -> 0 | Y7: =VLOOKUP(L7,Παράμετροι!$M$4:$N$14,2) -> 0 | Z7: 0 | AA7: =VLOOKUP(N7,Παράμετροι!$S$4:$T$124,2) -> 0 | AB7: =VLOOKUP(O7,Παράμετροι!$V$4:$W$124,2) -> 840 | AC7: =VLOOKUP(P7,Παράμετροι!$Y$4:$Z$55,2) -> 0 | AD7: =VLOOKUP(Q7,Παράμετροι!$AB$4:$AC$55,2) -> 0 | AE7: =SUM(R7:AD7) -> 1450 | AF7: 1450
A8: 5 | B8: 91795 | C8: ΖΟΥΡΝΑΤΖΗ | D8: ΣΟΥΛΤΑΝΑ | E8: 17 | F8: 0 | G8: 0 | H8: 3 | I8: 0 | J8: 2 | K8: 0 | L8: 0 | M8: 0 | N8: 8 | O8: 136 | P8: 0 | Q8: 0 | R8: =VLOOKUP(E8,Παράμετροι!$A$4:$B$10,2) -> 300 | S8: =VLOOKUP(F8,Παράμετροι!$D$4:$E$19,2) -> 0 | T8: =VLOOKUP(G8,Παράμετροι!$D$4:$E$19,2) -> 0 | U8: =VLOOKUP(H8,Παράμετροι!$G$4:$H$7,2) -> 120 | V8: =VLOOKUP(I8,Παράμετροι!$G$4:$H$7,2) -> 0 | W8: =VLOOKUP(J8,Παράμετροι!$J$4:$K$7,2) -> 60 | X8: =VLOOKUP(K8,Παράμετροι!$M$4:$N$14,2) -> 0 | Y8: =VLOOKUP(L8,Παράμετροι!$M$4:$N$14,2) -> 0 | Z8: 0 | AA8: =VLOOKUP(N8,Παράμετροι!$S$4:$T$124,2) -> 64 | AB8: =VLOOKUP(O8,Παράμετροι!$V$4:$W$124,2) -> 840 | AC8: =VLOOKUP(P8,Παράμετροι!$Y$4:$Z$55,2) -> 0 | AD8: =VLOOKUP(Q8,Παράμετροι!$AB$4:$AC$55,2) -> 0 | AE8: =SUM(R8:AD8) -> 1384 | AF8: 1384
A9: 6 | B9: 91800 | C9: ΤΕΡΛΕΛΕ | D9: ΘΕΟΔΩΡΑ | E9: 0 | F9: 0 | G9: 0 | H9: 3 | I9: 0 | J9: 3 | K9: 0 | L9: 0 | M9: 0 | N9: 25 | O9: 144 | P9: 0 | Q9: 0 | R9: =VLOOKUP(E9,Παράμετροι!$A$4:$B$10,2) -> 0 | S9: =VLOOKUP(F9,Παράμετροι!$D$4:$E$19,2) -> 0 | T9: =VLOOKUP(G9,Παράμετροι!$D$4:$E$19,2) -> 0 | U9: =VLOOKUP(H9,Παράμετροι!$G$4:$H$7,2) -> 120 | V9: =VLOOKUP(I9,Παράμετροι!$G$4:$H$7,2) -> 0 | W9: =VLOOKUP(J9,Παράμετροι!$J$4:$K$7,2) -> 110 | X9: =VLOOKUP(K9,Παράμετροι!$M$4:$N$14,2) -> 0 | Y9: =VLOOKUP(L9,Παράμετροι!$M$4:$N$14,2) -> 0 | Z9: 0 | AA9: =VLOOKUP(N9,Παράμετροι!$S$4:$T$124,2) -> 200 | AB9: =VLOOKUP(O9,Παράμετροι!$V$4:$W$124,2) -> 840 | AC9: =VLOOKUP(P9,Παράμετροι!$Y$4:$Z$55,2) -> 0 | AD9: =VLOOKUP(Q9,Παράμετροι!$AB$4:$AC$55,2) -> 0 | AE9: =SUM(R9:AD9) -> 1270 | AF9: 1270
A10: 7 | B10: 89837 | C10: ΑΞΙΩΤΗ | D10: ΓΕΩΡΓΙΑ | E10: 21 | F10: 0 | G10: 0 | H10: 3 | I10: 0 | J10: 3 | K10: 0 | L10: 0 | M10: 0 | N10: 31 | O10: 61 | P10: 0 | Q10: 0 | R10: =VLOOKUP(E10,Παράμετροι!$A$4:$B$10,2) -> 300 | S10: =VLOOKUP(F10,Παράμετροι!$D$4:$E$19,2) -> 0 | T10: =VLOOKUP(G10,Παράμετροι!$D$4:$E$19,2) -> 0 | U10: =VLOOKUP(H10,Παράμετροι!$G$4:$H$7,2) -> 120 | V10: =VLOOKUP(I10,Παράμετροι!$G$4:$H$7,2) -> 0 | W10: =VLOOKUP(J10,Παράμετροι!$J$4:$K$7,2) -> 110 | X10: =VLOOKUP(K10,Παράμετροι!$M$4:$N$14,2) -> 0 | Y10: =VLOOKUP(L10,Παράμετροι!$M$4:$N$14,2) -> 0 | Z10: 0 | AA10: =VLOOKUP(N10,Παράμετροι!$S$4:$T$124,2) -> 248 | AB10: =VLOOKUP(O10,Παράμετροι!$V$4:$W$124,2) -> 427 | AC10: =VLOOKUP(P10,Παράμετροι!$Y$4:$Z$55,2) -> 0 | AD10: =VLOOKUP(Q10,Παράμετροι!$AB$4:$AC$55,2) -> 0 | AE10: =SUM(R10:AD10) -> 1205 | AF10: 1205
A11: 8 | B11: 91784 | C11: ΚΑΛΟΓΡΙΔΟΥ | D11: ΣΤΑΥΡΟΥΛΑ | E11: 10 | F11: 0 | G11: 0 | H11: 0 | I11: 0 | J11: 1 | K11: 2 | L11: 0 | M11: 0 | N11: 8 | O11: 96 | P11: 0 | Q11: 0 | R11: =VLOOKUP(E11,Παράμετροι!$A$4:$B$10,2) -> 300 | S11: =VLOOKUP(F11,Παράμετροι!$D$4:$E$19,2) -> 0 | T11: =VLOOKUP(G11,Παράμετροι!$D$4:$E$19,2) -> 0 | U11: =VLOOKUP(H11,Παράμετροι!$G$4:$H$7,2) -> 0 | V11: =VLOOKUP(I11,Παράμετροι!$G$4:$H$7,2) -> 0 | W11: =VLOOKUP(J11,Παράμετροι!$J$4:$K$7,2) -> 30 | X11: =VLOOKUP(K11,Παράμετροι!$M$4:$N$14,2) -> 100 | Y11: =VLOOKUP(L11,Παράμετροι!$M$4:$N$14,2) -> 0 | Z11: 0 | AA11: =VLOOKUP(N11,Παράμετροι!$S$4:$T$124,2) -> 64 | AB11: =VLOOKUP(O11,Παράμετροι!$V$4:$W$124,2) -> 672 | AC11: =VLOOKUP(P11,Παράμετροι!$Y$4:$Z$55,2) -> 0 | AD11: =VLOOKUP(Q11,Παράμετροι!$AB$4:$AC$55,2) -> 0 | AE11: =SUM(R11:AD11) -> 1166 | AF11: 1166
A12: 9 | B12: 90300 | C12: ΜΥΡΙΔΟΥ | D12: ΧΡΥΣΑΝΘΗ | E12: 0 | F12: 0 | G12: 4 | H12: 0 | I12: 0 | J12: 1 | K12: 0 | L12: 0 | M12: 0 | N12: 12 | O12: 137 | P12: 0 | Q12: 0 | R12: =VLOOKUP(E12,Παράμετροι!$A$4:$B$10,2) -> 0 | S12: =VLOOKUP(F12,Παράμετροι!$D$4:$E$19,2) -> 0 | T12: =VLOOKUP(G12,Παράμετροι!$D$4:$E$19,2) -> 200 | U12: =VLOOKUP(H12,Παράμετροι!$G$4:$H$7,2) -> 0 | V12: =VLOOKUP(I12,Παράμετροι!$G$4:$H$7,2) -> 0 | W12: =VLOOKUP(J12,Παράμετροι!$J$4:$K$7,2) -> 30 | X12: =VLOOKUP(K12,Παράμετροι!$M$4:$N$14,2) -> 0 | Y12: =VLOOKUP(L12,Παράμετροι!$M$4:$N$14,2) -> 0 | Z12: 0 | AA12: =VLOOKUP(N12,Παράμετροι!$S$4:$T$124,2) -> 96 | AB12: =VLOOKUP(O12,Παράμετροι!$V$4:$W$124,2) -> 840 | AC12: =VLOOKUP(P12,Παράμετροι!$Y$4:$Z$55,2) -> 0 | AD12: =VLOOKUP(Q12,Παράμετροι!$AB$4:$AC$55,2) -> 0 | AE12: =SUM(R12:AD12) -> 1166 | AF12: 1166
A13: 10 | B13: 89271 | C13: ΧΑΤΖΟΠΟΥΛΟΥ | D13: ΔΕΣΠΟΙΝΑ | E13: 98 | F13: 0 | G13: 0 | H13: 0 | I13: 0 | J13: 2 | K13: 0 | L13: 0 | M13: 0 | N13: 7 | O13: 106 | P13: 0 | Q13: 0 | R13: =VLOOKUP(E13,Παράμετροι!$A$4:$B$10,2) -> 300 | S13: =VLOOKUP(F13,Παράμετροι!$D$4:$E$19,2) -> 0 | T13: =VLOOKUP(G13,Παράμετροι!$D$4:$E$19,2) -> 0 | U13: =VLOOKUP(H13,Παράμετροι!$G$4:$H$7,2) -> 0 | V13: =VLOOKUP(I13,Παράμετροι!$G$4:$H$7,2) -> 0 | W13: =VLOOKUP(J13,Παράμετροι!$J$4:$K$7,2) -> 60 | X13: =VLOOKUP(K13,Παράμετροι!$M$4:$N$14,2) -> 0 | Y13: =VLOOKUP(L13,Παράμετροι!$M$4:$N$14,2) -> 0 | Z13: 0 | AA13: =VLOOKUP(N13,Παράμετροι!$S$4:$T$124,2) -> 56 | AB13: =VLOOKUP(O13,Παράμετροι!$V$4:$W$124,2) -> 742 | AC13: =VLOOKUP(P13,Παράμετροι!$Y$4:$Z$55,2) -> 0 | AD13: =VLOOKUP(Q13,Παράμετροι!$AB$4:$AC$55,2) -> 0 | AE13: =SUM(R13:AD13) -> 1158 | AF13: 1158
A14: 11 | B14: 89809 | C14: ΒΑΜΒΑΚΗ | D14: ΧΡΙΣΤΙΝΑ | E14: 37 | F14: 0 | G14: 0 | H14: 0 | I14: 0 | J14: 0 | K14: 0 | L14: 0 | M14: 0 | N14: 0 | O14: 120 | P14: 0 | Q14: 0 | R14: =VLOOKUP(E14,Παράμετροι!$A$4:$B$10,2) -> 300 | S14: =VLOOKUP(F14,Παράμετροι!$D$4:$E$19,2) -> 0 | T14: =VLOOKUP(G14,Παράμετροι!$D$4:$E$19,2) -> 0 | U14: =VLOOKUP(H14,Παράμετροι!$G$4:$H$7,2) -> 0 | V14: =VLOOKUP(I14,Παράμετροι!$G$4:$H$7,2) -> 0 | W14: =VLOOKUP(J14,Παράμετροι!$J$4:$K$7,2) -> 0 | X14: =VLOOKUP(K14,Παράμετροι!$M$4:$N$14,2) -> 0 | Y14: =VLOOKUP(L14,Παράμετροι!$M$4:$N$14,2) -> 0 | Z14: 0 | AA14: =VLOOKUP(N14,Παράμετροι!$S$4:$T$124,2) -> 0 | AB14: =VLOOKUP(O14,Παράμετροι!$V$4:$W$124,2) -> 840 | AC14: =VLOOKUP(P14,Παράμετροι!$Y$4:$Z$55,2) -> 0 | AD14: =VLOOKUP(Q14,Παράμετροι!$AB$4:$AC$55,2) -> 0 | AE14: =SUM(R14:AD14) -> 1140 | AF14: 1140
A15: 12 | B15: 92431 | C15: ΓΑΒΡΙΗΛΙΔΟΥ | D15: ΚΥΡΙΑΚΗ | E15: 33 | F15: 0 | G15: 0 | H15: 0 | I15: 0 | J15: 0 | K15: 0 | L15: 0 | M15: 0 | N15: 0 | O15: 153 | P15: 0 | Q15: 0 | R15: =VLOOKUP(E15,Παράμετροι!$A$4:$B$10,2) -> 300 | S15: =VLOOKUP(F15,Παράμετροι!$D$4:$E$19,2) -> 0 | T15: =VLOOKUP(G15,Παράμετροι!$D$4:$E$19,2) -> 0 | U15: =VLOOKUP(H15,Παράμετροι!$G$4:$H$7,2) -> 0 | V15: =VLOOKUP(I15,Παράμετροι!$G$4:$H$7,2) -> 0 | W15: =VLOOKUP(J15,Παράμετροι!$J$4:$K$7,2) -> 0 | X15: =VLOOKUP(K15,Παράμετροι!$M$4:$N$14,2) -> 0 | Y15: =VLOOKUP(L15,Παράμετροι!$M$4:$N$14,2) -> 0 | Z15: 0 | AA15: =VLOOKUP(N15,Παράμετροι!$S$4:$T$124,2) -> 0 | AB15: =VLOOKUP(O15,Παράμετροι!$V$4:$W$124,2) -> 840 | AC15: =VLOOKUP(P15,Παράμετροι!$Y$4:$Z$55,2) -> 0 | AD15: =VLOOKUP(Q15,Παράμετροι!$AB$4:$AC$55,2) -> 0 | AE15: =SUM(R15:AD15) -> 1140 | AF15: 1140
... A72: 69 | B72: 92356 | C72: ΚΑΛΙΑΜΠΑΚΟΥ | D72: ΜΑΡΙΑ | E72: 3 | F72: 0 | G72: 0 | H72: 0 | I72: 0 | J72: 0 | K72: 0 | L72: 0 | M72: 0 | N72: 0 | O72: 0 | P72: 0 | Q72: 0 | R72: =VLOOKUP(E72,Παράμετροι!$A$4:$B$10,2) -> 0 | S72: =VLOOKUP(F72,Παράμετροι!$D$4:$E$19,2) -> 0 | T72: =VLOOKUP(G72,Παράμετροι!$D$4:$E$19,2) -> 0 | U72: =VLOOKUP(H72,Παράμετροι!$G$4:$H$7,2) -> 0 | V72: =VLOOKUP(I72,Παράμετροι!$G$4:$H$7,2) -> 0 | W72: =VLOOKUP(J72,Παράμετροι!$J$4:$K$7,2) -> 0 | X72: =VLOOKUP(K72,Παράμετροι!$M$4:$N$14,2) -> 0 | Y72: =VLOOKUP(L72,Παράμετροι!$M$4:$N$14,2) -> 0 | Z72: 0 | AA72: =VLOOKUP(N72,Παράμετροι!$S$4:$T$124,2) -> 0 | AB72: =VLOOKUP(O72,Παράμετροι!$V$4:$W$124,2) -> 0 | AC72: =VLOOKUP(P72,Παράμετροι!$Y$4:$Z$55,2) -> 0 | AD72: =VLOOKUP(Q72,Παράμετροι!$AB$4:$AC$55,2) -> 0 | AE72: =SUM(R72:AD72) -> 0 | AF72: 0

Sheet Παράμετροι
A1: 1. ΧΡΟΝΟΣ ΑΝΕΡΓΙΑΣ (200 μονάδες για 4 μήνες ανεργίας και 50 μονάδες ανά μήνα ανεργίας άνω των 4 μηνών, με ανώτατο όριο τους 6 μήνες) | D1: 2 ή 3. ΠΟΛΥΤΕΚΝΟΣ Ή ΤΕΚΝΟ ΠΟΛΥΤΕΚΝΗΣ ΟΙΚΟΓΕΝΕΙΑΣ (50 μονάδες για κάθε τέκνο) | G1: 4 ή 5. ΤΡΙΤΕΚΝΟΣ Ή ΤΕΚΝΟ ΤΡΙΤΕΚΝΗΣ ΟΙΚΟΓΕΝΕΙΑΣ (40 μονάδες για κάθε τέκνο) | J1: 6. ΑΝΗΛΙΚΑ ΤΕΚΝΑ (30 μονάδες για καθένα από τα δύο πρώτα τέκνα και 50 μονάδες για το τρίτο) | M1: 7 ή 8. ΓΟΝΕΑΣ Ή ΤΕΚΝΟ ΜΟΝΟΓΟΝΕΪΚΗΣ ΟΙΚΟΓΕΝΕΙΑΣ (50 μονάδες για κάθε τέκνο) | P1: 9. ΒΑΘΜΟΣ ΒΑΣΙΚΟΥ ΤΙΤΛΟΥ (οι μονάδες του βασικού τίτλου σπουδών με 2 δεκαδικά ψηφία για τη ΔΕ πολλαπλασιάζονται με το 20) | S1: 10α. ΕΜΠΕΙΡΙΑ ΚΤΗΘΕΙΣΑ σε κτίρια ή Υπηρεσίες του ΔΗΜΟΣΙΟΥ ΤΟΜΕΑ (8 μονάδες ανά μήνα και έως 120 μήνες) | V1: 10β. ΕΜΠΕΙΡΙΑ ΚΤΗΘΕΙΣΑ ΣΤΟΝ ΙΔΙΩΤΙΚΟ ΤΟΜΕΑ (7 μονάδες ανά μήνα και έως 12 μήνες) | Y1: 11. ΑΝΑΠΗΡΙΑ ΥΠΟΨΗΦΙΟΥ ΜΕ ΠΟΣΟΣΤΟ ΤΟΥΛΑΧΙΣΤΟΝ 50% (το ποσοστό αναπηρίας πολ/ζεται με το συντελεστη "3") | AB1: 12. ΑΝΑΠΗΡΙΑ ΓΟΝΕΑ, ΤΕΚΝΟΥ, ΑΔΕΛΦΟΥ Ή ΣΥΖΥΓΟΥ (το ποσοστό αναπηρίας πολ/ζεται με το συντελεστή "2")
A3: μήνες | B3: μονάδες | D3: αριθμός τεκνών | E3: μονάδες | G3: αριθμός τέκνων | H3: μονάδες | J3: αριθμός τέκνων | K3: μονάδες | M3: αριθμός τέκνων | N3: μονάδες | P3: κατηγορία ΔΕ | Q3: μονάδες | S3: μήνες εμπειρίας | T3: μονάδες | V3: μήνες εμπειρίας | W3: μονάδες | Y3: ποσοστό αναπηρίας | Z3: μονάδες | AB3: ποσοστό αναπηρίας | AC3: μονάδες
A4: 0 | B4: 0 | D4: 0 | E4: 0 | G4: 0 | H4: 0 | J4: 0 | K4: 0 | M4: 0 | N4: 0 | P4: 0 | Q4: 0 | S4: 0 | T4: 0 | V4: 0 | W4: 0 | Y4: 0 | Z4: 0 | AB4: 0 | AC4: 0
A5: 1 | B5: 0 | D5: 1 | E5: 0 | G5: 1 | H5: 40 | J5: 1 | K5: 30 | M5: 1 | N5: 50 | S5: 1 | T5: 8 | V5: 1 | W5: 7 | Y5: 50 | Z5: 150 | AB5: 50 | AC5: 100
A6: 2 | B6: 0 | D6: 2 | E6: 0 | G6: 2 | H6: 80 | J6: 2 | K6: 60 | M6: 2 | N6: 100 | S6: 2 | T6: 16 | V6: 2 | W6: 14 | Y6: 51 | Z6: 153 | AB6: 51 | AC6: 102
A7: 3 | B7: 0 | D7: 3 | E7: 150 | G7: 3 | H7: 120 | J7: 3 | K7: 110 | M7: 3 | N7: 150 | S7: 3 | T7: 24 | V7: 3 | W7: 21 | Y7: 52 | Z7: 156 | AB7: 52 | AC7: 104
A8: 4 | B8: 200 | D8: 4 | E8: 200 | M8: 4 | N8: 200 | S8: 4 | T8: 32 | V8: 4 | W8: 28 | Y8: 53 | Z8: 159 | AB8: 53 | AC8: 106
A9: 5 | B9: 250 | D9: 5 | E9: 250 | M9: 5 | N9: 250 | S9: 5 | T9: 40 | V9: 5 | W9: 35 | Y9: 54 | Z9: 162 | AB9: 54 | AC9: 108
A10: 6 | B10: 300 | D10: 6 | E10: 300 | M10: 6 | N10: 300 | S10: 6 | T10: 48 | V10: 6 | W10: 42 | Y10: 55 | Z10: 165 | AB10: 55 | AC10: 110
D11: 7 | E11: 350 | M11: 7 | N11: 350 | S11: 7 | T11: 56 | V11: 7 | W11: 49 | Y11: 56 | Z11: 168 | AB11: 56 | AC11: 112
D12: 8 | E12: 400 | M12: 8 | N12: 400 | S12: 8 | T12: 64 | V12: 8 | W12: 56 | Y12: 57 | Z12: 171 | AB12: 57 | AC12: 114
D13: 9 | E13: 450 | M13: 9 | N13: 450 | S13: 9 | T13: 72 | V13: 9 | W13: 63 | Y13: 58 | Z13: 174 | AB13: 58 | AC13: 116
D14: 10 | E14: 500 | M14: 10 | N14: 500 | S14: 10 | T14: 80 | V14: 10 | W14: 70 | Y14: 59 | Z14: 177 | AB14: 59 | AC14: 118
D15: 11 | E15: 550 | S15: 11 | T15: 88 | V15: 11 | W15: 77 | Y15: 60 | Z15: 180 | AB15: 60 | AC15: 120
D16: 12 | E16: 600 | S16: 12 | T16: 96 | V16: 12 | W16: 84 | Y16: 61 | Z16: 183 | AB16: 61 | AC16: 122
D17: 13 | E17: 650 | S17: 13 | T17: 104 | V17: 13 | W17: 91 | Y17: 62 | Z17: 186 | AB17: 62 | AC17: 124
D18: 14 | E18: 700 | S18: 14 | T18: 112 | V18: 14 | W18: 98 | Y18: 63 | Z18: 189 | AB18: 63 | AC18: 126
D19: 15 | E19: 750 | S19: 15 | T19: 120 | V19: 15 | W19: 105 | Y19: 64 | Z19: 192 | AB19: 64 | AC19: 128
S20: 16 | T20: 128 | V20: 16 | W20: 112 | Y20: 65 | Z20: 195 | AB20: 65 | AC20: 130
S21: 17 | T21: 136 | V21: 17 | W21: 119 | Y21: 66 | Z21: 198 | AB21: 66 | AC21: 132
S22: 18 | T22: 144 | V22: 18 | W22: 126 | Y22: 67 | Z22: 201 | AB22: 67 | AC22: 134
S23: 19 | T23: 152 | V23: 19 | W23: 133 | Y23: 68 | Z23: 204 | AB23: 68 | AC23: 136
S24: 20 | T24: 160 | V24: 20 | W24: 140 | Y24: 69 | Z24: 207 | AB24: 69 | AC24: 138
S25: 21 | T25: 168 | V25: 21 | W25: 147 | Y25: 70 | Z25: 210 | AB25: 70 | AC25: 140
S26: 22 | T26: 176 | V26: 22 | W26: 154 | Y26: 71 | Z26: 213 | AB26: 71 | AC26: 142
S27: 23 | T27: 184 | V27: 23 | W27: 161 | Y27: 72 | Z27: 216 | AB27: 72 | AC27: 144
S28: 24 | T28: 192 | V28: 24 | W28: 168 | Y28: 73 | Z28: 219 | AB28: 73 | AC28: 146
S29: 25 | T29: 200 | V29: 25 | W29: 175 | Y29: 74 | Z29: 222 | AB29: 74 | AC29: 148
S30: 26 | T30: 208 | V30: 26 | W30: 182 | Y30: 75 | Z30: 225 | AB30: 75 | AC30: 150
S31: 27 | T31: 216 | V31: 27 | W31: 189 | Y31: 76 | Z31: 228 | AB31: 76 | AC31: 152
... S55: 51 | T55: 408 | V55: 51 | W55: 357 | Y55: 100 | Z55: 300 | AB55: 100 | AC55: 200
S56: 52 | T56: 416 | V56: 52 | W56: 364
S57: 53 | T57: 424 | V57: 53 | W57: 371
S58: 54 | T58: 432 | V58: 54 | W58: 378
S59: 55 | T59: 440 | V59: 55 | W59: 385
S60: 56 | T60: 448 | V60: 56 | W60: 392
S61: 57 | T61: 456 | V61: 57 | W61: 399
S62: 58 | T62: 464 | V62: 58 | W62: 406
S63: 59 | T63: 472 | V63: 59 | W63: 413
S64: 60 | T64: 480 | V64: 60 | W64: 420
...
